Workbook

Sheet Introduction
A1: Storm Debris Calculator | B1: What is this tool?
B2: Developed by the Army Corp of Engineers, the Storm Debris Calculator is a simple tool to help estimate the amount of debris that may be generated and need to be cleared after a specific type of storm event. Debris management can quickly overwhelm a community dealing with a recent natural disaster, and this calculator can help planners estimate the amount of debris generated and the size of a debris management site to process and dispose of that debris. This tool can create an estimate for debris amounts based on different storm categories and landscape characteristics. Estimated quantities have an accuracy of +/- 30%. These estimates can then be used further to calculate the necessary size of the Debris Management Site (DMS).
B4: The equation to determine debris quantity is a straightfoward multiplication formula, but this provides a one-stop calculator from which to base your own community's characteristics after a storm event takes place. The tool allows you to run mutliple different scenarios based on the severity of the storm or other changing characteristics of the landscape such as vegetation cover and the built environment. The formula used by the Army Corp. is listed below along with the definitions of the variables that are used to compute and estimate storm debris.
B6: Quantity of debris (Q) (cubic yards) = Number of Households (H) x Storm Category (C) x Vegetation cover (V) x Commercial/Business Use (B) x Storm Precipitation (S)
A9: Multipliers: | B9: Explanation:
A11: # of Households (H) | B11: Based on recent U.S. Census data estimates (P) H = P/3
A13: Storm Category (C) | B13: Category 1 (2 yd3), Category 2 (8 yd3), Category 3 (26 yd3), Category 4 (50 yd3) or Category 5 (80 yd3),
A15: Vegetative Cover (V) | B15: Light (1.1)- this includes new home developments where more ground is visible than trees. These areas will have sparse canopy cover. Medium (1.3)-generally has a uniform pattern of open space and tree canopy cover. This is the most common description for vegetative cover. Heavy (1.5)- Found in mature neighborhoods and woodlots where the ground or houses cannot be seen from above due to the tree canopy cover.
A17: Commercial/Business Use (B) | B17: Light (1.0) - minimum businesses, commercial industry, apartments and institutions. Medium (1.2) - some businesses, shopping centers, commerical industry, apartments and institutions. Heavy (1.3) - significant commercial shopping centers, industrial parks, apartments and institutions.
A19: Storm Precipitation Characteristic (S) | B19: None to light (1.0)- wind driven storms or light precipitation Medium to Heavy (1.3)- use for worst case scenario planning, these storms can cause ground saturation which inceases the likelihood of falling trees.
A21: Debris Management Site Size Requirements and Considerations | B21: In addition to space for storing and processing the volume of material, space is also required for for things like:
B22: Roads into and out of the debris management site.
B23: Buffers from other adjacent land uses.
B24: Processing mechanisms such as burn pits, HAZMAT, disposal areas and mulching machinery.
B25: Infrastructure such as fencing to divide spaces, areas for workers to monitor things or take breaks and utilities.
B26: Using a maximum stacked height of 10 feet, a single acre can hold roughly 16,117 cubic yards of debris. This value will be used in the site size calculator.

Sheet Calculator_City
A1: Storm Debris Calculator | B1: The Equation: Q= H*C*V*B*S.
B3: PLACE_NAME* | C3: Population estimate | D3: Households (/3) | E3: SqMiles (Check)
A4: # of Households (H) | B4: Virginia, Lynchburg | C4: =VLOOKUP(B4,'LookupTable_Inccorp '!C1:E19727,2) -> 79009 | D4: =ROUND(C4/3, 0) -> 26336 | E4: =VLOOKUP(B4,'LookupTable_Inccorp '!C1:E19727,3) -> 128.27131
B6: Selection Criteria | C6: Multiplier
A7: Storm Category (C) | B7: Category 3 | C7: =IF(B7<>"",VLOOKUP(B7,Variables!A2:B6, 2,FALSE),0) -> 26 | D7: See Variables Sheet to change multiplier by storm category.
E8: Debris Management Site Size:
B9: Selection Criteria | C9: Multiplier
A10: Vegetative Cover (V) | B10: Medium | C10: =IF(B10<>"",VLOOKUP(B10,Variables!A10:B12, 2,FALSE),0) -> 1.3 | D10: See Variables Sheet to change multiplier by vegetative cover.
E11: =(C18/16117) -> 86.160241 | F11: Acres for debris staging with a maximum debris stacking height of 10 feet.
B12: Selection Criteria | C12: Multiplier
A13: Business Use (B) | B13: Medium | C13: =IF(B13<>"",VLOOKUP(B13,Variables!A16:B18, 2,FALSE),0) -> 1.2 | D13: See Variables Sheet to change multiplier by business use.
B15: Selection Criteria | C15: Multiplier | E15: =(E11*1.66) -> 143.026 | F15: Total acres for debris and infrastructure
A16: Storm Precipitation characteristic (S) | B16: Medium to Heavy | C16: =IF(B16<>"",VLOOKUP(B16,Variables!A22:B23, 2,FALSE),0) -> 1.3 | D16: See Variables Sheet to change multiplier by preciptation.
A18: Quantity of Debris (Q) | C18: =(D4*C7*C10*C13*C16) -> 1388644.6 | D18: cubic yards
E19: =(E15*0.3) -> 42.9078 | F19: Total acres for clean woody debris only *typical for hurricane events
A20: Please refer to the introduction tab to find the values that pertain to each variable condition
E21: =((C18*0.3)/200)/12 -> 173.58058 | F21: Number of days to process the clean woody debris through chipping or burning. *Assumes 30% of the debris is vegetative debris. ** Assumes 12 hours of chipping or burning a day at a rate of 200 cubic yards per hour.

Sheet Calculator_County
A1: Storm Debris Calculator | B1: The Equation: Q= H*C*V*B*S.
B3: PLACE_NAME* | C3: Population estimate | D3: Households (/3) | E3: SqMiles (Check)
A4: # of Households (H) | B4: Virginia, Campbell | C4: =VLOOKUP(B4,LookupTable_County!C:E,2) -> 55696 | D4: =ROUND(C4/3, 0) -> 18565 | E4: =VLOOKUP(B4,LookupTable_County!C:E,3) -> 1312.1955
B6: Selection Criteria | C6: Multiplier
A7: Storm Category (C) | B7: Category 1 | C7: =IF(B7<>"",VLOOKUP(B7,Variables!A2:B6, 2,FALSE),0) -> 2 | D7: See Variables Sheet to change multiplier by storm category.
E8: Debris Management Site Size:
B9: Selection Criteria | C9: Multiplier
A10: Vegetative Cover (V) | B10: Heavy | C10: =IF(B10<>"",VLOOKUP(B10,Variables!A10:B12, 2,FALSE),0) -> 1.5 | D10: See Variables Sheet to change multiplier by vegetative cover.
E11: =(C18/16117) -> 3.4556679 | F11: Acres for debris staging with a maximum debris stacking height of 10 feet.
B12: Selection Criteria | C12: Multiplier
A13: Business Use (B) | B13: Light | C13: =IF(B13<>"",VLOOKUP(B13,Variables!A16:B18, 2,FALSE),0) -> 1 | D13: See Variables Sheet to change multiplier by business use.
B15: Selection Criteria | C15: Multiplier | E15: =(E11*1.66) -> 5.7364088 | F15: Total acres for debris and infrastructure
A16: Storm Precipitation characteristic (S) | B16: None to Light | C16: =IF(B16<>"",VLOOKUP(B16,Variables!A22:B23, 2,FALSE),0) -> 1 | D16: See Variables Sheet to change multiplier by preciptation.
A18: Quantity of Debris (Q) | C18: =(D4*C7*C10*C13*C16) -> 55695 | D18: cubic yards
E19: =(E15*0.3) -> 1.7209226 | F19: Total acres for clean woody debris only *typical for hurricane events
A22: Please refer to the introduction tab to find the values that pertain to each variable condition | E22: =((C18*0.3)/200)/12 -> 6.961875 | F22: Number of days to process the clean woody debris through chipping or burning. *Assumes 30% of the debris is vegetative debris. ** Assumes 12 hours of chipping or burning a day at a rate of 200 cubic yards per hour.

Sheet Variables
A1: Storm Category | B1: Cubic yards
A2: Category 1 | B2: 2
A3: Category 2 | B3: 8
A4: Category 3 | B4: 26
A5: Category 4 | B5: 50
A6: Category 5 | B6: 80
A9: Vegetative Cover | B9: Multiplier
A10: Light | B10: 1.1
A11: Medium | B11: 1.3
A12: Heavy | B12: 1.5
A15: Business Use | B15: Multiplier
A16: Light | B16: 1
A17: Medium | B17: 1.2
A18: Heavy | B18: 1.3
A21: Storm Precipitation Characteristic | B21: Multiplier
A22: None to Light | B22: 1
A23: Medium to Heavy | B23: 1.3

Sheet LookupTable_Inccorp 
A1: 1 | B1: STATE_NAME | C1: PLACE_NAME | D1: POPULATION | E1: AREASQKM
A2: 3 | B2: Alabama | C2: Alabama, Abbeville | D2: 2358 | E2: 40.363007
A3: 56 | B3: Alabama | C3: Alabama, Adamsville | D3: 4366 | E3: 68.437679
A4: 62 | B4: Alabama | C4: Alabama, Addison | D4: 659 | E4: 9.836714
A5: 126 | B5: Alabama | C5: Alabama, Akron | D5: 225 | E5: 1.790014
A6: 135 | B6: Alabama | C6: Alabama, Alabaster | D6: 33284 | E6: 68.686382
A7: 179 | B7: Alabama | C7: Alabama, Albertville | D7: 22386 | E7: 70.029459
A8: 221 | B8: Alabama | C8: Alabama, Alexander City | D8: 14843 | E8: 113.93821
A9: 250 | B9: Alabama | C9: Alabama, Aliceville | D9: 2177 | E9: 11.835213
A10: 281 | B10: Alabama | C10: Alabama, Allgood | D10: 548 | E10: 2.691738
A11: 353 | B11: Alabama | C11: Alabama, Altoona | D11: 948 | E11: 11.628843
A12: 441 | B12: Alabama | C12: Alabama, Andalusia | D12: 8805 | E12: 51.724146
A13: 443 | B13: Alabama | C13: Alabama, Anderson | D13: 254 | E13: 3.348735
... A3432: 2514 | B3432: Illinois | C3432: Illinois, Cabery | D3432: 231 | E3432: 0.889769
A3433: 2528 | B3433: Illinois | C3433: Illinois, Cahokia Heights | D3433: <Null> | E3433: 42.38448
A3434: 2531 | B3434: Illinois | C3434: Illinois, Cairo | D3434: 1733 | E3434: 23.587201
A3435: 2548 | B3435: Illinois | C3435: Illinois, Caledonia | D3435: 183 | E3435: 2.680155
A3436: 2561 | B3436: Illinois | C3436: Illinois, Calhoun | D3436: 164 | E3436: 2.362581
A3437: 2594 | B3437: Illinois | C3437: Illinois, Calumet City | D3437: 36033 | E3437: 18.967278
A3438: 2595 | B3438: Illinois | C3438: Illinois, Calumet Park | D3438: 7025 | E3438: 2.985951
A3439: 2605 | B3439: Illinois | C3439: Illinois, Camargo | D3439: 452 | E3439: 3.295626
A3440: 2610 | B3440: Illinois | C3440: Illinois, Cambria | D3440: 1505 | E3440: 3.77897
A3441: 2613 | B3441: Illinois | C3441: Illinois, Cambridge | D3441: 2086 | E3441: 5.194552
A3442: 2630 | B3442: Illinois | C3442: Illinois, Camden | D3442: 62 | E3442: 1.972157
A3443: 2656 | B3443: Illinois | C3443: Illinois, Camp Point | D3443: 1121 | E3443: 3.278296
A3444: 2665 | B3444: Illinois | C3444: Illinois, Campbell Hill | D3444: 309 | E3444: 1.2005
A3445: 2676 | B3445: Illinois | C3445: Illinois, Campton Hills | D3445: 10885 | E3445: 43.952638
... A3747: 7309 | B3747: Illinois | C3747: Illinois, Griggsville | D3747: 1097 | E3747: 2.863542
A3748: 7365 | B3748: Illinois | C3748: Illinois, Gulfport | D3748: <Null> | E3748: 5.944185
A3749: 7381 | B3749: Illinois | C3749: Illinois, Gurnee | D3749: 30706 | E3749: 35.189591
A3750: 7422 | B3750: Illinois | C3750: Illinois, Hainesville | D3750: 3546 | E3750: 4.871527
A3751: 7462 | B3751: Illinois | C3751: Illinois, Hamburg | D3751: 99 | E3751: 1.698906
A3752: 7469 | B3752: Illinois | C3752: Illinois, Hamel | D3752: 929 | E3752: 3.103468
A3753: 7474 | B3753: Illinois | C3753: Illinois, Hamilton | D3753: 2753 | E3753: 13.869585
A3754: 7495 | B3754: Illinois | C3754: Illinois, Hammond | D3754: 508 | E3754: 1.961404
A3755: 7505 | B3755: Illinois | C3755: Illinois, Hampshire | D3755: 7667 | E3755: 24.920608
A3756: 7510 | B3756: Illinois | C3756: Illinois, Hampton | D3756: 1779 | E3756: 3.854782
A3757: 7518 | B3757: Illinois | C3757: Illinois, Hanaford | D3757: 320 | E3757: 2.626612
A3758: 7537 | B3758: Illinois | C3758: Illinois, Hanna City | D3758: 1253 | E3758: 3.524466
A3759: 7542 | B3759: Illinois | C3759: Illinois, Hanover | D3759: 863 | E3759: 2.906571
...

Sheet LookupTable_County
A1: STATE_NAME | B1: COUNTY_NAME | C1: PlacName | D1: POPULATION | E1: AREASQKM
A2: Alabama | B2: Autauga | C2: Alabama, Autauga | D2: 58805 | E2: 1565.3091
A3: Alabama | B3: Baldwin | C3: Alabama, Baldwin | D3: 231767 | E3: 5250.6123
A4: Alabama | B4: Barbour | C4: Alabama, Barbour | D4: 25223 | E4: 2342.6836
A5: Alabama | B5: Bibb | C5: Alabama, Bibb | D5: 22293 | E5: 1621.7611
A6: Alabama | B6: Blount | C6: Alabama, Blount | D6: 59134 | E6: 1685.1195
A7: Alabama | B7: Bullock | C7: Alabama, Bullock | D7: 10357 | E7: 1619.1143
A8: Alabama | B8: Butler | C8: Alabama, Butler | D8: 19051 | E8: 2014.7039
A9: Alabama | B9: Calhoun | C9: Alabama, Calhoun | D9: 116441 | E9: 1585.7825
A10: Alabama | B10: Chambers | C10: Alabama, Chambers | D10: 34772 | E10: 1562.0574
A11: Alabama | B11: Cherokee | C11: Alabama, Cherokee | D11: 24971 | E11: 1553.9318
A12: Alabama | B12: Chilton | C12: Alabama, Chilton | D12: 45014 | E12: 1815.031
A13: Alabama | B13: Choctaw | C13: Alabama, Choctaw | D13: 12665 | E13: 2385.0147
... A315: Colorado | B315: Yuma | C315: Colorado, Yuma | D315: 9988 | E315: 6134.8985
A316: Connecticut | B316: Capitol | C316: Connecticut, Capitol | D316: <Null> | E316: 2709.6087
A317: Connecticut | B317: Greater Bridgeport | C317: Connecticut, Greater Bridgeport | D317: <Null> | E317: 616.8321
A318: Connecticut | B318: Lower Connecticut River Valley | C318: Connecticut, Lower Connecticut River Valley | D318: <Null> | E318: 1339.5437
A319: Connecticut | B319: Naugatuck Valley | C319: Connecticut, Naugatuck Valley | D319: <Null> | E319: 1091.8542
A320: Connecticut | B320: Northeastern Connecticut | C320: Connecticut, Northeastern Connecticut | D320: <Null> | E320: 1458.5691
A321: Connecticut | B321: Northwest Hills | C321: Connecticut, Northwest Hills | D321: <Null> | E321: 2092.9907
A322: Connecticut | B322: South Central Connecticut | C322: Connecticut, South Central Connecticut | D322: <Null> | E322: 1604.7033
A323: Connecticut | B323: Southeastern Connecticut | C323: Connecticut, Southeastern Connecticut | D323: <Null> | E323: 1765.6258
A324: Connecticut | B324: Western Connecticut | C324: Connecticut, Western Connecticut | D324: <Null> | E324: 1678.3881
A325: Delaware | B325: Kent | C325: Delaware, Kent | D325: 181851 | E325: 2067.6685
A326: Delaware | B326: New Castle | C326: Delaware, New Castle | D326: 570719 | E326: 1279.5238
A327: Delaware | B327: Sussex | C327: Delaware, Sussex | D327: 237378 | E327: 3098.7197
A328: District of Columbia | B328: District of Columbia | C328: District of Columbia, District of Columbia | D328: 689545 | E328: 177.02595
A329: Florida | B329: Alachua | C329: Florida, Alachua | D329: 278468 | E329: 2509.203
A330: Florida | B330: Baker | C330: Florida, Baker | D330: 28259 | E330: 1525.4252
A331: Florida | B331: Bay | C331: Florida, Bay | D331: 175216 | E331: 3798.793
A332: Florida | B332: Bradford | C332: Florida, Bradford | D332: 28303 | E332: 778.2674
A333: Florida | B333: Brevard | C333: Florida, Brevard | D333: 606612 | E333: 4032.7113
A334: Florida | B334: Broward | C334: Florida, Broward | D334: 1944375 | E334: 3388.815
A335: Florida | B335: Calhoun | C335: Florida, Calhoun | D335: 13648 | E335: 1487.4651
A336: Florida | B336: Charlotte | C336: Florida, Charlotte | D336: 186847 | E336: 2453.3245
... A3238: Wyoming | B3238: Weston | C3238: Wyoming, Weston | D3238: 6838 | E3238: 6216.03
