Workbook
Name bare: TheModel!$G$65:$I$65
Name Ci: TheModel!$I$46:$K$46
Name CN_FOS: TheModel!$G$34:$M$34
Name CN_PER: TheModel!$G$30:$M$30
Name CN_TCP: TheModel!$G$28:$M$28
Name CNadj: Events!$C$12
Name CommunityName: #REF!
Name CompositeCN: LC_HSG_Data!$CG$6:$CQ$69
Name Design_Event: Events!$B$2:$B$9
Name impervious: TheModel!$G$64:$I$64
Name LANDCOVER: Landcover!$A$4:$M$68
Name LANDCOVERPOT: LandcoverPotential!$A$4:$M$68
Name loads: TheModel!$G$60:$I$69
Name LossCF: '1'!$Y$23
Name LossCF: '2'!$Y$23
Name LossCF: '3'!$Y$23
Name LossCF: #REF!
Name Mgal: TheModel!$E$73
Name ModelCi: Events!$C$13
Name nloads: TheModel!$G$60:$G$69
Name pervious: TheModel!$G$62:$I$62
Name ploads: TheModel!$H$60:$H$69
Name sedloads: TheModel!$I$60:$I$69
Name TCN: TheModel!$I$47:$K$47
Name wetland: TheModel!$G$68:$I$68

Sheet Instructions
B1: What this model does (and does not) do
A2: * | B2: You can use this template to estimate the quantity of stormwater captured by tree canopies for areas of mixed landcover. You can obtain estimates for multiple regions with different landcover mixes. Rough estimates of N, P and sediment load reductions provided by tree canopy are also provided.
A4: * | B4: You can use this template to simulate different scenarios of tree canopy loss or addition, and see the resulting changes in stormwater capture and nutrient load reductions. This feature if design to help communities set realistic tree canopy goals and estimate the benefits of obtaining those goals.
A6: * | B6: Required inputs for the model are acres of landcover by hydrologic soils groups (A,B,C & D). These can be generated in a GIS using landcover and soil map layers. Alternatively, if you have the required data in tabular form, or from development plans, you can populate the required data sheets manually.
A8: * | B8: The summary tab can be used to create various scenarios and see the summary results immediately.
A9: * | B9: This model is not accurate enough for stormwater engineering projects and should not be used for engineering or permitting purposes.
A10: * | B10: While design stormwater events are used in simulation, actual runoff yields will vary with antecedent conditions and the health and leaf-on/off condition of the tree canopy
A11: How to use this model
B12: Steps for a new analysis | C12: Sheet | D12: Cell
A13: 1 | B13: Enter community name | C13: Summary | D13: A1
A14: 2 | B14: Load landcover data | C14: Landcover | D14: B5:K68
A15: 3 | B15: Load landcover potential data | C15: LoandcoverPotential | D15: B5:K68
A16: 4 | B16: Load landcover/soils data | C16: LC_HSG_Data | D16: B6:CE69
A17: 5 | B17: Enter storm event data | C17: Events | D17: B3:D9
A18: 6 | B18: Set canopy interception parameter | C18: Events | D18: C12
A19: 7 | B19: Set curve number adjustment parameter | C19: Events | D19: C13
A20: 9 | B20: Copy basin spreadsheets | C20: 1
B22: NOTES
B23: This model allows the user to modify some assumptions, drainage basin by drainage basin, and see the impact upon stormwater runoff yield and precent tree canopy.
B26: To run different scenarios the user can change, for one or more drainage basins, the following parameters. Within each drainage basin tab (Tabs 1-12) the user can modify the cells corresponding to each parameter.
C28: Parameter | D28: Cell | E28: Description
C29: Storm event | D29: C3 | E29: Precipitation from a given storm event
C30: Ci | D30: F14 | E30: canopy interception term
C31: CN adjust | D31: L64 | E31: CN adjustment for tree impact on soil
C32: % loss | D32: I16 | E32: Canopy loss %
C33: % impervious | D33: I15 | E33: % impervious of landcover after loss of canopy
C34: Tree canopy goal | D34: Q16 | E34: % tree canopy set as a goal (constrained by max potential canopy estimates)
C36: Abbreviations | E36: Description
C37: PCA | E37: Potential Canopy Area - areas where additional tree canopy is possible
C38: N | E38: Nitrogen - a common nutrient found in stormwater runoff that contributes to poor water quality
C39: P | E39: Phosphourus - a common nutrient found in stormwater runoff that contributes to poor water quality
C40: SED | E40: Sediment - soil particles that erode from the landscape and get carried away by stormwater into local waterways and cause poor water quality
C41: CN | E41: Curve Number - a number stormwater engineers use to calculate surface runoff based on land cover and underlying soils
C42: WS | E42: Watershed - an area of land where all of the water drains to a single location
C43: TC | E43: Tree Canopy - tree cover in a given area (includes urban tree canopy and forested open space)
C44: UTC | E44: Urban Tree Canopy - composed of individual trees and small patches of trees surrounded by lawn or pavement
C45: FOS | E45: Forested Open Space - large patches of trees with multiple layers of understory vegetation, litter layer and more organic soils
B47: The results will be updated automatically on the summary tab.
B49: Cell format legend
B50: Data Input
...

Sheet Summary
A1: =Events!D3 -> 0 | D1: Urban Tree Canopy Stormwater Model | I1: version | J1: 45786
C2: The Green Infrastructure Urban Tree Canopy Stormwater Model estimates stormwater runoff yields for current and potential land cover. The methodology is based upon the NRCS TR-55 method for small urban watersheds. It is used to provide better estimates using GIC's high-resolution land cover and modeling of potential canopy area.
AG6: TC+Tcimperv
AG7: =SUM(AF9+AG9) -> 0
E8: million gallons | AD8: Acres
B9: TOTALS | C9: =SUMPRODUCT(C13:C76,Landcover!$N$5:$N$68)/Landcover!$N$3 -> #DIV/0! | D9: =Landcover!G3/Landcover!N3 -> #DIV/0! | E9: =SUM(E13:E76) -> 0 | F9: =SUM(F13:F76) -> 0 | G9: =SUM(G13:G76) -> 0 | H9: =SUMPRODUCT(H13:H76,Landcover!$N$5:$N$68)/Landcover!$N$3 -> #DIV/0! | Q9: =SUM(Q13:Q76) -> 0 | R9: =SUMPRODUCT(R13:R76,AD13:AD76)/SUM(AD13:AD76) -> #DIV/0! | S9: =SUM(S13:S76) -> 0 | T9: =SUMPRODUCT(T13:T76,AD13:AD76)/SUM(AD13:AD76) -> #DIV/0! | U9: =SUM(U13:U76) -> 0 | V9: =SUMPRODUCT(V13:V76,AD13:AD76)/SUM(AD13:AD76) -> #DIV/0! | W9: =SUM(W13:W76) -> 0 | X9: =SUMPRODUCT(X13:X76,AD13:AD76)/SUM(AD13:AD76) -> #DIV/0! | Y9: =SUM(Y13:Y76) -> 0 | Z9: =SUMPRODUCT(Z13:Z76,AD13:AD76)/SUM(AD13:AD76) -> #DIV/0! | AA9: =SUM(AA13:AA76) -> 0 | AB9: =SUMPRODUCT(AB13:AB76,AD13:AD76)/SUM(AD13:AD76) -> #DIV/0! | AD9: =SUM(AD13:AD76) -> 0 | AE9: =SUM(AE13:AE76) -> 0 | AF9: =SUM(AF13:AF76) -> 0 | AG9: =SUM(AG13:AG76) -> 0 | AH9: =SUM(AH13:AH76) -> 0 | AI9: =SUM(AI13:AI76) -> 0 | AJ9: =SUM(AJ13:AJ76) -> 0 | AK9: =SUM(AK13:AK76) -> 0
B10: Statistics by Drainage Basin (current settings) | I10: Variable | P10: Variable | Q10: Statistics by Drainage Basin (current settings) | AD10: Supporting Calculations
B11: Area | C11: Current Tree Cover | D11: Current Impervious Cover | E11: Tree H20 Capture | F11: Increased H2O w/xx% tree loss | G11: Added H2O Capture w/xx% PCA | H11: Adjusted Tree Cover from loss and gain scenarios | I11: Pick an Event | J11: Pick a loss scenario | L11: Converted Land | O11: Canopy Added | P11: Enter % canopy to add | Q11: Non-Point Pollution Captured by Existing Trees (% = percent of total load without trees) | W11: Change in Pollution Load from Landuse Variables (% = percent increase or decrease of total load)
C12: % | E12: million gallons | H12: % | I12: Event | J12: % UTC loss | K12: % FOS Loss | L12: % Imperv | M12: Max TC Possible | N12: Maximum Potential Added Canopy Area | O12: % Canopy Added | P12: % of PCA achieved | Q12: N lbs/yr | R12: N (%) | S12: P lbs/yr | T12: P (%) | U12: SED t/yr | V12: SED (%) | W12: N lbs/yr | X12: N (%) | Y12: P lbs/yr | Z12: P (%) | AA12: SED t/yr | AB12: SED (%) | AD12: Total Area WS | AE12: Area WS (minus wetland, water) | AF12: Current Tree Cover | AG12: Current Impervious Cover | AH12: Current Pervious Cover | AI12: Potential Additional Canopy Area | AJ12: UTC Loss | AK12: FOS Loss
A13: 1 | B13: =IF(ISNONTEXT(Landcover!B5),"",Landcover!B5) | C13: =IFERROR(INDIRECT($A13&"!h19"),"") | D13: =IFERROR(INDIRECT($A13&"!h20"),"") -> 0 | E13: =IFERROR(INDIRECT($A13&"!h22"),"") -> 0 | F13: =IFERROR(INDIRECT($A13&"!e31"),"") -> 0 | G13: =IFERROR(INDIRECT($A13&"!n22"),"") | H13: =IFERROR(((C13-(C13*((J13+K13)/2)))+O13),"") | I13: 1 yr / 24 hour | J13: 0 | K13: 0 | L13: 0 | M13: =IFERROR(INDIRECT($A13&"!n19"),"") | N13: =IFERROR(M13-C13,"") | O13: =IFERROR((M13-C13)*P13,"") | P13: 0 | Q13: =IFERROR(ROUND(INDIRECT($A13&"!AJ17"),0), "") -> 0 | R13: =IFERROR(ROUND(INDIRECT($A13&"!AJ18"),0),"") | S13: =IFERROR(ROUND(INDIRECT($A13&"!AK17"),0),"") -> 0 | T13: =IFERROR(ROUND(INDIRECT($A13&"!AK18"),0),"") | U13: =IFERROR(ROUND(INDIRECT($A13&"!AL17"),0),"") -> 0 | V13: =IFERROR(ROUND(INDIRECT($A13&"!AL18"),0),"") | W13: =IFERROR(ROUND(INDIRECT($A13&"!AJ25"),0),"") -> 0 | X13: =IFERROR(ROUND(INDIRECT($A13&"!AJ26"),0),"") | Y13: =IFERROR(ROUND(INDIRECT($A13&"!AK25"),0),"") -> 0 | Z13: =IFERROR(ROUND(INDIRECT($A13&"!AK26"),0),"") | AA13: =IFERROR(ROUND(INDIRECT($A13&"!AL25"),0),"") -> 0 | AB13: =IFERROR(ROUND(INDIRECT($A13&"!AL26"),0),"") | AD13: =IFERROR(INDIRECT($A13&"!d16"),"") -> 0 | AE13: =IFERROR(INDIRECT($A13&"!d35"),"") -> 0 | AF13: =IFERROR(INDIRECT($A13&"!d36"),"") -> 0 | AG13: =IFERROR(INDIRECT($A13&"!d38"),"") -> 0 | AH13: =IFERROR(INDIRECT($A13&"!d39"),"") -> 0 | AI13: =IFERROR(INDIRECT($A13&"!d40"),"") -> 0 | AJ13: =IFERROR(INDIRECT($A13&"!d41"),"") -> 0 | AK13: =IFERROR(INDIRECT($A13&"!d42"),"") -> 0
A14: 2 | B14: =IF(ISNONTEXT(Landcover!B6),"",Landcover!B6) | C14: =IFERROR(INDIRECT($A14&"!h19"),"") | D14: =IFERROR(INDIRECT($A14&"!h20"),"") -> 0 | E14: =IFERROR(INDIRECT($A14&"!h22"),"") -> 0 | F14: =IFERROR(INDIRECT($A14&"!e31"),"") -> 0 | G14: =IFERROR(INDIRECT($A14&"!n22"),"") | H14: =IFERROR(((C14-(C14*((J14+K14)/2)))+O14),"") | I14: 1 yr / 24 hour | J14: 0 | K14: 0 | L14: 0 | M14: =IFERROR(INDIRECT($A14&"!n19"),"") | N14: =IFERROR(M14-C14,"") | O14: =IFERROR((M14-C14)*P14,"") | P14: 0 | Q14: =IFERROR(ROUND(INDIRECT($A14&"!AJ17"),0), "") -> 0 | R14: =IFERROR(ROUND(INDIRECT($A14&"!AJ18"),0),"") | S14: =IFERROR(ROUND(INDIRECT($A14&"!AK17"),0),"") -> 0 | T14: =IFERROR(ROUND(INDIRECT($A14&"!AK18"),0),"") | U14: =IFERROR(ROUND(INDIRECT($A14&"!AL17"),0),"") -> 0 | V14: =IFERROR(ROUND(INDIRECT($A14&"!AL18"),0),"") | W14: =IFERROR(ROUND(INDIRECT($A14&"!AJ25"),0),"") -> 0 | X14: =IFERROR(ROUND(INDIRECT($A14&"!AJ26"),0),"") | Y14: =IFERROR(ROUND(INDIRECT($A14&"!AK25"),0),"") -> 0 | Z14: =IFERROR(ROUND(INDIRECT($A14&"!AK26"),0),"") | AA14: =IFERROR(ROUND(INDIRECT($A14&"!AL25"),0),"") -> 0 | AB14: =IFERROR(ROUND(INDIRECT($A14&"!AL26"),0),"") | AD14: =IFERROR(INDIRECT($A14&"!d16"),"") -> 0 | AE14: =IFERROR(INDIRECT($A14&"!d35"),"") -> 0 | AF14: =IFERROR(INDIRECT($A14&"!d36"),"") -> 0 | AG14: =IFERROR(INDIRECT($A14&"!d38"),"") -> 0 | AH14: =IFERROR(INDIRECT($A14&"!d39"),"") -> 0 | AI14: =IFERROR(INDIRECT($A14&"!d40"),"") -> 0 | AJ14: =IFERROR(INDIRECT($A14&"!d41"),"") -> 0 | AK14: =IFERROR(INDIRECT($A14&"!d42"),"") -> 0
A15: 3 | B15: =IF(ISNONTEXT(Landcover!B7),"",Landcover!B7) | C15: =IFERROR(INDIRECT($A15&"!h19"),"") | D15: =IFERROR(INDIRECT($A15&"!h20"),"") -> 0 | E15: =IFERROR(INDIRECT($A15&"!h22"),"") -> 0 | F15: =IFERROR(INDIRECT($A15&"!e31"),"") -> 0 | G15: =IFERROR(INDIRECT($A15&"!n22"),"") | H15: =IFERROR(((C15-(C15*((J15+K15)/2)))+O15),"") | I15: 1 yr / 24 hour | J15: 0 | K15: 0 | L15: 0 | M15: =IFERROR(INDIRECT($A15&"!n19"),"") | N15: =IFERROR(M15-C15,"") | O15: =IFERROR((M15-C15)*P15,"") | P15: 0 | Q15: =IFERROR(ROUND(INDIRECT($A15&"!AJ17"),0), "") -> 0 | R15: =IFERROR(ROUND(INDIRECT($A15&"!AJ18"),0),"") | S15: =IFERROR(ROUND(INDIRECT($A15&"!AK17"),0),"") -> 0 | T15: =IFERROR(ROUND(INDIRECT($A15&"!AK18"),0),"") | U15: =IFERROR(ROUND(INDIRECT($A15&"!AL17"),0),"") -> 0 | V15: =IFERROR(ROUND(INDIRECT($A15&"!AL18"),0),"") | W15: =IFERROR(ROUND(INDIRECT($A15&"!AJ25"),0),"") -> 0 | X15: =IFERROR(ROUND(INDIRECT($A15&"!AJ26"),0),"") | Y15: =IFERROR(ROUND(INDIRECT($A15&"!AK25"),0),"") -> 0 | Z15: =IFERROR(ROUND(INDIRECT($A15&"!AK26"),0),"") | AA15: =IFERROR(ROUND(INDIRECT($A15&"!AL25"),0),"") -> 0 | AB15: =IFERROR(ROUND(INDIRECT($A15&"!AL26"),0),"") | AD15: =IFERROR(INDIRECT($A15&"!d16"),"") -> 0 | AE15: =IFERROR(INDIRECT($A15&"!d35"),"") -> 0 | AF15: =IFERROR(INDIRECT($A15&"!d36"),"") -> 0 | AG15: =IFERROR(INDIRECT($A15&"!d38"),"") -> 0 | AH15: =IFERROR(INDIRECT($A15&"!d39"),"") -> 0 | AI15: =IFERROR(INDIRECT($A15&"!d40"),"") -> 0 | AJ15: =IFERROR(INDIRECT($A15&"!d41"),"") -> 0 | AK15: =IFERROR(INDIRECT($A15&"!d42"),"") -> 0
A16: 4 | B16: =IF(ISNONTEXT(Landcover!B8),"",Landcover!B8) | C16: =IFERROR(INDIRECT($A16&"!h19"),"") | D16: =IFERROR(INDIRECT($A16&"!h20"),"") | E16: =IFERROR(INDIRECT($A16&"!h22"),"") | F16: =IFERROR(INDIRECT($A16&"!e31"),"") | G16: =IFERROR(INDIRECT($A16&"!n22"),"") | H16: =IFERROR(((C16-(C16*((J16+K16)/2)))+O16),"") | I16: 1 yr / 24 hour | J16: 0 | K16: 0 | L16: 0 | M16: =IFERROR(INDIRECT($A16&"!n19"),"") | N16: =IFERROR(M16-C16,"") | O16: =IFERROR((M16-C16)*P16,"") | P16: 0 | Q16: =IFERROR(ROUND(INDIRECT($A16&"!AJ17"),0), "") | R16: =IFERROR(ROUND(INDIRECT($A16&"!AJ18"),0),"") | S16: =IFERROR(ROUND(INDIRECT($A16&"!AK17"),0),"") | T16: =IFERROR(ROUND(INDIRECT($A16&"!AK18"),0),"") | U16: =IFERROR(ROUND(INDIRECT($A16&"!AL17"),0),"") | V16: =IFERROR(ROUND(INDIRECT($A16&"!AL18"),0),"") | W16: =IFERROR(ROUND(INDIRECT($A16&"!AJ25"),0),"") | X16: =IFERROR(ROUND(INDIRECT($A16&"!AJ26"),0),"") | Y16: =IFERROR(ROUND(INDIRECT($A16&"!AK25"),0),"") | Z16: =IFERROR(ROUND(INDIRECT($A16&"!AK26"),0),"") | AA16: =IFERROR(ROUND(INDIRECT($A16&"!AL25"),0),"") | AB16: =IFERROR(ROUND(INDIRECT($A16&"!AL26"),0),"") | AD16: =IFERROR(INDIRECT($A16&"!d16"),"") | AE16: =IFERROR(INDIRECT($A16&"!d35"),"") | AF16: =IFERROR(INDIRECT($A16&"!d36"),"") | AG16: =IFERROR(INDIRECT($A16&"!d38"),"") | AH16: =IFERROR(INDIRECT($A16&"!d39"),"") | AI16: =IFERROR(INDIRECT($A16&"!d40"),"") | AJ16: =IFERROR(INDIRECT($A16&"!d41"),"") | AK16: =IFERROR(INDIRECT($A16&"!d42"),"")
A17: 5 | B17: =IF(ISNONTEXT(Landcover!B9),"",Landcover!B9) | C17: =IFERROR(INDIRECT($A17&"!h19"),"") | D17: =IFERROR(INDIRECT($A17&"!h20"),"") | E17: =IFERROR(INDIRECT($A17&"!h22"),"") | F17: =IFERROR(INDIRECT($A17&"!e31"),"") | G17: =IFERROR(INDIRECT($A17&"!n22"),"") | H17: =IFERROR(((C17-(C17*((J17+K17)/2)))+O17),"") | I17: 1 yr / 24 hour | J17: 0 | K17: 0 | L17: 0 | M17: =IFERROR(INDIRECT($A17&"!n19"),"") | N17: =IFERROR(M17-C17,"") | O17: =IFERROR((M17-C17)*P17,"") | P17: 0 | Q17: =IFERROR(ROUND(INDIRECT($A17&"!AJ17"),0), "") | R17: =IFERROR(ROUND(INDIRECT($A17&"!AJ18"),0),"") | S17: =IFERROR(ROUND(INDIRECT($A17&"!AK17"),0),"") | T17: =IFERROR(ROUND(INDIRECT($A17&"!AK18"),0),"") | U17: =IFERROR(ROUND(INDIRECT($A17&"!AL17"),0),"") | V17: =IFERROR(ROUND(INDIRECT($A17&"!AL18"),0),"") | W17: =IFERROR(ROUND(INDIRECT($A17&"!AJ25"),0),"") | X17: =IFERROR(ROUND(INDIRECT($A17&"!AJ26"),0),"") | Y17: =IFERROR(ROUND(INDIRECT($A17&"!AK25"),0),"") | Z17: =IFERROR(ROUND(INDIRECT($A17&"!AK26"),0),"") | AA17: =IFERROR(ROUND(INDIRECT($A17&"!AL25"),0),"") | AB17: =IFERROR(ROUND(INDIRECT($A17&"!AL26"),0),"") | AD17: =IFERROR(INDIRECT($A17&"!d16"),"") | AE17: =IFERROR(INDIRECT($A17&"!d35"),"") | AF17: =IFERROR(INDIRECT($A17&"!d36"),"") | AG17: =IFERROR(INDIRECT($A17&"!d38"),"") | AH17: =IFERROR(INDIRECT($A17&"!d39"),"") | AI17: =IFERROR(INDIRECT($A17&"!d40"),"") | AJ17: =IFERROR(INDIRECT($A17&"!d41"),"") | AK17: =IFERROR(INDIRECT($A17&"!d42"),"")
A18: 6 | B18: =IF(ISNONTEXT(Landcover!B10),"",Landcover!B10) | C18: =IFERROR(INDIRECT($A18&"!h19"),"") | D18: =IFERROR(INDIRECT($A18&"!h20"),"") | E18: =IFERROR(INDIRECT($A18&"!h22"),"") | F18: =IFERROR(INDIRECT($A18&"!e31"),"") | G18: =IFERROR(INDIRECT($A18&"!n22"),"") | H18: =IFERROR(((C18-(C18*((J18+K18)/2)))+O18),"") | I18: 1 yr / 24 hour | J18: 0 | K18: 0 | L18: 0 | M18: =IFERROR(INDIRECT($A18&"!n19"),"") | N18: =IFERROR(M18-C18,"") | O18: =IFERROR((M18-C18)*P18,"") | P18: 0 | Q18: =IFERROR(ROUND(INDIRECT($A18&"!AJ17"),0), "") | R18: =IFERROR(ROUND(INDIRECT($A18&"!AJ18"),0),"") | S18: =IFERROR(ROUND(INDIRECT($A18&"!AK17"),0),"") | T18: =IFERROR(ROUND(INDIRECT($A18&"!AK18"),0),"") | U18: =IFERROR(ROUND(INDIRECT($A18&"!AL17"),0),"") | V18: =IFERROR(ROUND(INDIRECT($A18&"!AL18"),0),"") | W18: =IFERROR(ROUND(INDIRECT($A18&"!AJ25"),0),"") | X18: =IFERROR(ROUND(INDIRECT($A18&"!AJ26"),0),"") | Y18: =IFERROR(ROUND(INDIRECT($A18&"!AK25"),0),"") | Z18: =IFERROR(ROUND(INDIRECT($A18&"!AK26"),0),"") | AA18: =IFERROR(ROUND(INDIRECT($A18&"!AL25"),0),"") | AB18: =IFERROR(ROUND(INDIRECT($A18&"!AL26"),0),"") | AD18: =IFERROR(INDIRECT($A18&"!d16"),"") | AE18: =IFERROR(INDIRECT($A18&"!d35"),"") | AF18: =IFERROR(INDIRECT($A18&"!d36"),"") | AG18: =IFERROR(INDIRECT($A18&"!d38"),"") | AH18: =IFERROR(INDIRECT($A18&"!d39"),"") | AI18: =IFERROR(INDIRECT($A18&"!d40"),"") | AJ18: =IFERROR(INDIRECT($A18&"!d41"),"") | AK18: =IFERROR(INDIRECT($A18&"!d42"),"")
A19: 7 | B19: =IF(ISNONTEXT(Landcover!B11),"",Landcover!B11) | C19: =IFERROR(INDIRECT($A19&"!h19"),"") | D19: =IFERROR(INDIRECT($A19&"!h20"),"") | E19: =IFERROR(INDIRECT($A19&"!h22"),"") | F19: =IFERROR(INDIRECT($A19&"!e31"),"") | G19: =IFERROR(INDIRECT($A19&"!n22"),"") | H19: =IFERROR(((C19-(C19*((J19+K19)/2)))+O19),"") | I19: 1 yr / 24 hour | J19: 0 | K19: 0 | L19: 0 | M19: =IFERROR(INDIRECT($A19&"!n19"),"") | N19: =IFERROR(M19-C19,"") | O19: =IFERROR((M19-C19)*P19,"") | P19: 0 | Q19: =IFERROR(ROUND(INDIRECT($A19&"!AJ17"),0), "") | R19: =IFERROR(ROUND(INDIRECT($A19&"!AJ18"),0),"") | S19: =IFERROR(ROUND(INDIRECT($A19&"!AK17"),0),"") | T19: =IFERROR(ROUND(INDIRECT($A19&"!AK18"),0),"") | U19: =IFERROR(ROUND(INDIRECT($A19&"!AL17"),0),"") | V19: =IFERROR(ROUND(INDIRECT($A19&"!AL18"),0),"") | W19: =IFERROR(ROUND(INDIRECT($A19&"!AJ25"),0),"") | X19: =IFERROR(ROUND(INDIRECT($A19&"!AJ26"),0),"") | Y19: =IFERROR(ROUND(INDIRECT($A19&"!AK25"),0),"") | Z19: =IFERROR(ROUND(INDIRECT($A19&"!AK26"),0),"") | AA19: =IFERROR(ROUND(INDIRECT($A19&"!AL25"),0),"") | AB19: =IFERROR(ROUND(INDIRECT($A19&"!AL26"),0),"") | AD19: =IFERROR(INDIRECT($A19&"!d16"),"") | AE19: =IFERROR(INDIRECT($A19&"!d35"),"") | AF19: =IFERROR(INDIRECT($A19&"!d36"),"") | AG19: =IFERROR(INDIRECT($A19&"!d38"),"") | AH19: =IFERROR(INDIRECT($A19&"!d39"),"") | AI19: =IFERROR(INDIRECT($A19&"!d40"),"") | AJ19: =IFERROR(INDIRECT($A19&"!d41"),"") | AK19: =IFERROR(INDIRECT($A19&"!d42"),"")
A20: 8 | B20: =IF(ISNONTEXT(Landcover!B12),"",Landcover!B12) | C20: =IFERROR(INDIRECT($A20&"!h19"),"") | D20: =IFERROR(INDIRECT($A20&"!h20"),"") | E20: =IFERROR(INDIRECT($A20&"!h22"),"") | F20: =IFERROR(INDIRECT($A20&"!e31"),"") | G20: =IFERROR(INDIRECT($A20&"!n22"),"") | H20: =IFERROR(((C20-(C20*((J20+K20)/2)))+O20),"") | I20: 1 yr / 24 hour | J20: 0 | K20: 0 | L20: 0 | M20: =IFERROR(INDIRECT($A20&"!n19"),"") | N20: =IFERROR(M20-C20,"") | O20: =IFERROR((M20-C20)*P20,"") | P20: 0 | Q20: =IFERROR(ROUND(INDIRECT($A20&"!AJ17"),0), "") | R20: =IFERROR(ROUND(INDIRECT($A20&"!AJ18"),0),"") | S20: =IFERROR(ROUND(INDIRECT($A20&"!AK17"),0),"") | T20: =IFERROR(ROUND(INDIRECT($A20&"!AK18"),0),"") | U20: =IFERROR(ROUND(INDIRECT($A20&"!AL17"),0),"") | V20: =IFERROR(ROUND(INDIRECT($A20&"!AL18"),0),"") | W20: =IFERROR(ROUND(INDIRECT($A20&"!AJ25"),0),"") | X20: =IFERROR(ROUND(INDIRECT($A20&"!AJ26"),0),"") | Y20: =IFERROR(ROUND(INDIRECT($A20&"!AK25"),0),"") | Z20: =IFERROR(ROUND(INDIRECT($A20&"!AK26"),0),"") | AA20: =IFERROR(ROUND(INDIRECT($A20&"!AL25"),0),"") | AB20: =IFERROR(ROUND(INDIRECT($A20&"!AL26"),0),"") | AD20: =IFERROR(INDIRECT($A20&"!d16"),"") | AE20: =IFERROR(INDIRECT($A20&"!d35"),"") | AF20: =IFERROR(INDIRECT($A20&"!d36"),"") | AG20: =IFERROR(INDIRECT($A20&"!d38"),"") | AH20: =IFERROR(INDIRECT($A20&"!d39"),"") | AI20: =IFERROR(INDIRECT($A20&"!d40"),"") | AJ20: =IFERROR(INDIRECT($A20&"!d41"),"") | AK20: =IFERROR(INDIRECT($A20&"!d42"),"")
A21: 9 | B21: =IF(ISNONTEXT(Landcover!B13),"",Landcover!B13) | C21: =IFERROR(INDIRECT($A21&"!h19"),"") | D21: =IFERROR(INDIRECT($A21&"!h20"),"") | E21: =IFERROR(INDIRECT($A21&"!h22"),"") | F21: =IFERROR(INDIRECT($A21&"!e31"),"") | G21: =IFERROR(INDIRECT($A21&"!n22"),"") | H21: =IFERROR(((C21-(C21*((J21+K21)/2)))+O21),"") | I21: 1 yr / 24 hour | J21: 0 | K21: 0 | L21: 0 | M21: =IFERROR(INDIRECT($A21&"!n19"),"") | N21: =IFERROR(M21-C21,"") | O21: =IFERROR((M21-C21)*P21,"") | P21: 0 | Q21: =IFERROR(ROUND(INDIRECT($A21&"!AJ17"),0), "") | R21: =IFERROR(ROUND(INDIRECT($A21&"!AJ18"),0),"") | S21: =IFERROR(ROUND(INDIRECT($A21&"!AK17"),0),"") | T21: =IFERROR(ROUND(INDIRECT($A21&"!AK18"),0),"") | U21: =IFERROR(ROUND(INDIRECT($A21&"!AL17"),0),"") | V21: =IFERROR(ROUND(INDIRECT($A21&"!AL18"),0),"") | W21: =IFERROR(ROUND(INDIRECT($A21&"!AJ25"),0),"") | X21: =IFERROR(ROUND(INDIRECT($A21&"!AJ26"),0),"") | Y21: =IFERROR(ROUND(INDIRECT($A21&"!AK25"),0),"") | Z21: =IFERROR(ROUND(INDIRECT($A21&"!AK26"),0),"") | AA21: =IFERROR(ROUND(INDIRECT($A21&"!AL25"),0),"") | AB21: =IFERROR(ROUND(INDIRECT($A21&"!AL26"),0),"") | AD21: =IFERROR(INDIRECT($A21&"!d16"),"") | AE21: =IFERROR(INDIRECT($A21&"!d35"),"") | AF21: =IFERROR(INDIRECT($A21&"!d36"),"") | AG21: =IFERROR(INDIRECT($A21&"!d38"),"") | AH21: =IFERROR(INDIRECT($A21&"!d39"),"") | AI21: =IFERROR(INDIRECT($A21&"!d40"),"") | AJ21: =IFERROR(INDIRECT($A21&"!d41"),"") | AK21: =IFERROR(INDIRECT($A21&"!d42"),"")
A22: 10 | B22: =IF(ISNONTEXT(Landcover!B14),"",Landcover!B14) | C22: =IFERROR(INDIRECT($A22&"!h19"),"") | D22: =IFERROR(INDIRECT($A22&"!h20"),"") | E22: =IFERROR(INDIRECT($A22&"!h22"),"") | F22: =IFERROR(INDIRECT($A22&"!e31"),"") | G22: =IFERROR(INDIRECT($A22&"!n22"),"") | H22: =IFERROR(((C22-(C22*((J22+K22)/2)))+O22),"") | I22: 1 yr / 24 hour | J22: 0 | K22: 0 | L22: 0 | M22: =IFERROR(INDIRECT($A22&"!n19"),"") | N22: =IFERROR(M22-C22,"") | O22: =IFERROR((M22-C22)*P22,"") | P22: 0 | Q22: =IFERROR(ROUND(INDIRECT($A22&"!AJ17"),0), "") | R22: =IFERROR(ROUND(INDIRECT($A22&"!AJ18"),0),"") | S22: =IFERROR(ROUND(INDIRECT($A22&"!AK17"),0),"") | T22: =IFERROR(ROUND(INDIRECT($A22&"!AK18"),0),"") | U22: =IFERROR(ROUND(INDIRECT($A22&"!AL17"),0),"") | V22: =IFERROR(ROUND(INDIRECT($A22&"!AL18"),0),"") | W22: =IFERROR(ROUND(INDIRECT($A22&"!AJ25"),0),"") | X22: =IFERROR(ROUND(INDIRECT($A22&"!AJ26"),0),"") | Y22: =IFERROR(ROUND(INDIRECT($A22&"!AK25"),0),"") | Z22: =IFERROR(ROUND(INDIRECT($A22&"!AK26"),0),"") | AA22: =IFERROR(ROUND(INDIRECT($A22&"!AL25"),0),"") | AB22: =IFERROR(ROUND(INDIRECT($A22&"!AL26"),0),"") | AD22: =IFERROR(INDIRECT($A22&"!d16"),"") | AE22: =IFERROR(INDIRECT($A22&"!d35"),"") | AF22: =IFERROR(INDIRECT($A22&"!d36"),"") | AG22: =IFERROR(INDIRECT($A22&"!d38"),"") | AH22: =IFERROR(INDIRECT($A22&"!d39"),"") | AI22: =IFERROR(INDIRECT($A22&"!d40"),"") | AJ22: =IFERROR(INDIRECT($A22&"!d41"),"") | AK22: =IFERROR(INDIRECT($A22&"!d42"),"")
A23: 11 | B23: =IF(ISNONTEXT(Landcover!B15),"",Landcover!B15) | C23: =IFERROR(INDIRECT($A23&"!h19"),"") | D23: =IFERROR(INDIRECT($A23&"!h20"),"") | E23: =IFERROR(INDIRECT($A23&"!h22"),"") | F23: =IFERROR(INDIRECT($A23&"!e31"),"") | G23: =IFERROR(INDIRECT($A23&"!n22"),"") | H23: =IFERROR(((C23-(C23*((J23+K23)/2)))+O23),"") | I23: 1 yr / 24 hour | J23: 0 | K23: 0 | L23: 0 | M23: =IFERROR(INDIRECT($A23&"!n19"),"") | N23: =IFERROR(M23-C23,"") | O23: =IFERROR((M23-C23)*P23,"") | P23: 0 | Q23: =IFERROR(ROUND(INDIRECT($A23&"!AJ17"),0), "") | R23: =IFERROR(ROUND(INDIRECT($A23&"!AJ18"),0),"") | S23: =IFERROR(ROUND(INDIRECT($A23&"!AK17"),0),"") | T23: =IFERROR(ROUND(INDIRECT($A23&"!AK18"),0),"") | U23: =IFERROR(ROUND(INDIRECT($A23&"!AL17"),0),"") | V23: =IFERROR(ROUND(INDIRECT($A23&"!AL18"),0),"") | W23: =IFERROR(ROUND(INDIRECT($A23&"!AJ25"),0),"") | X23: =IFERROR(ROUND(INDIRECT($A23&"!AJ26"),0),"") | Y23: =IFERROR(ROUND(INDIRECT($A23&"!AK25"),0),"") | Z23: =IFERROR(ROUND(INDIRECT($A23&"!AK26"),0),"") | AA23: =IFERROR(ROUND(INDIRECT($A23&"!AL25"),0),"") | AB23: =IFERROR(ROUND(INDIRECT($A23&"!AL26"),0),"") | AD23: =IFERROR(INDIRECT($A23&"!d16"),"") | AE23: =IFERROR(INDIRECT($A23&"!d35"),"") | AF23: =IFERROR(INDIRECT($A23&"!d36"),"") | AG23: =IFERROR(INDIRECT($A23&"!d38"),"") | AH23: =IFERROR(INDIRECT($A23&"!d39"),"") | AI23: =IFERROR(INDIRECT($A23&"!d40"),"") | AJ23: =IFERROR(INDIRECT($A23&"!d41"),"") | AK23: =IFERROR(INDIRECT($A23&"!d42"),"")
A24: 12 | B24: =IF(ISNONTEXT(Landcover!B16),"",Landcover!B16) | C24: =IFERROR(INDIRECT($A24&"!h19"),"") | D24: =IFERROR(INDIRECT($A24&"!h20"),"") | E24: =IFERROR(INDIRECT($A24&"!h22"),"") | F24: =IFERROR(INDIRECT($A24&"!e31"),"") | G24: =IFERROR(INDIRECT($A24&"!n22"),"") | H24: =IFERROR(((C24-(C24*((J24+K24)/2)))+O24),"") | I24: 1 yr / 24 hour | J24: 0 | K24: 0 | L24: 0 | M24: =IFERROR(INDIRECT($A24&"!n19"),"") | N24: =IFERROR(M24-C24,"") | O24: =IFERROR((M24-C24)*P24,"") | P24: 0 | Q24: =IFERROR(ROUND(INDIRECT($A24&"!AJ17"),0), "") | R24: =IFERROR(ROUND(INDIRECT($A24&"!AJ18"),0),"") | S24: =IFERROR(ROUND(INDIRECT($A24&"!AK17"),0),"") | T24: =IFERROR(ROUND(INDIRECT($A24&"!AK18"),0),"") | U24: =IFERROR(ROUND(INDIRECT($A24&"!AL17"),0),"") | V24: =IFERROR(ROUND(INDIRECT($A24&"!AL18"),0),"") | W24: =IFERROR(ROUND(INDIRECT($A24&"!AJ25"),0),"") | X24: =IFERROR(ROUND(INDIRECT($A24&"!AJ26"),0),"") | Y24: =IFERROR(ROUND(INDIRECT($A24&"!AK25"),0),"") | Z24: =IFERROR(ROUND(INDIRECT($A24&"!AK26"),0),"") | AA24: =IFERROR(ROUND(INDIRECT($A24&"!AL25"),0),"") | AB24: =IFERROR(ROUND(INDIRECT($A24&"!AL26"),0),"") | AD24: =IFERROR(INDIRECT($A24&"!d16"),"") | AE24: =IFERROR(INDIRECT($A24&"!d35"),"") | AF24: =IFERROR(INDIRECT($A24&"!d36"),"") | AG24: =IFERROR(INDIRECT($A24&"!d38"),"") | AH24: =IFERROR(INDIRECT($A24&"!d39"),"") | AI24: =IFERROR(INDIRECT($A24&"!d40"),"") | AJ24: =IFERROR(INDIRECT($A24&"!d41"),"") | AK24: =IFERROR(INDIRECT($A24&"!d42"),"")
... A76: 64 | B76: =IF(ISNONTEXT(Landcover!B68),"",Landcover!B68) | C76: =IFERROR(INDIRECT($A76&"!h19"),"") | D76: =IFERROR(INDIRECT($A76&"!h20"),"") | E76: =IFERROR(INDIRECT($A76&"!h22"),"") | F76: =IFERROR(INDIRECT($A76&"!e31"),"") | G76: =IFERROR(INDIRECT($A76&"!n22"),"") | H76: =IFERROR(((C76-(C76*((J76+K76)/2)))+O76),"") | I76: 1 yr / 24 hour | J76: 0 | K76: 0 | L76: 0 | M76: =IFERROR(INDIRECT($A76&"!n19"),"") | N76: =IFERROR(M76-C76,"") | O76: =IFERROR((M76-C76)*P76,"") | P76: 0 | Q76: =IFERROR(ROUND(INDIRECT($A76&"!AJ17"),0), "") | R76: =IFERROR(ROUND(INDIRECT($A76&"!AJ18"),0),"") | S76: =IFERROR(ROUND(INDIRECT($A76&"!AK17"),0),"") | T76: =IFERROR(ROUND(INDIRECT($A76&"!AK18"),0),"") | U76: =IFERROR(ROUND(INDIRECT($A76&"!AL17"),0),"") | V76: =IFERROR(ROUND(INDIRECT($A76&"!AL18"),0),"") | W76: =IFERROR(ROUND(INDIRECT($A76&"!AJ25"),0),"") | X76: =IFERROR(ROUND(INDIRECT($A76&"!AJ26"),0),"") | Y76: =IFERROR(ROUND(INDIRECT($A76&"!AK25"),0),"") | Z76: =IFERROR(ROUND(INDIRECT($A76&"!AK26"),0),"") | AA76: =IFERROR(ROUND(INDIRECT($A76&"!AL25"),0),"") | AB76: =IFERROR(ROUND(INDIRECT($A76&"!AL26"),0),"") | AD76: =IFERROR(INDIRECT($A76&"!d16"),"") | AE76: =IFERROR(INDIRECT($A76&"!d35"),"") | AF76: =IFERROR(INDIRECT($A76&"!d36"),"") | AG76: =IFERROR(INDIRECT($A76&"!d38"),"") | AH76: =IFERROR(INDIRECT($A76&"!d39"),"") | AI76: =IFERROR(INDIRECT($A76&"!d40"),"") | AJ76: =IFERROR(INDIRECT($A76&"!d41"),"") | AK76: =IFERROR(INDIRECT($A76&"!d42"),"")
Q77: =SUM(Q13:Q16) -> 0

Sheet 1
A1: 1 | C1: =VLOOKUP(A1,LANDCOVER,2) -> 0
C2: Event | D2: P (in) | E2: Source
C3: =INDIRECT("Summary!I"&(12+A1)) -> 1 yr / 24 hour | D3: =VLOOKUP($C$3,Events!$B$3:$D$9,2,FALSE) -> 0 | E3: =VLOOKUP($C$3,Events!$B$3:$D$9,3,FALSE) -> 0
D4: Existing Landcover | J4: Potential Landcover - Increased Tree Cover | P4: Landcover Change Scenarios | Y4: Formula components | AI4: Nutrient Estimates | AJ4: Average Annual Load Estimates
D5: acres | E5: % | F5: Q Runoff (in) | G5: Runoff (TCF) | H5: Capture (TCF) | K5: acres | L5: % | M5: Runoff / acre (cf) | N5: Capture (MCF) | Q5: UTC Loss | R5: UTC Gain | S5: FOS Loss | T5: FOS Gain | U5: Error | V5: acres | Y5: Composite CN's | Z5: CN | AA5: S | AB5: Ia | AC5: Q | AD5: CN | AE5: S | AF5: Ia | AG5: Q | AI5: Chesapeake Bay Program 2017 | AJ5: N (lbs/yr) | AK5: P (lbs/yr) | AL5: Sed (tons/yr)
C6: Tree Canopy | D6: =VLOOKUP($A$1,LANDCOVER,3) -> 0 | E6: =D6/$D$16 -> #DIV/0! | F6: =IF($D$3<0.05*AA6,0,($D$3-AB6)^2/($D$3-AB6+AA6)) -> 0 | G6: =D6*F6*43560/12/1000 -> 0 | H6: =IFERROR(($AG6/$AC6-1)*G6,0) -> 0 | J6: Tree Canopy | K6: =VLOOKUP($A$1,LANDCOVERPOT,3) -> 0 | L6: =K6/$K$16 -> #DIV/0! | M6: =K6*$F6*43560/12/1000 -> 0 | P6: Tree Canopy | Q6: =D6*INDIRECT("Summary!j"&(12+A1)) -> 0 | R6: =(K6-D6)*INDIRECT("Summary!p"&(12+A1)) -> 0 | V6: =D6-Q6+R6+U6 -> 0 | X6: 1 | Y6: =C6 -> Tree Canopy | Z6: =IF(D6<=0,TheModel!I28,VLOOKUP($A$1,CompositeCN,$X6+1)) -> 59 | AA6: =IFERROR(1000/Z6-10,0) -> 6.9491525 | AB6: =0.2*AA6+ModelCi -> 1.4398305 | AC6: =IF($D$3<0.05*AA6,0,($D$3-AB6)^2/($D$3-AB6+AA6)) -> 0 | AD6: =INDIRECT("LC_HSG_Data!CS"&(5+A1)) -> #DIV/0! | AE6: =IFERROR(1000/AD6-10,0) -> 0 | AF6: =0.2*AE6 -> 0 | AG6: =IF($D$3<0.05*AE6,0,($D$3-AF6)^2/($D$3-AF6+AE6)) -> #DIV/0! | AI6: Tree Canopy | AJ6: {=D6:D15*loads} -> 0 | AK6: 0 | AL6: 0
C7: Tree Canopy over Impervious | D7: =VLOOKUP($A$1,LANDCOVER,4) -> 0 | E7: =D7/$D$16 -> #DIV/0! | F7: =IF($D$3<0.05*AA7,0,($D$3-AB7)^2/($D$3-AB7+AA7)) -> 0 | G7: =D7*F7*43560/12/1000 -> 0 | H7: =IFERROR(($AC10/$AC7-1)*G7,0) -> 0 | J7: Tree Canopy over Impervious | K7: =VLOOKUP($A$1,LANDCOVERPOT,4) -> 0 | L7: =K7/$K$16 -> #DIV/0! | M7: =K7*$F7*43560/12/1000 -> 0 | P7: Tree Canopy over Impervious | Q7: =D7*INDIRECT("Summary!j"&(12+A1)) -> 0 | R7: =(K7-D7)*INDIRECT("Summary!p"&(12+A1)) -> 0 | V7: =D7-Q7+R7 -> 0 | X7: 2 | Y7: =C7 -> Tree Canopy over Impervious | Z7: =IF(D7<=0,TheModel!I29,VLOOKUP($A$1,CompositeCN,$X7+1)) -> 96 | AA7: =IFERROR(1000/Z7-10,0) -> 0.41666667 | AB7: =0.2*AA7+ModelCi -> 0.13333333 | AC7: =IF($D$3<0.05*AA7,0,($D$3-AB7)^2/($D$3-AB7+AA7)) -> 0 | AI7: Tree Canopy over Impervious | AJ7: 0 | AK7: 0 | AL7: 0
C8: Pervious | D8: =VLOOKUP($A$1,LANDCOVER,5) -> 0 | E8: =D8/$D$16 -> #DIV/0! | F8: =IF($D$3<0.05*AA8,0,($D$3-AB8)^2/($D$3-AB8+AA8)) -> 0 | G8: =D8*F8*43560/12/1000 -> 0 | J8: Pervious | K8: =VLOOKUP($A$1,LANDCOVERPOT,5) -> 0 | L8: =K8/$K$16 -> #DIV/0! | M8: =K8*$F8*43560/12/1000 -> 0 | N8: =(Q8*(AC8-AG8)+S8*(AC8-AG9))*43560/12/1000 -> #DIV/0! | P8: Pervious | Q8: =R6 -> 0 | R8: =Q6*(1-Summary!L13) -> 0 | S8: =T12 -> 0 | T8: =SUM(S12,S13)*(1-INDIRECT("Summary!l"&(12+A1))) -> 0 | V8: =D8-Q8+R8-S8+T8+U8 -> 0 | X8: 3 | Y8: =C8 -> Pervious | Z8: =IF(D8<=0,Z6-CNadj,VLOOKUP($A$1,CompositeCN,$X8+1)) -> 61 | AA8: =IFERROR(1000/Z8-10,0) -> 6.3934426 | AB8: =0.2*AA8 -> 1.2786885 | AC8: =IF($D$3<0.05*AA8,0,($D$3-AB8)^2/($D$3-AB8+AA8)) -> 0 | AD8: =INDIRECT("LC_HSG_Data!CU"&(5+A1)) -> #DIV/0! | AE8: =IFERROR(1000/AD8-10,0) -> 0 | AF8: =0.2*AE8 -> 0 | AG8: =IF($D$3<0.05*AE8,0,($D$3-AF8)^2/($D$3-AF8+AE8)) -> #DIV/0! | AI8: Pervious | AJ8: 0 | AK8: 0 | AL8: 0
C9: Water | D9: =VLOOKUP($A$1,LANDCOVER,6) -> 0 | E9: =D9/$D$16 -> #DIV/0! | F9: =IF($D$3<0.05*AA9,0,($D$3-AB9)^2/($D$3-AB9+AA9)) -> #DIV/0! | G9: =D9*F9*43560/12/1000 -> #DIV/0! | J9: Water | K9: =VLOOKUP($A$1,LANDCOVERPOT,6) -> 0 | L9: =K9/$K$16 -> #DIV/0! | M9: =K9*$F9*43560/12/1000 -> #DIV/0! | P9: Water | V9: =D9 -> 0 | X9: 4 | Y9: =C9 -> Water | Z9: =IF(D9<=0,TheModel!I31,VLOOKUP($A$1,CompositeCN,$X9+1)) -> 100 | AA9: =IFERROR(1000/Z9-10,0) -> 0 | AB9: =0.2*AA9 -> 0 | AC9: =IF($D$3<0.05*AA9,0,($D$3-AB9)^2/($D$3-AB9+AA9)) -> #DIV/0! | AD9: =INDIRECT("LC_HSG_Data!CV"&(5+A1)) -> #DIV/0! | AE9: =IFERROR(1000/AD9-10,0) -> 0 | AF9: =0.2*AE9 -> 0 | AG9: =IF($D$3<0.05*AE9,0,($D$3-AF9)^2/($D$3-AF9+AE9)) -> #DIV/0! | AI9: Water | AJ9: 0 | AK9: 0 | AL9: 0
C10: Impervious | D10: =VLOOKUP($A$1,LANDCOVER,7) -> 0 | E10: =D10/$D$16 -> #DIV/0! | F10: =IF($D$3<0.05*AA10,0,($D$3-AB10)^2/($D$3-AB10+AA10)) -> 0 | G10: =D10*F10*43560/12/1000 -> 0 | J10: Impervious | K10: =VLOOKUP($A$1,LANDCOVERPOT,7) -> 0 | L10: =K10/$K$16 -> #DIV/0! | M10: =K10*$F10*43560/12/1000 -> 0 | N10: =Q10*(AC10-AC7)*43560/12/1000 -> 0 | P10: Impervious | Q10: =R7 -> 0 | R10: =Q6*(Summary!L13) -> 0 | T10: =SUM(S12,S13)*INDIRECT("Summary!l"&(12+A1)) -> 0 | V10: =D10-Q10+R10+T10+U10 -> 0 | X10: 5 | Y10: =C10 -> Impervious | Z10: =IF(D10<=0,Z7-CNadj,VLOOKUP($A$1,CompositeCN,$X10+1)) -> 98 | AA10: =IFERROR(1000/Z10-10,0) -> 0.20408163 | AB10: =0.2*AA10 -> 0.040816327 | AC10: =IF($D$3<0.05*AA10,0,($D$3-AB10)^2/($D$3-AB10+AA10)) -> 0 | AI10: Impervious | AJ10: 0 | AK10: 0 | AL10: 0
C11: Bare Earth | D11: =VLOOKUP($A$1,LANDCOVER,8) -> 0 | E11: =D11/$D$16 -> #DIV/0! | F11: =IF($D$3<0.05*AA11,0,($D$3-AB11)^2/($D$3-AB11+AA11)) -> 0 | G11: =D11*F11*43560/12/1000 -> 0 | J11: Bare Earth | K11: =VLOOKUP($A$1,LANDCOVERPOT,8) -> 0 | L11: =K11/$K$16 -> #DIV/0! | M11: =K11*$F11*43560/12/1000 -> 0 | P11: Bare Earth | V11: =D11 -> 0 | X11: 6 | Y11: =C11 -> Bare Earth | Z11: =IF(D11<=0,TheModel!I33,VLOOKUP($A$1,CompositeCN,$X11+1)) -> 86 | AA11: =IFERROR(1000/Z11-10,0) -> 1.627907 | AB11: =0.2*AA11 -> 0.3255814 | AC11: =IF($D$3<0.05*AA11,0,($D$3-AB11)^2/($D$3-AB11+AA11)) -> 0 | AI11: Bare Earth | AJ11: 0 | AK11: 0 | AL11: 0
C12: Forested Open Space | D12: =VLOOKUP($A$1,LANDCOVER,9) -> 0 | E12: =D12/$D$16 -> #DIV/0! | F12: =IF($D$3<0.05*AA12,0,($D$3-AB12)^2/($D$3-AB12+AA12)) -> 0 | G12: =D12*F12*43560/12/1000 -> 0 | H12: =IFERROR(($AG12/$AC12-1)*G12,0) -> 0 | J12: Forested Open Space | K12: =VLOOKUP($A$1,LANDCOVERPOT,9) -> 0 | L12: =K12/$K$16 -> #DIV/0! | M12: =K12*$F12*43560/12/1000 -> 0 | P12: Forested Open Space | S12: =D12*INDIRECT("Summary!k"&(12+A1)) -> 0 | T12: =(K12-D12)*INDIRECT("Summary!p"&(12+A1)) -> 0 | V12: =D12-S12+T12 -> 0 | X12: 7 | Y12: =C12 -> Forested Open Space | Z12: =IF(D12<=0,TheModel!I34,VLOOKUP($A$1,CompositeCN,$X12+1)) -> 55 | AA12: =IFERROR(1000/Z12-10,0) -> 8.1818182 | AB12: =0.2*AA12 -> 1.6363636 | AC12: =IF($D$3<0.05*AA12,0,($D$3-AB12)^2/($D$3-AB12+AA12)) -> 0 | AD12: =INDIRECT("LC_HSG_Data!CT"&(5+A1)) -> #DIV/0! | AE12: =IFERROR(1000/AD12-10,0) -> 0 | AF12: =0.2*AE12 -> 0 | AG12: =IF($D$3<0.05*AE12,0,($D$3-AF12)^2/($D$3-AF12+AE12)) -> #DIV/0! | AI12: Forested Open Space | AJ12: 0 | AK12: 0 | AL12: 0
C13: Forested Wetlands | D13: =VLOOKUP($A$1,LANDCOVER,10) -> 0 | E13: =D13/$D$16 -> #DIV/0! | F13: =IF($D$3<0.05*AA13,0,($D$3-AB13)^2/($D$3-AB13+AA13)) -> 0 | G13: =D13*F13*43560/12/1000 -> 0 | H13: =IFERROR(($AG13/$AC13-1)*G13,0) -> 0 | J13: Forested Wetlands | K13: =VLOOKUP($A$1,LANDCOVERPOT,10) -> 0 | L13: =K13/$K$16 -> #DIV/0! | M13: =K13*$F13*43560/12/1000 -> 0 | P13: Forested Wetlands | S13: =D13*INDIRECT("Summary!k"&(12+A1)) -> 0 | V13: =D13-S13 -> 0 | X13: 8 | Y13: =C13 -> Forested Wetlands | Z13: =IF(D13<=0,TheModel!I35,VLOOKUP($A$1,CompositeCN,$X13+1)) -> 77 | AA13: =IFERROR(1000/Z13-10,0) -> 2.987013 | AB13: =0.2*AA13 -> 0.5974026 | AC13: =IF($D$3<0.05*AA13,0,($D$3-AB13)^2/($D$3-AB13+AA13)) -> 0 | AD13: =Z14 -> 100 | AE13: =IFERROR(1000/AD13-10,0) -> 0 | AF13: =0.2*AE13 -> 0 | AG13: =IF($D$3<0.05*AE13,0,($D$3-AF13)^2/($D$3-AF13+AE13)) -> #DIV/0! | AI13: Forested Wetlands | AJ13: 0 | AK13: 0 | AL13: 0
C14: Wetlands | D14: =VLOOKUP($A$1,LANDCOVER,11) -> 0 | E14: =D14/$D$16 -> #DIV/0! | F14: =IF($D$3<0.05*AA14,0,($D$3-AB14)^2/($D$3-AB14+AA14)) -> #DIV/0! | G14: =D14*$F14*43560/12/1000 -> #DIV/0! | J14: Wetlands | K14: =VLOOKUP($A$1,LANDCOVERPOT,11) -> 0 | L14: =K14/$K$16 -> #DIV/0! | M14: =K14*$F14*43560/12/1000 -> #DIV/0! | P14: Wetlands | V14: =D14 -> 0 | X14: 9 | Y14: =C14 -> Wetlands | Z14: =IF(D14<=0,TheModel!I36,VLOOKUP($A$1,CompositeCN,$X14+1)) -> 100 | AA14: =IFERROR(1000/Z14-10,0) -> 0 | AB14: =0.2*AA14 -> 0 | AC14: =IF($D$3<0.05*AA14,0,($D$3-AB14)^2/($D$3-AB14+AA14)) -> #DIV/0! | AD14: 80 | AE14: =IFERROR(1000/AD14-10,0) -> 2.5 | AF14: =0.2*AE14 -> 0.5 | AG14: =IF($D$3<0.05*AE14,0,($D$3-AF14)^2/($D$3-AF14+AE14)) -> 0 | AI14: Wetlands | AJ14: 0 | AK14: 0 | AL14: 0
C15: Scrub/Shrub/Palm | D15: =VLOOKUP($A$1,LANDCOVER,12) -> 0 | E15: =D15/$D$16 -> #DIV/0! | F15: =IF($D$3<0.05*AA15,0,($D$3-AB15)^2/($D$3-AB15+AA15)) -> 0 | G15: =D15*$F15*43560/12/1000 -> 0 | J15: Scrub/Shrub/Palm | K15: =VLOOKUP($A$1,LANDCOVERPOT,12) -> 0 | L15: =K15/$K$16 -> #DIV/0! | M15: =K15*$F15*43560/12/1000 -> 0 | P15: Scrub/Shrub/Palm | V15: =D15 -> 0 | X15: 10 | Y15: =C15 -> Scrub/Shrub/Palm | Z15: =IF(D15<=0,TheModel!I37,VLOOKUP($A$1,CompositeCN,$X15+1)) -> 60 | AA15: =IFERROR(1000/Z15-10,0) -> 6.6666667 | AB15: =0.2*AA15 -> 1.3333333 | AC15: =IF($D$3<0.05*AA15,0,($D$3-AB15)^2/($D$3-A15+AA15)) -> 0 | AI15: Scrub/Shrub/Palm | AJ15: 0 | AK15: 0 | AL15: 0
C16: totals | D16: =SUM(D6:D15) -> 0 | G16: =SUM(G6:G15) -> #DIV/0! | H16: =SUM(H6:H15) -> 0 | J16: totals | K16: =SUM(K6:K15) -> 0 | M16: =SUM(M6:M15) -> #DIV/0! | N16: =SUM(N6:N15) -> #DIV/0! | P16: totals | Q16: =SUM(Q6:Q15) -> 0 | R16: =SUM(R6:R15) -> 0 | S16: =SUM(S6:S15) -> 0 | T16: =SUM(T6:T15) -> 0 | U16: =D16-V16 -> 0 | V16: =SUM(V6:V15) -> 0 | Y16: Matrix of Runoff Increases by Landcover Change | AI16: Total Non-Point Pollution Load from Existing Landcover | AJ16: =SUM(AJ6:AJ15) -> 0 | AK16: =SUM(AK6:AK15) -> 0 | AL16: =SUM(AL6:AL15) -> 0
Z17: Changed Landcover | AI17: Non-Point Pollution Captured by Existing Trees | AJ17: {=SUM(D6,D8,D12)*pervious+SUM(D7,D10)*impervious+D11*bare+SUM(D13,D14)*wetland-AJ16:AL16} -> 0 | AK17: 0 | AL17: 0
C18: Summary Results | J18: Summary Results | Y18: Original Landcover | Z18: P | AA18: I | AB18: W | AC18: P | AD18: I | AE18: W | AI18: Non-Point Load Reduction by Existing Trees (%) | AJ18: =AJ17/SUM(ABS(AJ17),AJ16)*100 -> #DIV/0! | AK18: =AK17/SUM(ABS(AK17),AK16)*100 -> #DIV/0! | AL18: =AL17/SUM(ABS(AL17),AL16)*100 -> #DIV/0!
C19: Percent tree canopy | F19: existing | H19: =D36/D35 -> #DIV/0! | J19: Percent tree canopy | M19: max | N19: =D37/D35 -> #DIV/0! | Y19: Tree Canopy | Z19: =AG6-AC6 -> #DIV/0! | AA19: =AC10-AC6 -> 0 | AC19: =Z19*(D6*E24)*(1-E25)*LossCF -> #DIV/0! | AD19: =AA19*(E24*D6)*(E25)*LossCF -> 0
C20: Percent Impervious | F20: existing | H20: =IFERROR(D10/D35,0) -> 0 | J20: Percent Impervious | M20: min | N20: =K10/SUM(K16,-K9) -> #DIV/0! | Y20: Tree Canopy over Impervious | AA20: =AC10-AC7 -> 0 | AD20: =AA20*D7*E24*LossCF -> 0 | AI20: Total Non-Point Pollution Load from Potential Landcover | AJ20: {=SUM(K6:K15*nloads)} -> 0 | AK20: {=SUM(K6:K15*ploads)} -> 0 | AL20: {=SUM(K6:K15*sedloads)} -> 0
C21: Runoff avoided due to trees (%) | F21: =C3 -> 1 yr / 24 hour | H21: =H16/G16 -> #DIV/0! | J21: Additional ruoff avoided (%) | M21: max | N21: =N22/H22 -> #DIV/0! | Y21: Forested Open Space | Z21: =AG12-AC12 -> #DIV/0! | AA21: =AC10-AC12 -> 0 | AC21: =Z21*D12*E27*(1-E28)*LossCF -> #DIV/0! | AD21: =AA21*D12*E27*E28*LossCF -> 0 | AI21: Non-Point Pollution Captured by New Trees | AJ21: {=AJ16:AL16-AJ20:AL20} -> 0 | AK21: 0 | AL21: 0
C22: Runoff avoided due to trees (million gallons) | F22: =C3 -> 1 yr / 24 hour | H22: =H16*7.48052/1000 -> 0 | J22: Additional runoff avoided (million gallons) | L22: max | M22: max | N22: =N16*7.48052/1000 -> #DIV/0! | Y22: Forested Wetlands | Z22: =AG14-AC13 -> 0 | AA22: =AC10-AC13 -> 0 | AC22: =Z22*D13*E27*(1-E28)*LossCF -> 0 | AD22: =AA22*D13*E27*E28*LossCF -> 0 | AI22: Additional Non-Point Load Reduction (%) | AJ22: =AJ21/AJ16*100 -> #DIV/0! | AK22: =AK21/AK16*100 -> #DIV/0! | AL22: =AL21/AL16*100 -> #DIV/0!
C23: What-If Scenarios | Y23: =43560/12/1000*7.48052/1000 -> 0.027154288 | Z23: inches | AC23: million gallons
C24: Urban tree canopy loss | E24: =INDIRECT("Summary!j"&(12+A1)) -> 0 | F24: % UTC loss | J24: GOAL: Added canopy (% of total area) | N24: =INDIRECT("Summary!h"&(12+A1)) | Y24: Note: This matrix is used to compute runoff increases in the What-If scenario | AI24: Total Non-Point Pollution Load with Loss Variables | AJ24: {=SUMPRODUCT(V6:V15,nloads)} -> 0 | AK24: =SUMPRODUCT(V6:V15,ploads) -> 0 | AL24: =SUMPRODUCT(V6:V15,sedloads) -> 0
E25: =INDIRECT("Summary!L"&(12+A1)) -> 0 | F25: <- Set % impervious | J25: TOTAL EVENT RUNOFF | K25: million gallons | N25: =H22+N22 -> #DIV/0! | Y25: The inches columns are increased depths of runoff | AI25: Change in Non-Point Pollution Load with Loss Variables | AJ25: =AJ24-AJ16 -> 0 | AK25: =AK24-AK16 -> 0 | AL25: =AL24-AL16 -> 0
C26: Additional stormwater runoff | E26: =SUM(AC19:AE20) -> #DIV/0! | F26: million gallons | Y26: The cubic feet columns are increased quantities of runoff | AI26: Change in Non-Point Pollution Load (%) | AJ26: =(AJ24-AJ16)/AJ16*100 -> #DIV/0! | AK26: =(AK24-AK16)/AK16*100 -> #DIV/0! | AL26: =(AL24-AL16)/AL16*100 -> #DIV/0!
C27: Forested open space loss | E27: =INDIRECT("Summary!k"&(12+A1)) -> 0 | F27: % FOS loss | Y27: P=pervious, I - impervious, W= Wetlands
E28: =INDIRECT("Summary!L"&(12+A1)) -> 0 | F28: <- Set % impervious
C29: Additional stormwater runoff | E29: =SUM(AC21:AE22) -> #DIV/0! | F29: million gallons
C30: TOTAL TREE CANOPY SUMMARY | E30: =IFERROR((E24*SUM(D6:D7)+E27*SUM(D12:D13))/SUM(D6:D7,D12:D13),0) -> 0 | F30: total canopy loss
C31: Additional stormwater runoff | E31: =IFERROR(SUM(E26,E29),0) -> 0 | F31: million gallons
C33: Supporting Calcs
D34: acres
C35: Area Minus Wetland and Water | D35: =D16-(D9+D14) -> 0
C36: Total Tree Canopy | D36: =SUM(D6,D7,D12,D13) -> 0
C37: Total Potential Tree Canopy | D37: =K6+K7+K12+K13 -> 0
C38: Total Impervious Area (inclding under TC) | D38: =D7+D10 -> 0
C39: Total Pervious Area (including TC) | D39: =D6+D8+D11+D12 -> 0
C40: Potential Additional Canopy Area | D40: =D37-D36 -> 0
C41: Urban Tree Canopy Loss | D41: =(D6+D7)*E24 -> 0
...

Sheet 2
A1: 2 | C1: =VLOOKUP(A1,LANDCOVER,2) -> 0
C2: Event | D2: P (in) | E2: Source
C3: =INDIRECT("Summary!I"&(12+A1)) -> 1 yr / 24 hour | D3: =VLOOKUP($C$3,Events!$B$3:$D$9,2,FALSE) -> 0 | E3: =VLOOKUP($C$3,Events!$B$3:$D$9,3,FALSE) -> 0
D4: Existing Landcover | J4: Potential Landcover - Increased Tree Cover | P4: Landcover Change Scenarios | Y4: Formula components | AI4: Nutrient Estimates | AJ4: Average Annual Load Estimates
D5: acres | E5: % | F5: Q Runoff (in) | G5: Runoff (TCF) | H5: Capture (TCF) | K5: acres | L5: % | M5: Runoff / acre (cf) | N5: Capture (MCF) | Q5: UTC Loss | R5: UTC Gain | S5: FOS Loss | T5: FOS Gain | U5: Error | V5: acres | Y5: Composite CN's | Z5: CN | AA5: S | AB5: Ia | AC5: Q | AD5: CN | AE5: S | AF5: Ia | AG5: Q | AI5: Chesapeake Bay Program 2017 | AJ5: N (lbs/yr) | AK5: P (lbs/yr) | AL5: Sed (tons/yr)
C6: Tree Canopy | D6: =VLOOKUP($A$1,LANDCOVER,3) -> 0 | E6: =D6/$D$16 -> #DIV/0! | F6: =IF($D$3<0.05*AA6,0,($D$3-AB6)^2/($D$3-AB6+AA6)) -> 0 | G6: =D6*F6*43560/12/1000 -> 0 | H6: =IFERROR(($AG6/$AC6-1)*G6,0) -> 0 | J6: Tree Canopy | K6: =VLOOKUP($A$1,LANDCOVERPOT,3) -> 0 | L6: =K6/$K$16 -> #DIV/0! | M6: =K6*$F6*43560/12/1000 -> 0 | P6: Tree Canopy | Q6: =D6*INDIRECT("Summary!j"&(12+A1)) -> 0 | R6: =(K6-D6)*INDIRECT("Summary!p"&(12+A1)) -> 0 | V6: =D6-Q6+R6+U6 -> 0 | X6: 1 | Y6: =C6 -> Tree Canopy | Z6: =IF(D6<=0,TheModel!I28,VLOOKUP($A$1,CompositeCN,$X6+1)) -> 59 | AA6: =IFERROR(1000/Z6-10,0) -> 6.9491525 | AB6: =0.2*AA6+ModelCi -> 1.4398305 | AC6: =IF($D$3<0.05*AA6,0,($D$3-AB6)^2/($D$3-AB6+AA6)) -> 0 | AD6: =INDIRECT("LC_HSG_Data!CS"&(5+A1)) -> #DIV/0! | AE6: =IFERROR(1000/AD6-10,0) -> 0 | AF6: =0.2*AE6 -> 0 | AG6: =IF($D$3<0.05*AE6,0,($D$3-AF6)^2/($D$3-AF6+AE6)) -> #DIV/0! | AI6: Tree Canopy | AJ6: {=D6:D15*loads} -> 0 | AK6: 0 | AL6: 0
C7: Tree Canopy over Impervious | D7: =VLOOKUP($A$1,LANDCOVER,4) -> 0 | E7: =D7/$D$16 -> #DIV/0! | F7: =IF($D$3<0.05*AA7,0,($D$3-AB7)^2/($D$3-AB7+AA7)) -> 0 | G7: =D7*F7*43560/12/1000 -> 0 | H7: =IFERROR(($AC10/$AC7-1)*G7,0) -> 0 | J7: Tree Canopy over Impervious | K7: =VLOOKUP($A$1,LANDCOVERPOT,4) -> 0 | L7: =K7/$K$16 -> #DIV/0! | M7: =K7*$F7*43560/12/1000 -> 0 | P7: Tree Canopy over Impervious | Q7: =D7*INDIRECT("Summary!j"&(12+A1)) -> 0 | R7: =(K7-D7)*INDIRECT("Summary!p"&(12+A1)) -> 0 | V7: =D7-Q7+R7 -> 0 | X7: 2 | Y7: =C7 -> Tree Canopy over Impervious | Z7: =IF(D7<=0,TheModel!I29,VLOOKUP($A$1,CompositeCN,$X7+1)) -> 96 | AA7: =IFERROR(1000/Z7-10,0) -> 0.41666667 | AB7: =0.2*AA7+ModelCi -> 0.13333333 | AC7: =IF($D$3<0.05*AA7,0,($D$3-AB7)^2/($D$3-AB7+AA7)) -> 0 | AI7: Tree Canopy over Impervious | AJ7: 0 | AK7: 0 | AL7: 0
C8: Pervious | D8: =VLOOKUP($A$1,LANDCOVER,5) -> 0 | E8: =D8/$D$16 -> #DIV/0! | F8: =IF($D$3<0.05*AA8,0,($D$3-AB8)^2/($D$3-AB8+AA8)) -> 0 | G8: =D8*F8*43560/12/1000 -> 0 | J8: Pervious | K8: =VLOOKUP($A$1,LANDCOVERPOT,5) -> 0 | L8: =K8/$K$16 -> #DIV/0! | M8: =K8*$F8*43560/12/1000 -> 0 | N8: =(Q8*(AC8-AG8)+S8*(AC8-AG9))*43560/12/1000 -> #DIV/0! | P8: Pervious | Q8: =R6 -> 0 | R8: =Q6*(1-Summary!L14) -> 0 | S8: =T12 -> 0 | T8: =SUM(S12,S13)*(1-INDIRECT("Summary!l"&(12+A1))) -> 0 | V8: =D8-Q8+R8-S8+T8+U8 -> 0 | X8: 3 | Y8: =C8 -> Pervious | Z8: =IF(D8<=0,Z6-CNadj,VLOOKUP($A$1,CompositeCN,$X8+1)) -> 61 | AA8: =IFERROR(1000/Z8-10,0) -> 6.3934426 | AB8: =0.2*AA8 -> 1.2786885 | AC8: =IF($D$3<0.05*AA8,0,($D$3-AB8)^2/($D$3-AB8+AA8)) -> 0 | AD8: =INDIRECT("LC_HSG_Data!CU"&(5+A1)) -> #DIV/0! | AE8: =IFERROR(1000/AD8-10,0) -> 0 | AF8: =0.2*AE8 -> 0 | AG8: =IF($D$3<0.05*AE8,0,($D$3-AF8)^2/($D$3-AF8+AE8)) -> #DIV/0! | AI8: Pervious | AJ8: 0 | AK8: 0 | AL8: 0
C9: Water | D9: =VLOOKUP($A$1,LANDCOVER,6) -> 0 | E9: =D9/$D$16 -> #DIV/0! | F9: =IF($D$3<0.05*AA9,0,($D$3-AB9)^2/($D$3-AB9+AA9)) -> #DIV/0! | G9: =D9*F9*43560/12/1000 -> #DIV/0! | J9: Water | K9: =VLOOKUP($A$1,LANDCOVERPOT,6) -> 0 | L9: =K9/$K$16 -> #DIV/0! | M9: =K9*$F9*43560/12/1000 -> #DIV/0! | P9: Water | V9: =D9 -> 0 | X9: 4 | Y9: =C9 -> Water | Z9: =IF(D9<=0,TheModel!I31,VLOOKUP($A$1,CompositeCN,$X9+1)) -> 100 | AA9: =IFERROR(1000/Z9-10,0) -> 0 | AB9: =0.2*AA9 -> 0 | AC9: =IF($D$3<0.05*AA9,0,($D$3-AB9)^2/($D$3-AB9+AA9)) -> #DIV/0! | AD9: =INDIRECT("LC_HSG_Data!CV"&(5+A1)) -> #DIV/0! | AE9: =IFERROR(1000/AD9-10,0) -> 0 | AF9: =0.2*AE9 -> 0 | AG9: =IF($D$3<0.05*AE9,0,($D$3-AF9)^2/($D$3-AF9+AE9)) -> #DIV/0! | AI9: Water | AJ9: 0 | AK9: 0 | AL9: 0
C10: Impervious | D10: =VLOOKUP($A$1,LANDCOVER,7) -> 0 | E10: =D10/$D$16 -> #DIV/0! | F10: =IF($D$3<0.05*AA10,0,($D$3-AB10)^2/($D$3-AB10+AA10)) -> 0 | G10: =D10*F10*43560/12/1000 -> 0 | J10: Impervious | K10: =VLOOKUP($A$1,LANDCOVERPOT,7) -> 0 | L10: =K10/$K$16 -> #DIV/0! | M10: =K10*$F10*43560/12/1000 -> 0 | N10: =Q10*(AC10-AC7)*43560/12/1000 -> 0 | P10: Impervious | Q10: =R7 -> 0 | R10: =Q6*(Summary!L14) -> 0 | T10: =SUM(S12,S13)*INDIRECT("Summary!l"&(12+A1)) -> 0 | V10: =D10-Q10+R10+T10+U10 -> 0 | X10: 5 | Y10: =C10 -> Impervious | Z10: =IF(D10<=0,Z7-CNadj,VLOOKUP($A$1,CompositeCN,$X10+1)) -> 98 | AA10: =IFERROR(1000/Z10-10,0) -> 0.20408163 | AB10: =0.2*AA10 -> 0.040816327 | AC10: =IF($D$3<0.05*AA10,0,($D$3-AB10)^2/($D$3-AB10+AA10)) -> 0 | AI10: Impervious | AJ10: 0 | AK10: 0 | AL10: 0
C11: Bare Earth | D11: =VLOOKUP($A$1,LANDCOVER,8) -> 0 | E11: =D11/$D$16 -> #DIV/0! | F11: =IF($D$3<0.05*AA11,0,($D$3-AB11)^2/($D$3-AB11+AA11)) -> 0 | G11: =D11*F11*43560/12/1000 -> 0 | J11: Bare Earth | K11: =VLOOKUP($A$1,LANDCOVERPOT,8) -> 0 | L11: =K11/$K$16 -> #DIV/0! | M11: =K11*$F11*43560/12/1000 -> 0 | P11: Bare Earth | V11: =D11 -> 0 | X11: 6 | Y11: =C11 -> Bare Earth | Z11: =IF(D11<=0,TheModel!I33,VLOOKUP($A$1,CompositeCN,$X11+1)) -> 86 | AA11: =IFERROR(1000/Z11-10,0) -> 1.627907 | AB11: =0.2*AA11 -> 0.3255814 | AC11: =IF($D$3<0.05*AA11,0,($D$3-AB11)^2/($D$3-AB11+AA11)) -> 0 | AI11: Bare Earth | AJ11: 0 | AK11: 0 | AL11: 0
C12: Forested Open Space | D12: =VLOOKUP($A$1,LANDCOVER,9) -> 0 | E12: =D12/$D$16 -> #DIV/0! | F12: =IF($D$3<0.05*AA12,0,($D$3-AB12)^2/($D$3-AB12+AA12)) -> 0 | G12: =D12*F12*43560/12/1000 -> 0 | H12: =IFERROR(($AG12/$AC12-1)*G12,0) -> 0 | J12: Forested Open Space | K12: =VLOOKUP($A$1,LANDCOVERPOT,9) -> 0 | L12: =K12/$K$16 -> #DIV/0! | M12: =K12*$F12*43560/12/1000 -> 0 | P12: Forested Open Space | S12: =D12*INDIRECT("Summary!k"&(12+A1)) -> 0 | T12: =(K12-D12)*INDIRECT("Summary!p"&(12+A1)) -> 0 | V12: =D12-S12+T12 -> 0 | X12: 7 | Y12: =C12 -> Forested Open Space | Z12: =IF(D12<=0,TheModel!I34,VLOOKUP($A$1,CompositeCN,$X12+1)) -> 55 | AA12: =IFERROR(1000/Z12-10,0) -> 8.1818182 | AB12: =0.2*AA12 -> 1.6363636 | AC12: =IF($D$3<0.05*AA12,0,($D$3-AB12)^2/($D$3-AB12+AA12)) -> 0 | AD12: =INDIRECT("LC_HSG_Data!CT"&(5+A1)) -> #DIV/0! | AE12: =IFERROR(1000/AD12-10,0) -> 0 | AF12: =0.2*AE12 -> 0 | AG12: =IF($D$3<0.05*AE12,0,($D$3-AF12)^2/($D$3-AF12+AE12)) -> #DIV/0! | AI12: Forested Open Space | AJ12: 0 | AK12: 0 | AL12: 0
C13: Forested Wetlands | D13: =VLOOKUP($A$1,LANDCOVER,10) -> 0 | E13: =D13/$D$16 -> #DIV/0! | F13: =IF($D$3<0.05*AA13,0,($D$3-AB13)^2/($D$3-AB13+AA13)) -> 0 | G13: =D13*F13*43560/12/1000 -> 0 | H13: =IFERROR(($AG13/$AC13-1)*G13,0) -> 0 | J13: Forested Wetlands | K13: =VLOOKUP($A$1,LANDCOVERPOT,10) -> 0 | L13: =K13/$K$16 -> #DIV/0! | M13: =K13*$F13*43560/12/1000 -> 0 | P13: Forested Wetlands | S13: =D13*INDIRECT("Summary!k"&(12+A1)) -> 0 | V13: =D13-S13 -> 0 | X13: 8 | Y13: =C13 -> Forested Wetlands | Z13: =IF(D13<=0,TheModel!I35,VLOOKUP($A$1,CompositeCN,$X13+1)) -> 77 | AA13: =IFERROR(1000/Z13-10,0) -> 2.987013 | AB13: =0.2*AA13 -> 0.5974026 | AC13: =IF($D$3<0.05*AA13,0,($D$3-AB13)^2/($D$3-AB13+AA13)) -> 0 | AD13: =Z14 -> 100 | AE13: =IFERROR(1000/AD13-10,0) -> 0 | AF13: =0.2*AE13 -> 0 | AG13: =IF($D$3<0.05*AE13,0,($D$3-AF13)^2/($D$3-AF13+AE13)) -> #DIV/0! | AI13: Forested Wetlands | AJ13: 0 | AK13: 0 | AL13: 0
C14: Wetlands | D14: =VLOOKUP($A$1,LANDCOVER,11) -> 0 | E14: =D14/$D$16 -> #DIV/0! | F14: =IF($D$3<0.05*AA14,0,($D$3-AB14)^2/($D$3-AB14+AA14)) -> #DIV/0! | G14: =D14*$F14*43560/12/1000 -> #DIV/0! | J14: Wetlands | K14: =VLOOKUP($A$1,LANDCOVERPOT,11) -> 0 | L14: =K14/$K$16 -> #DIV/0! | M14: =K14*$F14*43560/12/1000 -> #DIV/0! | P14: Wetlands | V14: =D14 -> 0 | X14: 9 | Y14: =C14 -> Wetlands | Z14: =IF(D14<=0,TheModel!I36,VLOOKUP($A$1,CompositeCN,$X14+1)) -> 100 | AA14: =IFERROR(1000/Z14-10,0) -> 0 | AB14: =0.2*AA14 -> 0 | AC14: =IF($D$3<0.05*AA14,0,($D$3-AB14)^2/($D$3-AB14+AA14)) -> #DIV/0! | AD14: 80 | AE14: =IFERROR(1000/AD14-10,0) -> 2.5 | AF14: =0.2*AE14 -> 0.5 | AG14: =IF($D$3<0.05*AE14,0,($D$3-AF14)^2/($D$3-AF14+AE14)) -> 0 | AI14: Wetlands | AJ14: 0 | AK14: 0 | AL14: 0
C15: Scrub/Shrub/Palm | D15: =VLOOKUP($A$1,LANDCOVER,12) -> 0 | E15: =D15/$D$16 -> #DIV/0! | F15: =IF($D$3<0.05*AA15,0,($D$3-AB15)^2/($D$3-AB15+AA15)) -> 0 | G15: =D15*$F15*43560/12/1000 -> 0 | J15: Scrub/Shrub/Palm | K15: =VLOOKUP($A$1,LANDCOVERPOT,12) -> 0 | L15: =K15/$K$16 -> #DIV/0! | M15: =K15*$F15*43560/12/1000 -> 0 | P15: Scrub/Shrub/Palm | V15: =D15 -> 0 | X15: 10 | Y15: =C15 -> Scrub/Shrub/Palm | Z15: =IF(D15<=0,TheModel!I37,VLOOKUP($A$1,CompositeCN,$X15+1)) -> 60 | AA15: =IFERROR(1000/Z15-10,0) -> 6.6666667 | AB15: =0.2*AA15 -> 1.3333333 | AC15: =IF($D$3<0.05*AA15,0,($D$3-AB15)^2/($D$3-A15+AA15)) -> 0 | AI15: Scrub/Shrub/Palm | AJ15: 0 | AK15: 0 | AL15: 0
C16: totals | D16: =SUM(D6:D15) -> 0 | G16: =SUM(G6:G15) -> #DIV/0! | H16: =SUM(H6:H15) -> 0 | J16: totals | K16: =SUM(K6:K15) -> 0 | M16: =SUM(M6:M15) -> #DIV/0! | N16: =SUM(N6:N15) -> #DIV/0! | P16: totals | Q16: =SUM(Q6:Q15) -> 0 | R16: =SUM(R6:R15) -> 0 | S16: =SUM(S6:S15) -> 0 | T16: =SUM(T6:T15) -> 0 | U16: =D16-V16 -> 0 | V16: =SUM(V6:V15) -> 0 | Y16: Matrix of Runoff Increases by Landcover Change | AI16: Total Non-Point Pollution Load from Existing Landcover | AJ16: =SUM(AJ6:AJ15) -> 0 | AK16: =SUM(AK6:AK15) -> 0 | AL16: =SUM(AL6:AL15) -> 0
Z17: Changed Landcover | AI17: Non-Point Pollution Captured by Existing Trees | AJ17: {=SUM(D6,D8,D12)*pervious+SUM(D7,D10)*impervious+D11*bare+SUM(D13,D14)*wetland-AJ16:AL16} -> 0 | AK17: 0 | AL17: 0
C18: Summary Results | J18: Summary Results | Y18: Original Landcover | Z18: P | AA18: I | AB18: W | AC18: P | AD18: I | AE18: W | AI18: Non-Point Load Reduction by Existing Trees (%) | AJ18: =AJ17/SUM(ABS(AJ17),AJ16)*100 -> #DIV/0! | AK18: =AK17/SUM(ABS(AK17),AK16)*100 -> #DIV/0! | AL18: =AL17/SUM(ABS(AL17),AL16)*100 -> #DIV/0!
C19: Percent tree canopy | F19: existing | H19: =D36/D35 -> #DIV/0! | J19: Percent tree canopy | M19: max | N19: =D37/D35 -> #DIV/0! | Y19: Tree Canopy | Z19: =AG6-AC6 -> #DIV/0! | AA19: =AC10-AC6 -> 0 | AC19: =Z19*(D6*E24)*(1-E25)*LossCF -> #DIV/0! | AD19: =AA19*(E24*D6)*(E25)*LossCF -> 0
C20: Percent Impervious | F20: existing | H20: =IFERROR(D10/D35,0) -> 0 | J20: Percent Impervious | M20: min | N20: =K10/SUM(K16,-K9) -> #DIV/0! | Y20: Tree Canopy over Impervious | AA20: =AC10-AC7 -> 0 | AD20: =AA20*D7*E24*LossCF -> 0 | AI20: Total Non-Point Pollution Load from Potential Landcover | AJ20: {=SUM(K6:K15*nloads)} -> 0 | AK20: {=SUM(K6:K15*ploads)} -> 0 | AL20: {=SUM(K6:K15*sedloads)} -> 0
C21: Runoff avoided due to trees (%) | F21: =C3 -> 1 yr / 24 hour | H21: =H16/G16 -> #DIV/0! | J21: Additional ruoff avoided (%) | M21: max | N21: =N22/H22 -> #DIV/0! | Y21: Forested Open Space | Z21: =AG12-AC12 -> #DIV/0! | AA21: =AC10-AC12 -> 0 | AC21: =Z21*D12*E27*(1-E28)*LossCF -> #DIV/0! | AD21: =AA21*D12*E27*E28*LossCF -> 0 | AI21: Non-Point Pollution Captured by New Trees | AJ21: {=AJ16:AL16-AJ20:AL20} -> 0 | AK21: 0 | AL21: 0
C22: Runoff avoided due to trees (million gallons) | F22: =C3 -> 1 yr / 24 hour | H22: =H16*7.48052/1000 -> 0 | J22: Additional runoff avoided (million gallons) | L22: max | M22: max | N22: =N16*7.48052/1000 -> #DIV/0! | Y22: Forested Wetlands | Z22: =AG14-AC13 -> 0 | AA22: =AC10-AC13 -> 0 | AC22: =Z22*D13*E27*(1-E28)*LossCF -> 0 | AD22: =AA22*D13*E27*E28*LossCF -> 0 | AI22: Additional Non-Point Load Reduction (%) | AJ22: =AJ21/AJ16*100 -> #DIV/0! | AK22: =AK21/AK16*100 -> #DIV/0! | AL22: =AL21/AL16*100 -> #DIV/0!
C23: What-If Scenarios | Y23: =43560/12/1000*7.48052/1000 -> 0.027154288 | Z23: inches | AC23: million gallons
C24: Urban tree canopy loss | E24: =INDIRECT("Summary!j"&(12+A1)) -> 0 | F24: % UTC loss | J24: GOAL: Added canopy (% of total area) | N24: =INDIRECT("Summary!h"&(12+A1)) | Y24: Note: This matrix is used to compute runoff increases in the What-If scenario | AI24: Total Non-Point Pollution Load with Loss Variables | AJ24: {=SUMPRODUCT(V6:V15,nloads)} -> 0 | AK24: =SUMPRODUCT(V6:V15,ploads) -> 0 | AL24: =SUMPRODUCT(V6:V15,sedloads) -> 0
E25: =INDIRECT("Summary!L"&(12+A1)) -> 0 | F25: <- Set % impervious | J25: TOTAL EVENT RUNOFF | K25: million gallons | N25: =H22+N22 -> #DIV/0! | Y25: The inches columns are increased depths of runoff | AI25: Change in Non-Point Pollution Load with Loss Variables | AJ25: =AJ24-AJ16 -> 0 | AK25: =AK24-AK16 -> 0 | AL25: =AL24-AL16 -> 0
C26: Additional stormwater runoff | E26: =SUM(AC19:AE20) -> #DIV/0! | F26: million gallons | Y26: The cubic feet columns are increased quantities of runoff | AI26: Change in Non-Point Pollution Load (%) | AJ26: =(AJ24-AJ16)/AJ16*100 -> #DIV/0! | AK26: =(AK24-AK16)/AK16*100 -> #DIV/0! | AL26: =(AL24-AL16)/AL16*100 -> #DIV/0!
C27: Forested open space loss | E27: =INDIRECT("Summary!k"&(12+A1)) -> 0 | F27: % FOS loss | Y27: P=pervious, I - impervious, W= Wetlands
E28: =INDIRECT("Summary!L"&(12+A1)) -> 0 | F28: <- Set % impervious
C29: Additional stormwater runoff | E29: =SUM(AC21:AE22) -> #DIV/0! | F29: million gallons
C30: TOTAL TREE CANOPY SUMMARY | E30: =IFERROR((E24*SUM(D6:D7)+E27*SUM(D12:D13))/SUM(D6:D7,D12:D13),0) -> 0 | F30: total canopy loss
C31: Additional stormwater runoff | E31: =IFERROR(SUM(E26,E29),0) -> 0 | F31: million gallons
C33: Supporting Calcs
D34: acres
C35: Area Minus Wetland and Water | D35: =D16-(D9+D14) -> 0
C36: Total Tree Canopy | D36: =SUM(D6,D7,D12,D13) -> 0
C37: Total Potential Tree Canopy | D37: =K6+K7+K12+K13 -> 0
C38: Total Impervious Area (inclding under TC) | D38: =D7+D10 -> 0
C39: Total Pervious Area (including TC) | D39: =D6+D8+D11+D12 -> 0
C40: Potential Additional Canopy Area | D40: =D37-D36 -> 0
C41: Urban Tree Canopy Loss | D41: =(D6+D7)*E24 -> 0
...

Sheet 3
A1: 3 | C1: =VLOOKUP(A1,LANDCOVER,2) -> 0
C2: Event | D2: P (in) | E2: Source
C3: =INDIRECT("Summary!I"&(12+A1)) -> 1 yr / 24 hour | D3: =VLOOKUP($C$3,Events!$B$3:$D$9,2,FALSE) -> 0 | E3: =VLOOKUP($C$3,Events!$B$3:$D$9,3,FALSE) -> 0
D4: Existing Landcover | J4: Potential Landcover - Increased Tree Cover | P4: Landcover Change Scenarios | Y4: Formula components | AI4: Nutrient Estimates | AJ4: Average Annual Load Estimates
D5: acres | E5: % | F5: Q Runoff (in) | G5: Runoff (TCF) | H5: Capture (TCF) | K5: acres | L5: % | M5: Runoff / acre (cf) | N5: Capture (MCF) | Q5: UTC Loss | R5: UTC Gain | S5: FOS Loss | T5: FOS Gain | U5: Error | V5: acres | Y5: Composite CN's | Z5: CN | AA5: S | AB5: Ia | AC5: Q | AD5: CN | AE5: S | AF5: Ia | AG5: Q | AI5: Chesapeake Bay Program 2017 | AJ5: N (lbs/yr) | AK5: P (lbs/yr) | AL5: Sed (tons/yr)
C6: Tree Canopy | D6: =VLOOKUP($A$1,LANDCOVER,3) -> 0 | E6: =D6/$D$16 -> #DIV/0! | F6: =IF($D$3<0.05*AA6,0,($D$3-AB6)^2/($D$3-AB6+AA6)) -> 0 | G6: =D6*F6*43560/12/1000 -> 0 | H6: =IFERROR(($AG6/$AC6-1)*G6,0) -> 0 | J6: Tree Canopy | K6: =VLOOKUP($A$1,LANDCOVERPOT,3) -> 0 | L6: =K6/$K$16 -> #DIV/0! | M6: =K6*$F6*43560/12/1000 -> 0 | P6: Tree Canopy | Q6: =D6*INDIRECT("Summary!j"&(12+A1)) -> 0 | R6: =(K6-D6)*INDIRECT("Summary!p"&(12+A1)) -> 0 | V6: =D6-Q6+R6+U6 -> 0 | X6: 1 | Y6: =C6 -> Tree Canopy | Z6: =IF(D6<=0,TheModel!I28,VLOOKUP($A$1,CompositeCN,$X6+1)) -> 59 | AA6: =IFERROR(1000/Z6-10,0) -> 6.9491525 | AB6: =0.2*AA6+ModelCi -> 1.4398305 | AC6: =IF($D$3<0.05*AA6,0,($D$3-AB6)^2/($D$3-AB6+AA6)) -> 0 | AD6: =INDIRECT("LC_HSG_Data!CS"&(5+A1)) -> #DIV/0! | AE6: =IFERROR(1000/AD6-10,0) -> 0 | AF6: =0.2*AE6 -> 0 | AG6: =IF($D$3<0.05*AE6,0,($D$3-AF6)^2/($D$3-AF6+AE6)) -> #DIV/0! | AI6: Tree Canopy | AJ6: {=D6:D15*loads} -> 0 | AK6: 0 | AL6: 0
C7: Tree Canopy over Impervious | D7: =VLOOKUP($A$1,LANDCOVER,4) -> 0 | E7: =D7/$D$16 -> #DIV/0! | F7: =IF($D$3<0.05*AA7,0,($D$3-AB7)^2/($D$3-AB7+AA7)) -> 0 | G7: =D7*F7*43560/12/1000 -> 0 | H7: =IFERROR(($AC10/$AC7-1)*G7,0) -> 0 | J7: Tree Canopy over Impervious | K7: =VLOOKUP($A$1,LANDCOVERPOT,4) -> 0 | L7: =K7/$K$16 -> #DIV/0! | M7: =K7*$F7*43560/12/1000 -> 0 | P7: Tree Canopy over Impervious | Q7: =D7*INDIRECT("Summary!j"&(12+A1)) -> 0 | R7: =(K7-D7)*INDIRECT("Summary!p"&(12+A1)) -> 0 | V7: =D7-Q7+R7 -> 0 | X7: 2 | Y7: =C7 -> Tree Canopy over Impervious | Z7: =IF(D7<=0,TheModel!I29,VLOOKUP($A$1,CompositeCN,$X7+1)) -> 96 | AA7: =IFERROR(1000/Z7-10,0) -> 0.41666667 | AB7: =0.2*AA7+ModelCi -> 0.13333333 | AC7: =IF($D$3<0.05*AA7,0,($D$3-AB7)^2/($D$3-AB7+AA7)) -> 0 | AI7: Tree Canopy over Impervious | AJ7: 0 | AK7: 0 | AL7: 0
C8: Pervious | D8: =VLOOKUP($A$1,LANDCOVER,5) -> 0 | E8: =D8/$D$16 -> #DIV/0! | F8: =IF($D$3<0.05*AA8,0,($D$3-AB8)^2/($D$3-AB8+AA8)) -> 0 | G8: =D8*F8*43560/12/1000 -> 0 | J8: Pervious | K8: =VLOOKUP($A$1,LANDCOVERPOT,5) -> 0 | L8: =K8/$K$16 -> #DIV/0! | M8: =K8*$F8*43560/12/1000 -> 0 | N8: =(Q8*(AC8-AG8)+S8*(AC8-AG9))*43560/12/1000 -> #DIV/0! | P8: Pervious | Q8: =R6 -> 0 | R8: =Q6*(1-Summary!L15) -> 0 | S8: =T12 -> 0 | T8: =SUM(S12,S13)*(1-INDIRECT("Summary!l"&(12+A1))) -> 0 | V8: =D8-Q8+R8-S8+T8+U8 -> 0 | X8: 3 | Y8: =C8 -> Pervious | Z8: =IF(D8<=0,Z6-CNadj,VLOOKUP($A$1,CompositeCN,$X8+1)) -> 61 | AA8: =IFERROR(1000/Z8-10,0) -> 6.3934426 | AB8: =0.2*AA8 -> 1.2786885 | AC8: =IF($D$3<0.05*AA8,0,($D$3-AB8)^2/($D$3-AB8+AA8)) -> 0 | AD8: =INDIRECT("LC_HSG_Data!CU"&(5+A1)) -> #DIV/0! | AE8: =IFERROR(1000/AD8-10,0) -> 0 | AF8: =0.2*AE8 -> 0 | AG8: =IF($D$3<0.05*AE8,0,($D$3-AF8)^2/($D$3-AF8+AE8)) -> #DIV/0! | AI8: Pervious | AJ8: 0 | AK8: 0 | AL8: 0
C9: Water | D9: =VLOOKUP($A$1,LANDCOVER,6) -> 0 | E9: =D9/$D$16 -> #DIV/0! | F9: =IF($D$3<0.05*AA9,0,($D$3-AB9)^2/($D$3-AB9+AA9)) -> #DIV/0! | G9: =D9*F9*43560/12/1000 -> #DIV/0! | J9: Water | K9: =VLOOKUP($A$1,LANDCOVERPOT,6) -> 0 | L9: =K9/$K$16 -> #DIV/0! | M9: =K9*$F9*43560/12/1000 -> #DIV/0! | P9: Water | V9: =D9 -> 0 | X9: 4 | Y9: =C9 -> Water | Z9: =IF(D9<=0,TheModel!I31,VLOOKUP($A$1,CompositeCN,$X9+1)) -> 100 | AA9: =IFERROR(1000/Z9-10,0) -> 0 | AB9: =0.2*AA9 -> 0 | AC9: =IF($D$3<0.05*AA9,0,($D$3-AB9)^2/($D$3-AB9+AA9)) -> #DIV/0! | AD9: =INDIRECT("LC_HSG_Data!CV"&(5+A1)) -> #DIV/0! | AE9: =IFERROR(1000/AD9-10,0) -> 0 | AF9: =0.2*AE9 -> 0 | AG9: =IF($D$3<0.05*AE9,0,($D$3-AF9)^2/($D$3-AF9+AE9)) -> #DIV/0! | AI9: Water | AJ9: 0 | AK9: 0 | AL9: 0
