Workbook
Name bare: TheModel!$G$65:$I$65
Name Ci: TheModel!$I$46:$K$46
Name CN_FOS: TheModel!$G$34:$M$34
Name CN_PER: TheModel!$G$30:$M$30
Name CN_TCP: TheModel!$G$28:$M$28
Name CNadj: Events!$C$12
Name CommunityName: #REF!
Name CompositeCN: LC_HSG_Data!$CG$6:$CQ$69
Name Design_Event: Events!$B$2:$B$9
Name impervious: TheModel!$G$64:$I$64
Name LANDCOVER: Landcover!$A$4:$M$68
Name LANDCOVERPOT: LandcoverPotential!$A$4:$M$68
Name loads: TheModel!$G$60:$I$69
Name LossCF: '1'!$Y$23
Name LossCF: '2'!$Y$23
Name LossCF: '3'!$Y$23
Name LossCF: #REF!
Name Mgal: TheModel!$E$73
Name ModelCi: Events!$C$13
Name nloads: TheModel!$G$60:$G$69
Name pervious: TheModel!$G$62:$I$62
Name ploads: TheModel!$H$60:$H$69
Name sedloads: TheModel!$I$60:$I$69
Name TCN: TheModel!$I$47:$K$47
Name wetland: TheModel!$G$68:$I$68

Sheet Instructions
B1: What this model does (and does not) do
A2: * | B2: You can use this template to estimate the quantity of stormwater captured by tree canopies for areas of mixed landcover. You can obtain estimates for multiple regions with different landcover mixes. Rough estimates of N, P and sediment load reductions provided by tree canopy are also provided.
A4: * | B4: You can use this template to simulate different scenarios of tree canopy loss or addition, and see the resulting changes in stormwater capture and nutrient load reductions. This feature if design to help communities set realistic tree canopy goals and estimate the benefits of obtaining those goals.
A6: * | B6: Required inputs for the model are acres of landcover by hydrologic soils groups (A,B,C & D). These can be generated in a GIS using landcover and soil map layers. Alternatively, if you have the required data in tabular form, or from development plans, you can populate the required data sheets manually.
A8: * | B8: The summary tab can be used to create various scenarios and see the summary results immediately.
A9: * | B9: This model is not accurate enough for stormwater engineering projects and should not be used for engineering or permitting purposes.
A10: * | B10: While design stormwater events are used in simulation, actual runoff yields will vary with antecedent conditions and the health and leaf-on/off condition of the tree canopy
A11: How to use this model
B12: Steps for a new analysis | C12: Sheet | D12: Cell
A13: 1 | B13: Enter community name | C13: Summary | D13: A1
A14: 2 | B14: Load landcover data | C14: Landcover | D14: B5:K68
A15: 3 | B15: Load landcover potential data | C15: LoandcoverPotential | D15: B5:K68
A16: 4 | B16: Load landcover/soils data | C16: LC_HSG_Data | D16: B6:CE69
A17: 5 | B17: Enter storm event data | C17: Events | D17: B3:D9
A18: 6 | B18: Set canopy interception parameter | C18: Events | D18: C12
A19: 7 | B19: Set curve number adjustment parameter | C19: Events | D19: C13
A20: 9 | B20: Copy basin spreadsheets | C20: 1
B22: NOTES
B23: This model allows the user to modify some assumptions, drainage basin by drainage basin, and see the impact upon stormwater runoff yield and precent tree canopy.
B26: To run different scenarios the user can change, for one or more drainage basins, the following parameters. Within each drainage basin tab (Tabs 1-12) the user can modify the cells corresponding to each parameter.
C28: Parameter | D28: Cell | E28: Description
C29: Storm event | D29: C3 | E29: Precipitation from a given storm event
C30: Ci | D30: F14 | E30: canopy interception term
C31: CN adjust | D31: L64 | E31: CN adjustment for tree impact on soil
C32: % loss | D32: I16 | E32: Canopy loss %
C33: % impervious | D33: I15 | E33: % impervious of landcover after loss of canopy
C34: Tree canopy goal | D34: Q16 | E34: % tree canopy set as a goal (constrained by max potential canopy estimates)
C36: Abbreviations | E36: Description
C37: PCA | E37: Potential Canopy Area - areas where additional tree canopy is possible
C38: N | E38: Nitrogen - a common nutrient found in stormwater runoff that contributes to poor water quality
C39: P | E39: Phosphourus - a common nutrient found in stormwater runoff that contributes to poor water quality
C40: SED | E40: Sediment - soil particles that erode from the landscape and get carried away by stormwater into local waterways and cause poor water quality
C41: CN | E41: Curve Number - a number stormwater engineers use to calculate surface runoff based on land cover and underlying soils
C42: WS | E42: Watershed - an area of land where all of the water drains to a single location
C43: TC | E43: Tree Canopy - tree cover in a given area (includes urban tree canopy and forested open space)
C44: UTC | E44: Urban Tree Canopy - composed of individual trees and small patches of trees surrounded by lawn or pavement
C45: FOS | E45: Forested Open Space - large patches of trees with multiple layers of understory vegetation, litter layer and more organic soils
B47: The results will be updated automatically on the summary tab.
B49: Cell format legend
B50: Data Input
B51: Changeable Default (not recommended)
B52: Calculations
B53: Loss in Canopy Cover
B55: Explanatory

Sheet Summary
A1: =Events!D3 -> 0 | D1: Urban Tree Canopy Stormwater Model | I1: version | J1: 45786
C2: The Green Infrastructure Urban Tree Canopy Stormwater Model estimates stormwater runoff yields for current and potential land cover. The methodology is based upon the NRCS TR-55 method for small urban watersheds. It is used to provide better estimates using GIC's high-resolution land cover and modeling of potential canopy area.
AG6: TC+Tcimperv
AG7: =SUM(AF9+AG9) -> 0
E8: million gallons | AD8: Acres
B9: TOTALS | C9: =SUMPRODUCT(C13:C76,Landcover!$N$5:$N$68)/Landcover!$N$3 -> #DIV/0! | D9: =Landcover!G3/Landcover!N3 -> #DIV/0! | E9: =SUM(E13:E76) -> 0 | F9: =SUM(F13:F76) -> 0 | G9: =SUM(G13:G76) -> 0 | H9: =SUMPRODUCT(H13:H76,Landcover!$N$5:$N$68)/Landcover!$N$3 -> #DIV/0! | Q9: =SUM(Q13:Q76) -> 0 | R9: =SUMPRODUCT(R13:R76,AD13:AD76)/SUM(AD13:AD76) -> #DIV/0! | S9: =SUM(S13:S76) -> 0 | T9: =SUMPRODUCT(T13:T76,AD13:AD76)/SUM(AD13:AD76) -> #DIV/0! | U9: =SUM(U13:U76) -> 0 | V9: =SUMPRODUCT(V13:V76,AD13:AD76)/SUM(AD13:AD76) -> #DIV/0! | W9: =SUM(W13:W76) -> 0 | X9: =SUMPRODUCT(X13:X76,AD13:AD76)/SUM(AD13:AD76) -> #DIV/0! | Y9: =SUM(Y13:Y76) -> 0 | Z9: =SUMPRODUCT(Z13:Z76,AD13:AD76)/SUM(AD13:AD76) -> #DIV/0! | AA9: =SUM(AA13:AA76) -> 0 | AB9: =SUMPRODUCT(AB13:AB76,AD13:AD76)/SUM(AD13:AD76) -> #DIV/0! | AD9: =SUM(AD13:AD76) -> 0 | AE9: =SUM(AE13:AE76) -> 0 | AF9: =SUM(AF13:AF76) -> 0 | AG9: =SUM(AG13:AG76) -> 0 | AH9: =SUM(AH13:AH76) -> 0 | AI9: =SUM(AI13:AI76) -> 0 | AJ9: =SUM(AJ13:AJ76) -> 0 | AK9: =SUM(AK13:AK76) -> 0
B10: Statistics by Drainage Basin (current settings) | I10: Variable | P10: Variable | Q10: Statistics by Drainage Basin (current settings) | AD10: Supporting Calculations
B11: Area | C11: Current Tree Cover | D11: Current Impervious Cover | E11: Tree H20 Capture | F11: Increased H2O w/xx% tree loss | G11: Added H2O Capture w/xx% PCA | H11: Adjusted Tree Cover from loss and gain scenarios | I11: Pick an Event | J11: Pick a loss scenario | L11: Converted Land | O11: Canopy Added | P11: Enter % canopy to add | Q11: Non-Point Pollution Captured by Existing Trees (% = percent of total load without trees) | W11: Change in Pollution Load from Landuse Variables (% = percent increase or decrease of total load)
C12: % | E12: million gallons | H12: % | I12: Event | J12: % UTC loss | K12: % FOS Loss | L12: % Imperv | M12: Max TC Possible | N12: Maximum Potential Added Canopy Area | O12: % Canopy Added | P12: % of PCA achieved | Q12: N lbs/yr | R12: N (%) | S12: P lbs/yr | T12: P (%) | U12: SED t/yr | V12: SED (%) | W12: N lbs/yr | X12: N (%) | Y12: P lbs/yr | Z12: P (%) | AA12: SED t/yr | AB12: SED (%) | AD12: Total Area WS | AE12: Area WS (minus wetland, water) | AF12: Current Tree Cover | AG12: Current Impervious Cover | AH12: Current Pervious Cover | AI12: Potential Additional Canopy Area | AJ12: UTC Loss | AK12: FOS Loss
A13: 1 | B13: =IF(ISNONTEXT(Landcover!B5),"",Landcover!B5) | C13: =IFERROR(INDIRECT($A13&"!h19"),"") | D13: =IFERROR(INDIRECT($A13&"!h20"),"") -> 0 | E13: =IFERROR(INDIRECT($A13&"!h22"),"") -> 0 | F13: =IFERROR(INDIRECT($A13&"!e31"),"") -> 0 | G13: =IFERROR(INDIRECT($A13&"!n22"),"") | H13: =IFERROR(((C13-(C13*((J13+K13)/2)))+O13),"") | I13: 1 yr / 24 hour | J13: 0 | K13: 0 | L13: 0 | M13: =IFERROR(INDIRECT($A13&"!n19"),"") | N13: =IFERROR(M13-C13,"") | O13: =IFERROR((M13-C13)*P13,"") | P13: 0 | Q13: =IFERROR(ROUND(INDIRECT($A13&"!AJ17"),0), "") -> 0 | R13: =IFERROR(ROUND(INDIRECT($A13&"!AJ18"),0),"") | S13: =IFERROR(ROUND(INDIRECT($A13&"!AK17"),0),"") -> 0 | T13: =IFERROR(ROUND(INDIRECT($A13&"!AK18"),0),"") | U13: =IFERROR(ROUND(INDIRECT($A13&"!AL17"),0),"") -> 0 | V13: =IFERROR(ROUND(INDIRECT($A13&"!AL18"),0),"") | W13: =IFERROR(ROUND(INDIRECT($A13&"!AJ25"),0),"") -> 0 | X13: =IFERROR(ROUND(INDIRECT($A13&"!AJ26"),0),"") | Y13: =IFERROR(ROUND(INDIRECT($A13&"!AK25"),0),"") -> 0 | Z13: =IFERROR(ROUND(INDIRECT($A13&"!AK26"),0),"") | AA13: =IFERROR(ROUND(INDIRECT($A13&"!AL25"),0),"") -> 0 | AB13: =IFERROR(ROUND(INDIRECT($A13&"!AL26"),0),"") | AD13: =IFERROR(INDIRECT($A13&"!d16"),"") -> 0 | AE13: =IFERROR(INDIRECT($A13&"!d35"),"") -> 0 | AF13: =IFERROR(INDIRECT($A13&"!d36"),"") -> 0 | AG13: =IFERROR(INDIRECT($A13&"!d38"),"") -> 0 | AH13: =IFERROR(INDIRECT($A13&"!d39"),"") -> 0 | AI13: =IFERROR(INDIRECT($A13&"!d40"),"") -> 0 | AJ13: =IFERROR(INDIRECT($A13&"!d41"),"") -> 0 | AK13: =IFERROR(INDIRECT($A13&"!d42"),"") -> 0
A14: 2 | B14: =IF(ISNONTEXT(Landcover!B6),"",Landcover!B6) | C14: =IFERROR(INDIRECT($A14&"!h19"),"") | D14: =IFERROR(INDIRECT($A14&"!h20"),"") -> 0 | E14: =IFERROR(INDIRECT($A14&"!h22"),"") -> 0 | F14: =IFERROR(INDIRECT($A14&"!e31"),"") -> 0 | G14: =IFERROR(INDIRECT($A14&"!n22"),"") | H14: =IFERROR(((C14-(C14*((J14+K14)/2)))+O14),"") | I14: 1 yr / 24 hour | J14: 0 | K14: 0 | L14: 0 | M14: =IFERROR(INDIRECT($A14&"!n19"),"") | N14: =IFERROR(M14-C14,"") | O14: =IFERROR((M14-C14)*P14,"") | P14: 0 | Q14: =IFERROR(ROUND(INDIRECT($A14&"!AJ17"),0), "") -> 0 | R14: =IFERROR(ROUND(INDIRECT($A14&"!AJ18"),0),"") | S14: =IFERROR(ROUND(INDIRECT($A14&"!AK17"),0),"") -> 0 | T14: =IFERROR(ROUND(INDIRECT($A14&"!AK18"),0),"") | U14: =IFERROR(ROUND(INDIRECT($A14&"!AL17"),0),"") -> 0 | V14: =IFERROR(ROUND(INDIRECT($A14&"!AL18"),0),"") | W14: =IFERROR(ROUND(INDIRECT($A14&"!AJ25"),0),"") -> 0 | X14: =IFERROR(ROUND(INDIRECT($A14&"!AJ26"),0),"") | Y14: =IFERROR(ROUND(INDIRECT($A14&"!AK25"),0),"") -> 0 | Z14: =IFERROR(ROUND(INDIRECT($A14&"!AK26"),0),"") | AA14: =IFERROR(ROUND(INDIRECT($A14&"!AL25"),0),"") -> 0 | AB14: =IFERROR(ROUND(INDIRECT($A14&"!AL26"),0),"") | AD14: =IFERROR(INDIRECT($A14&"!d16"),"") -> 0 | AE14: =IFERROR(INDIRECT($A14&"!d35"),"") -> 0 | AF14: =IFERROR(INDIRECT($A14&"!d36"),"") -> 0 | AG14: =IFERROR(INDIRECT($A14&"!d38"),"") -> 0 | AH14: =IFERROR(INDIRECT($A14&"!d39"),"") -> 0 | AI14: =IFERROR(INDIRECT($A14&"!d40"),"") -> 0 | AJ14: =IFERROR(INDIRECT($A14&"!d41"),"") -> 0 | AK14: =IFERROR(INDIRECT($A14&"!d42"),"") -> 0
A15: 3 | B15: =IF(ISNONTEXT(Landcover!B7),"",Landcover!B7) | C15: =IFERROR(INDIRECT($A15&"!h19"),"") | D15: =IFERROR(INDIRECT($A15&"!h20"),"") -> 0 | E15: =IFERROR(INDIRECT($A15&"!h22"),"") -> 0 | F15: =IFERROR(INDIRECT($A15&"!e31"),"") -> 0 | G15: =IFERROR(INDIRECT($A15&"!n22"),"") | H15: =IFERROR(((C15-(C15*((J15+K15)/2)))+O15),"") | I15: 1 yr / 24 hour | J15: 0 | K15: 0 | L15: 0 | M15: =IFERROR(INDIRECT($A15&"!n19"),"") | N15: =IFERROR(M15-C15,"") | O15: =IFERROR((M15-C15)*P15,"") | P15: 0 | Q15: =IFERROR(ROUND(INDIRECT($A15&"!AJ17"),0), "") -> 0 | R15: =IFERROR(ROUND(INDIRECT($A15&"!AJ18"),0),"") | S15: =IFERROR(ROUND(INDIRECT($A15&"!AK17"),0),"") -> 0 | T15: =IFERROR(ROUND(INDIRECT($A15&"!AK18"),0),"") | U15: =IFERROR(ROUND(INDIRECT($A15&"!AL17"),0),"") -> 0 | V15: =IFERROR(ROUND(INDIRECT($A15&"!AL18"),0),"") | W15: =IFERROR(ROUND(INDIRECT($A15&"!AJ25"),0),"") -> 0 | X15: =IFERROR(ROUND(INDIRECT($A15&"!AJ26"),0),"") | Y15: =IFERROR(ROUND(INDIRECT($A15&"!AK25"),0),"") -> 0 | Z15: =IFERROR(ROUND(INDIRECT($A15&"!AK26"),0),"") | AA15: =IFERROR(ROUND(INDIRECT($A15&"!AL25"),0),"") -> 0 | AB15: =IFERROR(ROUND(INDIRECT($A15&"!AL26"),0),"") | AD15: =IFERROR(INDIRECT($A15&"!d16"),"") -> 0 | AE15: =IFERROR(INDIRECT($A15&"!d35"),"") -> 0 | AF15: =IFERROR(INDIRECT($A15&"!d36"),"") -> 0 | AG15: =IFERROR(INDIRECT($A15&"!d38"),"") -> 0 | AH15: =IFERROR(INDIRECT($A15&"!d39"),"") -> 0 | AI15: =IFERROR(INDIRECT($A15&"!d40"),"") -> 0 | AJ15: =IFERROR(INDIRECT($A15&"!d41"),"") -> 0 | AK15: =IFERROR(INDIRECT($A15&"!d42"),"") -> 0
A16: 4 | B16: =IF(ISNONTEXT(Landcover!B8),"",Landcover!B8) | C16: =IFERROR(INDIRECT($A16&"!h19"),"") | D16: =IFERROR(INDIRECT($A16&"!h20"),"") | E16: =IFERROR(INDIRECT($A16&"!h22"),"") | F16: =IFERROR(INDIRECT($A16&"!e31"),"") | G16: =IFERROR(INDIRECT($A16&"!n22"),"") | H16: =IFERROR(((C16-(C16*((J16+K16)/2)))+O16),"") | I16: 1 yr / 24 hour | J16: 0 | K16: 0 | L16: 0 | M16: =IFERROR(INDIRECT($A16&"!n19"),"") | N16: =IFERROR(M16-C16,"") | O16: =IFERROR((M16-C16)*P16,"") | P16: 0 | Q16: =IFERROR(ROUND(INDIRECT($A16&"!AJ17"),0), "") | R16: =IFERROR(ROUND(INDIRECT($A16&"!AJ18"),0),"") | S16: =IFERROR(ROUND(INDIRECT($A16&"!AK17"),0),"") | T16: =IFERROR(ROUND(INDIRECT($A16&"!AK18"),0),"") | U16: =IFERROR(ROUND(INDIRECT($A16&"!AL17"),0),"") | V16: =IFERROR(ROUND(INDIRECT($A16&"!AL18"),0),"") | W16: =IFERROR(ROUND(INDIRECT($A16&"!AJ25"),0),"") | X16: =IFERROR(ROUND(INDIRECT($A16&"!AJ26"),0),"") | Y16: =IFERROR(ROUND(INDIRECT($A16&"!AK25"),0),"") | Z16: =IFERROR(ROUND(INDIRECT($A16&"!AK26"),0),"") | AA16: =IFERROR(ROUND(INDIRECT($A16&"!AL25"),0),"") | AB16: =IFERROR(ROUND(INDIRECT($A16&"!AL26"),0),"") | AD16: =IFERROR(INDIRECT($A16&"!d16"),"") | AE16: =IFERROR(INDIRECT($A16&"!d35"),"") | AF16: =IFERROR(INDIRECT($A16&"!d36"),"") | AG16: =IFERROR(INDIRECT($A16&"!d38"),"") | AH16: =IFERROR(INDIRECT($A16&"!d39"),"") | AI16: =IFERROR(INDIRECT($A16&"!d40"),"") | AJ16: =IFERROR(INDIRECT($A16&"!d41"),"") | AK16: =IFERROR(INDIRECT($A16&"!d42"),"")
A17: 5 | B17: =IF(ISNONTEXT(Landcover!B9),"",Landcover!B9) | C17: =IFERROR(INDIRECT($A17&"!h19"),"") | D17: =IFERROR(INDIRECT($A17&"!h20"),"") | E17: =IFERROR(INDIRECT($A17&"!h22"),"") | F17: =IFERROR(INDIRECT($A17&"!e31"),"") | G17: =IFERROR(INDIRECT($A17&"!n22"),"") | H17: =IFERROR(((C17-(C17*((J17+K17)/2)))+O17),"") | I17: 1 yr / 24 hour | J17: 0 | K17: 0 | L17: 0 | M17: =IFERROR(INDIRECT($A17&"!n19"),"") | N17: =IFERROR(M17-C17,"") | O17: =IFERROR((M17-C17)*P17,"") | P17: 0 | Q17: =IFERROR(ROUND(INDIRECT($A17&"!AJ17"),0), "") | R17: =IFERROR(ROUND(INDIRECT($A17&"!AJ18"),0),"") | S17: =IFERROR(ROUND(INDIRECT($A17&"!AK17"),0),"") | T17: =IFERROR(ROUND(INDIRECT($A17&"!AK18"),0),"") | U17: =IFERROR(ROUND(INDIRECT($A17&"!AL17"),0),"") | V17: =IFERROR(ROUND(INDIRECT($A17&"!AL18"),0),"") | W17: =IFERROR(ROUND(INDIRECT($A17&"!AJ25"),0),"") | X17: =IFERROR(ROUND(INDIRECT($A17&"!AJ26"),0),"") | Y17: =IFERROR(ROUND(INDIRECT($A17&"!AK25"),0),"") | Z17: =IFERROR(ROUND(INDIRECT($A17&"!AK26"),0),"") | AA17: =IFERROR(ROUND(INDIRECT($A17&"!AL25"),0),"") | AB17: =IFERROR(ROUND(INDIRECT($A17&"!AL26"),0),"") | AD17: =IFERROR(INDIRECT($A17&"!d16"),"") | AE17: =IFERROR(INDIRECT($A17&"!d35"),"") | AF17: =IFERROR(INDIRECT($A17&"!d36"),"") | AG17: =IFERROR(INDIRECT($A17&"!d38"),"") | AH17: =IFERROR(INDIRECT($A17&"!d39"),"") | AI17: =IFERROR(INDIRECT($A17&"!d40"),"") | AJ17: =IFERROR(INDIRECT($A17&"!d41"),"") | AK17: =IFERROR(INDIRECT($A17&"!d42"),"")
A18: 6 | B18: =IF(ISNONTEXT(Landcover!B10),"",Landcover!B10) | C18: =IFERROR(INDIRECT($A18&"!h19"),"") | D18: =IFERROR(INDIRECT($A18&"!h20"),"") | E18: =IFERROR(INDIRECT($A18&"!h22"),"") | F18: =IFERROR(INDIRECT($A18&"!e31"),"") | G18: =IFERROR(INDIRECT($A18&"!n22"),"") | H18: =IFERROR(((C18-(C18*((J18+K18)/2)))+O18),"") | I18: 1 yr / 24 hour | J18: 0 | K18: 0 | L18: 0 | M18: =IFERROR(INDIRECT($A18&"!n19"),"") | N18: =IFERROR(M18-C18,"") | O18: =IFERROR((M18-C18)*P18,"") | P18: 0 | Q18: =IFERROR(ROUND(INDIRECT($A18&"!AJ17"),0), "") | R18: =IFERROR(ROUND(INDIRECT($A18&"!AJ18"),0),"") | S18: =IFERROR(ROUND(INDIRECT($A18&"!AK17"),0),"") | T18: =IFERROR(ROUND(INDIRECT($A18&"!AK18"),0),"") | U18: =IFERROR(ROUND(INDIRECT($A18&"!AL17"),0),"") | V18: =IFERROR(ROUND(INDIRECT($A18&"!AL18"),0),"") | W18: =IFERROR(ROUND(INDIRECT($A18&"!AJ25"),0),"") | X18: =IFERROR(ROUND(INDIRECT($A18&"!AJ26"),0),"") | Y18: =IFERROR(ROUND(INDIRECT($A18&"!AK25"),0),"") | Z18: =IFERROR(ROUND(INDIRECT($A18&"!AK26"),0),"") | AA18: =IFERROR(ROUND(INDIRECT($A18&"!AL25"),0),"") | AB18: =IFERROR(ROUND(INDIRECT($A18&"!AL26"),0),"") | AD18: =IFERROR(INDIRECT($A18&"!d16"),"") | AE18: =IFERROR(INDIRECT($A18&"!d35"),"") | AF18: =IFERROR(INDIRECT($A18&"!d36"),"") | AG18: =IFERROR(INDIRECT($A18&"!d38"),"") | AH18: =IFERROR(INDIRECT($A18&"!d39"),"") | AI18: =IFERROR(INDIRECT($A18&"!d40"),"") | AJ18: =IFERROR(INDIRECT($A18&"!d41"),"") | AK18: =IFERROR(INDIRECT($A18&"!d42"),"")
A19: 7 | B19: =IF(ISNONTEXT(Landcover!B11),"",Landcover!B11) | C19: =IFERROR(INDIRECT($A19&"!h19"),"") | D19: =IFERROR(INDIRECT($A19&"!h20"),"") | E19: =IFERROR(INDIRECT($A19&"!h22"),"") | F19: =IFERROR(INDIRECT($A19&"!e31"),"") | G19: =IFERROR(INDIRECT($A19&"!n22"),"") | H19: =IFERROR(((C19-(C19*((J19+K19)/2)))+O19),"") | I19: 1 yr / 24 hour | J19: 0 | K19: 0 | L19: 0 | M19: =IFERROR(INDIRECT($A19&"!n19"),"") | N19: =IFERROR(M19-C19,"") | O19: =IFERROR((M19-C19)*P19,"") | P19: 0 | Q19: =IFERROR(ROUND(INDIRECT($A19&"!AJ17"),0), "") | R19: =IFERROR(ROUND(INDIRECT($A19&"!AJ18"),0),"") | S19: =IFERROR(ROUND(INDIRECT($A19&"!AK17"),0),"") | T19: =IFERROR(ROUND(INDIRECT($A19&"!AK18"),0),"") | U19: =IFERROR(ROUND(INDIRECT($A19&"!AL17"),0),"") | V19: =IFERROR(ROUND(INDIRECT($A19&"!AL18"),0),"") | W19: =IFERROR(ROUND(INDIRECT($A19&"!AJ25"),0),"") | X19: =IFERROR(ROUND(INDIRECT($A19&"!AJ26"),0),"") | Y19: =IFERROR(ROUND(INDIRECT($A19&"!AK25"),0),"") | Z19: =IFERROR(ROUND(INDIRECT($A19&"!AK26"),0),"") | AA19: =IFERROR(ROUND(INDIRECT($A19&"!AL25"),0),"") | AB19: =IFERROR(ROUND(INDIRECT($A19&"!AL26"),0),"") | AD19: =IFERROR(INDIRECT($A19&"!d16"),"") | AE19: =IFERROR(INDIRECT($A19&"!d35"),"") | AF19: =IFERROR(INDIRECT($A19&"!d36"),"") | AG19: =IFERROR(INDIRECT($A19&"!d38"),"") | AH19: =IFERROR(INDIRECT($A19&"!d39"),"") | AI19: =IFERROR(INDIRECT($A19&"!d40"),"") | AJ19: =IFERROR(INDIRECT($A19&"!d41"),"") | AK19: =IFERROR(INDIRECT($A19&"!d42"),"")
A20: 8 | B20: =IF(ISNONTEXT(Landcover!B12),"",Landcover!B12) | C20: =IFERROR(INDIRECT($A20&"!h19"),"") | D20: =IFERROR(INDIRECT($A20&"!h20"),"") | E20: =IFERROR(INDIRECT($A20&"!h22"),"") | F20: =IFERROR(INDIRECT($A20&"!e31"),"") | G20: =IFERROR(INDIRECT($A20&"!n22"),"") | H20: =IFERROR(((C20-(C20*((J20+K20)/2)))+O20),"") | I20: 1 yr / 24 hour | J20: 0 | K20: 0 | L20: 0 | M20: =IFERROR(INDIRECT($A20&"!n19"),"") | N20: =IFERROR(M20-C20,"") | O20: =IFERROR((M20-C20)*P20,"") | P20: 0 | Q20: =IFERROR(ROUND(INDIRECT($A20&"!AJ17"),0), "") | R20: =IFERROR(ROUND(INDIRECT($A20&"!AJ18"),0),"") | S20: =IFERROR(ROUND(INDIRECT($A20&"!AK17"),0),"") | T20: =IFERROR(ROUND(INDIRECT($A20&"!AK18"),0),"") | U20: =IFERROR(ROUND(INDIRECT($A20&"!AL17"),0),"") | V20: =IFERROR(ROUND(INDIRECT($A20&"!AL18"),0),"") | W20: =IFERROR(ROUND(INDIRECT($A20&"!AJ25"),0),"") | X20: =IFERROR(ROUND(INDIRECT($A20&"!AJ26"),0),"") | Y20: =IFERROR(ROUND(INDIRECT($A20&"!AK25"),0),"") | Z20: =IFERROR(ROUND(INDIRECT($A20&"!AK26"),0),"") | AA20: =IFERROR(ROUND(INDIRECT($A20&"!AL25"),0),"") | AB20: =IFERROR(ROUND(INDIRECT($A20&"!AL26"),0),"") | AD20: =IFERROR(INDIRECT($A20&"!d16"),"") | AE20: =IFERROR(INDIRECT($A20&"!d35"),"") | AF20: =IFERROR(INDIRECT($A20&"!d36"),"") | AG20: =IFERROR(INDIRECT($A20&"!d38"),"") | AH20: =IFERROR(INDIRECT($A20&"!d39"),"") | AI20: =IFERROR(INDIRECT($A20&"!d40"),"") | AJ20: =IFERROR(INDIRECT($A20&"!d41"),"") | AK20: =IFERROR(INDIRECT($A20&"!d42"),"")
A21: 9 | B21: =IF(ISNONTEXT(Landcover!B13),"",Landcover!B13) | C21: =IFERROR(INDIRECT($A21&"!h19"),"") | D21: =IFERROR(INDIRECT($A21&"!h20"),"") | E21: =IFERROR(INDIRECT($A21&"!h22"),"") | F21: =IFERROR(INDIRECT($A21&"!e31"),"") | G21: =IFERROR(INDIRECT($A21&"!n22"),"") | H21: =IFERROR(((C21-(C21*((J21+K21)/2)))+O21),"") | I21: 1 yr / 24 hour | J21: 0 | K21: 0 | L21: 0 | M21: =IFERROR(INDIRECT($A21&"!n19"),"") | N21: =IFERROR(M21-C21,"") | O21: =IFERROR((M21-C21)*P21,"") | P21: 0 | Q21: =IFERROR(ROUND(INDIRECT($A21&"!AJ17"),0), "") | R21: =IFERROR(ROUND(INDIRECT($A21&"!AJ18"),0),"") | S21: =IFERROR(ROUND(INDIRECT($A21&"!AK17"),0),"") | T21: =IFERROR(ROUND(INDIRECT($A21&"!AK18"),0),"") | U21: =IFERROR(ROUND(INDIRECT($A21&"!AL17"),0),"") | V21: =IFERROR(ROUND(INDIRECT($A21&"!AL18"),0),"") | W21: =IFERROR(ROUND(INDIRECT($A21&"!AJ25"),0),"") | X21: =IFERROR(ROUND(INDIRECT($A21&"!AJ26"),0),"") | Y21: =IFERROR(ROUND(INDIRECT($A21&"!AK25"),0),"") | Z21: =IFERROR(ROUND(INDIRECT($A21&"!AK26"),0),"") | AA21: =IFERROR(ROUND(INDIRECT($A21&"!AL25"),0),"") | AB21: =IFERROR(ROUND(INDIRECT($A21&"!AL26"),0),"") | AD21: =IFERROR(INDIRECT($A21&"!d16"),"") | AE21: =IFERROR(INDIRECT($A21&"!d35"),"") | AF21: =IFERROR(INDIRECT($A21&"!d36"),"") | AG21: =IFERROR(INDIRECT($A21&"!d38"),"") | AH21: =IFERROR(INDIRECT($A21&"!d39"),"") | AI21: =IFERROR(INDIRECT($A21&"!d40"),"") | AJ21: =IFERROR(INDIRECT($A21&"!d41"),"") | AK21: =IFERROR(INDIRECT($A21&"!d42"),"")
A22: 10 | B22: =IF(ISNONTEXT(Landcover!B14),"",Landcover!B14) | C22: =IFERROR(INDIRECT($A22&"!h19"),"") | D22: =IFERROR(INDIRECT($A22&"!h20"),"") | E22: =IFERROR(INDIRECT($A22&"!h22"),"") | F22: =IFERROR(INDIRECT($A22&"!e31"),"") | G22: =IFERROR(INDIRECT($A22&"!n22"),"") | H22: =IFERROR(((C22-(C22*((J22+K22)/2)))+O22),"") | I22: 1 yr / 24 hour | J22: 0 | K22: 0 | L22: 0 | M22: =IFERROR(INDIRECT($A22&"!n19"),"") | N22: =IFERROR(M22-C22,"") | O22: =IFERROR((M22-C22)*P22,"") | P22: 0 | Q22: =IFERROR(ROUND(INDIRECT($A22&"!AJ17"),0), "") | R22: =IFERROR(ROUND(INDIRECT($A22&"!AJ18"),0),"") | S22: =IFERROR(ROUND(INDIRECT($A22&"!AK17"),0),"") | T22: =IFERROR(ROUND(INDIRECT($A22&"!AK18"),0),"") | U22: =IFERROR(ROUND(INDIRECT($A22&"!AL17"),0),"") | V22: =IFERROR(ROUND(INDIRECT($A22&"!AL18"),0),"") | W22: =IFERROR(ROUND(INDIRECT($A22&"!AJ25"),0),"") | X22: =IFERROR(ROUND(INDIRECT($A22&"!AJ26"),0),"") | Y22: =IFERROR(ROUND(INDIRECT($A22&"!AK25"),0),"") | Z22: =IFERROR(ROUND(INDIRECT($A22&"!AK26"),0),"") | AA22: =IFERROR(ROUND(INDIRECT($A22&"!AL25"),0),"") | AB22: =IFERROR(ROUND(INDIRECT($A22&"!AL26"),0),"") | AD22: =IFERROR(INDIRECT($A22&"!d16"),"") | AE22: =IFERROR(INDIRECT($A22&"!d35"),"") | AF22: =IFERROR(INDIRECT($A22&"!d36"),"") | AG22: =IFERROR(INDIRECT($A22&"!d38"),"") | AH22: =IFERROR(INDIRECT($A22&"!d39"),"") | AI22: =IFERROR(INDIRECT($A22&"!d40"),"") | AJ22: =IFERROR(INDIRECT($A22&"!d41"),"") | AK22: =IFERROR(INDIRECT($A22&"!d42"),"")
A23: 11 | B23: =IF(ISNONTEXT(Landcover!B15),"",Landcover!B15) | C23: =IFERROR(INDIRECT($A23&"!h19"),"") | D23: =IFERROR(INDIRECT($A23&"!h20"),"") | E23: =IFERROR(INDIRECT($A23&"!h22"),"") | F23: =IFERROR(INDIRECT($A23&"!e31"),"") | G23: =IFERROR(INDIRECT($A23&"!n22"),"") | H23: =IFERROR(((C23-(C23*((J23+K23)/2)))+O23),"") | I23: 1 yr / 24 hour | J23: 0 | K23: 0 | L23: 0 | M23: =IFERROR(INDIRECT($A23&"!n19"),"") | N23: =IFERROR(M23-C23,"") | O23: =IFERROR((M23-C23)*P23,"") | P23: 0 | Q23: =IFERROR(ROUND(INDIRECT($A23&"!AJ17"),0), "") | R23: =IFERROR(ROUND(INDIRECT($A23&"!AJ18"),0),"") | S23: =IFERROR(ROUND(INDIRECT($A23&"!AK17"),0),"") | T23: =IFERROR(ROUND(INDIRECT($A23&"!AK18"),0),"") | U23: =IFERROR(ROUND(INDIRECT($A23&"!AL17"),0),"") | V23: =IFERROR(ROUND(INDIRECT($A23&"!AL18"),0),"") | W23: =IFERROR(ROUND(INDIRECT($A23&"!AJ25"),0),"") | X23: =IFERROR(ROUND(INDIRECT($A23&"!AJ26"),0),"") | Y23: =IFERROR(ROUND(INDIRECT($A23&"!AK25"),0),"") | Z23: =IFERROR(ROUND(INDIRECT($A23&"!AK26"),0),"") | AA23: =IFERROR(ROUND(INDIRECT($A23&"!AL25"),0),"") | AB23: =IFERROR(ROUND(INDIRECT($A23&"!AL26"),0),"") | AD23: =IFERROR(INDIRECT($A23&"!d16"),"") | AE23: =IFERROR(INDIRECT($A23&"!d35"),"") | AF23: =IFERROR(INDIRECT($A23&"!d36"),"") | AG23: =IFERROR(INDIRECT($A23&"!d38"),"") | AH23: =IFERROR(INDIRECT($A23&"!d39"),"") | AI23: =IFERROR(INDIRECT($A23&"!d40"),"") | AJ23: =IFERROR(INDIRECT($A23&"!d41"),"") | AK23: =IFERROR(INDIRECT($A23&"!d42"),"")
A24: 12 | B24: =IF(ISNONTEXT(Landcover!B16),"",Landcover!B16) | C24: =IFERROR(INDIRECT($A24&"!h19"),"") | D24: =IFERROR(INDIRECT($A24&"!h20"),"") | E24: =IFERROR(INDIRECT($A24&"!h22"),"") | F24: =IFERROR(INDIRECT($A24&"!e31"),"") | G24: =IFERROR(INDIRECT($A24&"!n22"),"") | H24: =IFERROR(((C24-(C24*((J24+K24)/2)))+O24),"") | I24: 1 yr / 24 hour | J24: 0 | K24: 0 | L24: 0 | M24: =IFERROR(INDIRECT($A24&"!n19"),"") | N24: =IFERROR(M24-C24,"") | O24: =IFERROR((M24-C24)*P24,"") | P24: 0 | Q24: =IFERROR(ROUND(INDIRECT($A24&"!AJ17"),0), "") | R24: =IFERROR(ROUND(INDIRECT($A24&"!AJ18"),0),"") | S24: =IFERROR(ROUND(INDIRECT($A24&"!AK17"),0),"") | T24: =IFERROR(ROUND(INDIRECT($A24&"!AK18"),0),"") | U24: =IFERROR(ROUND(INDIRECT($A24&"!AL17"),0),"") | V24: =IFERROR(ROUND(INDIRECT($A24&"!AL18"),0),"") | W24: =IFERROR(ROUND(INDIRECT($A24&"!AJ25"),0),"") | X24: =IFERROR(ROUND(INDIRECT($A24&"!AJ26"),0),"") | Y24: =IFERROR(ROUND(INDIRECT($A24&"!AK25"),0),"") | Z24: =IFERROR(ROUND(INDIRECT($A24&"!AK26"),0),"") | AA24: =IFERROR(ROUND(INDIRECT($A24&"!AL25"),0),"") | AB24: =IFERROR(ROUND(INDIRECT($A24&"!AL26"),0),"") | AD24: =IFERROR(INDIRECT($A24&"!d16"),"") | AE24: =IFERROR(INDIRECT($A24&"!d35"),"") | AF24: =IFERROR(INDIRECT($A24&"!d36"),"") | AG24: =IFERROR(INDIRECT($A24&"!d38"),"") | AH24: =IFERROR(INDIRECT($A24&"!d39"),"") | AI24: =IFERROR(INDIRECT($A24&"!d40"),"") | AJ24: =IFERROR(INDIRECT($A24&"!d41"),"") | AK24: =IFERROR(INDIRECT($A24&"!d42"),"")
... A76: 64 | B76: =IF(ISNONTEXT(Landcover!B68),"",Landcover!B68) | C76: =IFERROR(INDIRECT($A76&"!h19"),"") | D76: =IFERROR(INDIRECT($A76&"!h20"),"") | E76: =IFERROR(INDIRECT($A76&"!h22"),"") | F76: =IFERROR(INDIRECT($A76&"!e31"),"") | G76: =IFERROR(INDIRECT($A76&"!n22"),"") | H76: =IFERROR(((C76-(C76*((J76+K76)/2)))+O76),"") | I76: 1 yr / 24 hour | J76: 0 | K76: 0 | L76: 0 | M76: =IFERROR(INDIRECT($A76&"!n19"),"") | N76: =IFERROR(M76-C76,"") | O76: =IFERROR((M76-C76)*P76,"") | P76: 0 | Q76: =IFERROR(ROUND(INDIRECT($A76&"!AJ17"),0), "") | R76: =IFERROR(ROUND(INDIRECT($A76&"!AJ18"),0),"") | S76: =IFERROR(ROUND(INDIRECT($A76&"!AK17"),0),"") | T76: =IFERROR(ROUND(INDIRECT($A76&"!AK18"),0),"") | U76: =IFERROR(ROUND(INDIRECT($A76&"!AL17"),0),"") | V76: =IFERROR(ROUND(INDIRECT($A76&"!AL18"),0),"") | W76: =IFERROR(ROUND(INDIRECT($A76&"!AJ25"),0),"") | X76: =IFERROR(ROUND(INDIRECT($A76&"!AJ26"),0),"") | Y76: =IFERROR(ROUND(INDIRECT($A76&"!AK25"),0),"") | Z76: =IFERROR(ROUND(INDIRECT($A76&"!AK26"),0),"") | AA76: =IFERROR(ROUND(INDIRECT($A76&"!AL25"),0),"") | AB76: =IFERROR(ROUND(INDIRECT($A76&"!AL26"),0),"") | AD76: =IFERROR(INDIRECT($A76&"!d16"),"") | AE76: =IFERROR(INDIRECT($A76&"!d35"),"") | AF76: =IFERROR(INDIRECT($A76&"!d36"),"") | AG76: =IFERROR(INDIRECT($A76&"!d38"),"") | AH76: =IFERROR(INDIRECT($A76&"!d39"),"") | AI76: =IFERROR(INDIRECT($A76&"!d40"),"") | AJ76: =IFERROR(INDIRECT($A76&"!d41"),"") | AK76: =IFERROR(INDIRECT($A76&"!d42"),"")
Q77: =SUM(Q13:Q16) -> 0

Sheet 1
A1: 1 | C1: =VLOOKUP(A1,LANDCOVER,2) -> 0
C2: Event | D2: P (in) | E2: Source
C3: =INDIRECT("Summary!I"&(12+A1)) -> 1 yr / 24 hour | D3: =VLOOKUP($C$3,Events!$B$3:$D$9,2,FALSE) -> 0 | E3: =VLOOKUP($C$3,Events!$B$3:$D$9,3,FALSE) -> 0
D4: Existing Landcover | J4: Potential Landcover - Increased Tree Cover | P4: Landcover Change Scenarios | Y4: Formula components | AI4: Nutrient Estimates | AJ4: Average Annual Load Estimates
D5: acres | E5: % | F5: Q Runoff (in) | G5: Runoff (TCF) | H5: Capture (TCF) | K5: acres | L5: % | M5: Runoff / acre (cf) | N5: Capture (MCF) | Q5: UTC Loss | R5: UTC Gain | S5: FOS Loss | T5: FOS Gain | U5: Error | V5: acres | Y5: Composite CN's | Z5: CN | AA5: S | AB5: Ia | AC5: Q | AD5: CN | AE5: S | AF5: Ia | AG5: Q | AI5: Chesapeake Bay Program 2017 | AJ5: N (lbs/yr) | AK5: P (lbs/yr) | AL5: Sed (tons/yr)
C6: Tree Canopy | D6: =VLOOKUP($A$1,LANDCOVER,3) -> 0 | E6: =D6/$D$16 -> #DIV/0! | F6: =IF($D$3<0.05*AA6,0,($D$3-AB6)^2/($D$3-AB6+AA6)) -> 0 | G6: =D6*F6*43560/12/1000 -> 0 | H6: =IFERROR(($AG6/$AC6-1)*G6,0) -> 0 | J6: Tree Canopy | K6: =VLOOKUP($A$1,LANDCOVERPOT,3) -> 0 | L6: =K6/$K$16 -> #DIV/0! | M6: =K6*$F6*43560/12/1000 -> 0 | P6: Tree Canopy | Q6: =D6*INDIRECT("Summary!j"&(12+A1)) -> 0 | R6: =(K6-D6)*INDIRECT("Summary!p"&(12+A1)) -> 0 | V6: =D6-Q6+R6+U6 -> 0 | X6: 1 | Y6: =C6 -> Tree Canopy | Z6: =IF(D6<=0,TheModel!I28,VLOOKUP($A$1,CompositeCN,$X6+1)) -> 59 | AA6: =IFERROR(1000/Z6-10,0) -> 6.9491525 | AB6: =0.2*AA6+ModelCi -> 1.4398305 | AC6: =IF($D$3<0.05*AA6,0,($D$3-AB6)^2/($D$3-AB6+AA6)) -> 0 | AD6: =INDIRECT("LC_HSG_Data!CS"&(5+A1)) -> #DIV/0! | AE6: =IFERROR(1000/AD6-10,0) -> 0 | AF6: =0.2*AE6 -> 0 | AG6: =IF($D$3<0.05*AE6,0,($D$3-AF6)^2/($D$3-AF6+AE6)) -> #DIV/0! | AI6: Tree Canopy | AJ6: {=D6:D15*loads} -> 0 | AK6: 0 | AL6: 0
C7: Tree Canopy over Impervious | D7: =VLOOKUP($A$1,LANDCOVER,4) -> 0 | E7: =D7/$D$16 -> #DIV/0! | F7: =IF($D$3<0.05*AA7,0,($D$3-AB7)^2/($D$3-AB7+AA7)) -> 0 | G7: =D7*F7*43560/12/1000 -> 0 | H7: =IFERROR(($AC10/$AC7-1)*G7,0) -> 0 | J7: Tree Canopy over Impervious | K7: =VLOOKUP($A$1,LANDCOVERPOT,4) -> 0 | L7: =K7/$K$16 -> #DIV/0! | M7: =K7*$F7*43560/12/1000 -> 0 | P7: Tree Canopy over Impervious | Q7: =D7*INDIRECT("Summary!j"&(12+A1)) -> 0 | R7: =(K7-D7)*INDIRECT("Summary!p"&(12+A1)) -> 0 | V7: =D7-Q7+R7 -> 0 | X7: 2 | Y7: =C7 -> Tree Canopy over Impervious | Z7: =IF(D7<=0,TheModel!I29,VLOOKUP($A$1,CompositeCN,$X7+1)) -> 96 | AA7: =IFERROR(1000/Z7-10,0) -> 0.41666667 | AB7: =0.2*AA7+ModelCi -> 0.13333333 | AC7: =IF($D$3<0.05*AA7,0,($D$3-AB7)^2/($D$3-AB7+AA7)) -> 0 | AI7: Tree Canopy over Impervious | AJ7: 0 | AK7: 0 | AL7: 0
C8: Pervious | D8: =VLOOKUP($A$1,LANDCOVER,5) -> 0 | E8: =D8/$D$16 -> #DIV/0! | F8: =IF($D$3<0.05*AA8,0,($D$3-AB8)^2/($D$3-AB8+AA8)) -> 0 | G8: =D8*F8*43560/12/1000 -> 0 | J8: Pervious | K8: =VLOOKUP($A$1,LANDCOVERPOT,5) -> 0 | L8: =K8/$K$16 -> #DIV/0! | M8: =K8*$F8*43560/12/1000 -> 0 | N8: =(Q8*(AC8-AG8)+S8*(AC8-AG9))*43560/12/1000 -> #DIV/0! | P8: Pervious | Q8: =R6 -> 0 | R8: =Q6*(1-Summary!L13) -> 0 | S8: =T12 -> 0 | T8: =SUM(S12,S13)*(1-INDIRECT("Summary!l"&(12+A1))) -> 0 | V8: =D8-Q8+R8-S8+T8+U8 -> 0 | X8: 3 | Y8: =C8 -> Pervious | Z8: =IF(D8<=0,Z6-CNadj,VLOOKUP($A$1,CompositeCN,$X8+1)) -> 61 | AA8: =IFERROR(1000/Z8-10,0) -> 6.3934426 | AB8: =0.2*AA8 -> 1.2786885 | AC8: =IF($D$3<0.05*AA8,0,($D$3-AB8)^2/($D$3-AB8+AA8)) -> 0 | AD8: =INDIRECT("LC_HSG_Data!CU"&(5+A1)) -> #DIV/0! | AE8: =IFERROR(1000/AD8-10,0) -> 0 | AF8: =0.2*AE8 -> 0 | AG8: =IF($D$3<0.05*AE8,0,($D$3-AF8)^2/($D$3-AF8+AE8)) -> #DIV/0! | AI8: Pervious | AJ8: 0 | AK8: 0 | AL8: 0
C9: Water | D9: =VLOOKUP($A$1,LANDCOVER,6) -> 0 | E9: =D9/$D$16 -> #DIV/0! | F9: =IF($D$3<0.05*AA9,0,($D$3-AB9)^2/($D$3-AB9+AA9)) -> #DIV/0! | G9: =D9*F9*43560/12/1000 -> #DIV/0! | J9: Water | K9: =VLOOKUP($A$1,LANDCOVERPOT,6) -> 0 | L9: =K9/$K$16 -> #DIV/0! | M9: =K9*$F9*43560/12/1000 -> #DIV/0! | P9: Water | V9: =D9 -> 0 | X9: 4 | Y9: =C9 -> Water | Z9: =IF(D9<=0,TheModel!I31,VLOOKUP($A$1,CompositeCN,$X9+1)) -> 100 | AA9: =IFERROR(1000/Z9-10,0) -> 0 | AB9: =0.2*AA9 -> 0 | AC9: =IF($D$3<0.05*AA9,0,($D$3-AB9)^2/($D$3-AB9+AA9)) -> #DIV/0! | AD9: =INDIRECT("LC_HSG_Data!CV"&(5+A1)) -> #DIV/0! | AE9: =IFERROR(1000/AD9-10,0) -> 0 | AF9: =0.2*AE9 -> 0 | AG9: =IF($D$3<0.05*AE9,0,($D$3-AF9)^2/($D$3-AF9+AE9)) -> #DIV/0! | AI9: Water | AJ9: 0 | AK9: 0 | AL9: 0
C10: Impervious | D10: =VLOOKUP($A$1,LANDCOVER,7) -> 0 | E10: =D10/$D$16 -> #DIV/0! | F10: =IF($D$3<0.05*AA10,0,($D$3-AB10)^2/($D$3-AB10+AA10)) -> 0 | G10: =D10*F10*43560/12/1000 -> 0 | J10: Impervious | K10: =VLOOKUP($A$1,LANDCOVERPOT,7) -> 0 | L10: =K10/$K$16 -> #DIV/0! | M10: =K10*$F10*43560/12/1000 -> 0 | N10: =Q10*(AC10-AC7)*43560/12/1000 -> 0 | P10: Impervious | Q10: =R7 -> 0 | R10: =Q6*(Summary!L13) -> 0 | T10: =SUM(S12,S13)*INDIRECT("Summary!l"&(12+A1)) -> 0 | V10: =D10-Q10+R10+T10+U10 -> 0 | X10: 5 | Y10: =C10 -> Impervious | Z10: =IF(D10<=0,Z7-CNadj,VLOOKUP($A$1,CompositeCN,$X10+1)) -> 98 | AA10: =IFERROR(1000/Z10-10,0) -> 0.20408163 | AB10: =0.2*AA10 -> 0.040816327 | AC10: =IF($D$3<0.05*AA10,0,($D$3-AB10)^2/($D$3-AB10+AA10)) -> 0 | AI10: Impervious | AJ10: 0 | AK10: 0 | AL10: 0
C11: Bare Earth | D11: =VLOOKUP($A$1,LANDCOVER,8) -> 0 | E11: =D11/$D$16 -> #DIV/0! | F11: =IF($D$3<0.05*AA11,0,($D$3-AB11)^2/($D$3-AB11+AA11)) -> 0 | G11: =D11*F11*43560/12/1000 -> 0 | J11: Bare Earth | K11: =VLOOKUP($A$1,LANDCOVERPOT,8) -> 0 | L11: =K11/$K$16 -> #DIV/0! | M11: =K11*$F11*43560/12/1000 -> 0 | P11: Bare Earth | V11: =D11 -> 0 | X11: 6 | Y11: =C11 -> Bare Earth | Z11: =IF(D11<=0,TheModel!I33,VLOOKUP($A$1,CompositeCN,$X11+1)) -> 86 | AA11: =IFERROR(1000/Z11-10,0) -> 1.627907 | AB11: =0.2*AA11 -> 0.3255814 | AC11: =IF($D$3<0.05*AA11,0,($D$3-AB11)^2/($D$3-AB11+AA11)) -> 0 | AI11: Bare Earth | AJ11: 0 | AK11: 0 | AL11: 0
C12: Forested Open Space | D12: =VLOOKUP($A$1,LANDCOVER,9) -> 0 | E12: =D12/$D$16 -> #DIV/0! | F12: =IF($D$3<0.05*AA12,0,($D$3-AB12)^2/($D$3-AB12+AA12)) -> 0 | G12: =D12*F12*43560/12/1000 -> 0 | H12: =IFERROR(($AG12/$AC12-1)*G12,0) -> 0 | J12: Forested Open Space | K12: =VLOOKUP($A$1,LANDCOVERPOT,9) -> 0 | L12: =K12/$K$16 -> #DIV/0! | M12: =K12*$F12*43560/12/1000 -> 0 | P12: Forested Open Space | S12: =D12*INDIRECT("Summary!k"&(12+A1)) -> 0 | T12: =(K12-D12)*INDIRECT("Summary!p"&(12+A1)) -> 0 | V12: =D12-S12+T12 -> 0 | X12: 7 | Y12: =C12 -> Forested Open Space | Z12: =IF(D12<=0,TheModel!I34,VLOOKUP($A$1,CompositeCN,$X12+1)) -> 55 | AA12: =IFERROR(1000/Z12-10,0) -> 8.1818182 | AB12: =0.2*AA12 -> 1.6363636 | AC12: =IF($D$3<0.05*AA12,0,($D$3-AB12)^2/($D$3-AB12+AA12)) -> 0 | AD12: =INDIRECT("LC_HSG_Data!CT"&(5+A1)) -> #DIV/0! | AE12: =IFERROR(1000/AD12-10,0) -> 0 | AF12: =0.2*AE12 -> 0 | AG12: =IF($D$3<0.05*AE12,0,($D$3-AF12)^2/($D$3-AF12+AE12)) -> #DIV/0! | AI12: Forested Open Space | AJ12: 0 | AK12: 0 | AL12: 0
C13: Forested Wetlands | D13: =VLOOKUP($A$1,LANDCOVER,10) -> 0 | E13: =D13/$D$16 -> #DIV/0! | F13: =IF($D$3<0.05*AA13,0,($D$3-AB13)^2/($D$3-AB13+AA13)) -> 0 | G13: =D13*F13*43560/12/1000 -> 0 | H13: =IFERROR(($AG13/$AC13-1)*G13,0) -> 0 | J13: Forested Wetlands | K13: =VLOOKUP($A$1,LANDCOVERPOT,10) -> 0 | L13: =K13/$K$16 -> #DIV/0! | M13: =K13*$F13*43560/12/1000 -> 0 | P13: Forested Wetlands | S13: =D13*INDIRECT("Summary!k"&(12+A1)) -> 0 | V13: =D13-S13 -> 0 | X13: 8 | Y13: =C13 -> Forested Wetlands | Z13: =IF(D13<=0,TheModel!I35,VLOOKUP($A$1,CompositeCN,$X13+1)) -> 77 | AA13: =IFERROR(1000/Z13-10,0) -> 2.987013 | AB13: =0.2*AA13 -> 0.5974026 | AC13: =IF($D$3<0.05*AA13,0,($D$3-AB13)^2/($D$3-AB13+AA13)) -> 0 | AD13: =Z14 -> 100 | AE13: =IFERROR(1000/AD13-10,0) -> 0 | AF13: =0.2*AE13 -> 0 | AG13: =IF($D$3<0.05*AE13,0,($D$3-AF13)^2/($D$3-AF13+AE13)) -> #DIV/0! | AI13: Forested Wetlands | AJ13: 0 | AK13: 0 | AL13: 0
C14: Wetlands | D14: =VLOOKUP($A$1,LANDCOVER,11) -> 0 | E14: =D14/$D$16 -> #DIV/0! | F14: =IF($D$3<0.05*AA14,0,($D$3-AB14)^2/($D$3-AB14+AA14)) -> #DIV/0! | G14: =D14*$F14*43560/12/1000 -> #DIV/0! | J14: Wetlands | K14: =VLOOKUP($A$1,LANDCOVERPOT,11) -> 0 | L14: =K14/$K$16 -> #DIV/0! | M14: =K14*$F14*43560/12/1000 -> #DIV/0! | P14: Wetlands | V14: =D14 -> 0 | X14: 9 | Y14: =C14 -> Wetlands | Z14: =IF(D14<=0,TheModel!I36,VLOOKUP($A$1,CompositeCN,$X14+1)) -> 100 | AA14: =IFERROR(1000/Z14-10,0) -> 0 | AB14: =0.2*AA14 -> 0 | AC14: =IF($D$3<0.05*AA14,0,($D$3-AB14)^2/($D$3-AB14+AA14)) -> #DIV/0! | AD14: 80 | AE14: =IFERROR(1000/AD14-10,0) -> 2.5 | AF14: =0.2*AE14 -> 0.5 | AG14: =IF($D$3<0.05*AE14,0,($D$3-AF14)^2/($D$3-AF14+AE14)) -> 0 | AI14: Wetlands | AJ14: 0 | AK14: 0 | AL14: 0
C15: Scrub/Shrub/Palm | D15: =VLOOKUP($A$1,LANDCOVER,12) -> 0 | E15: =D15/$D$16 -> #DIV/0! | F15: =IF($D$3<0.05*AA15,0,($D$3-AB15)^2/($D$3-AB15+AA15)) -> 0 | G15: =D15*$F15*43560/12/1000 -> 0 | J15: Scrub/Shrub/Palm | K15: =VLOOKUP($A$1,LANDCOVERPOT,12) -> 0 | L15: =K15/$K$16 -> #DIV/0! | M15: =K15*$F15*43560/12/1000 -> 0 | P15: Scrub/Shrub/Palm | V15: =D15 -> 0 | X15: 10 | Y15: =C15 -> Scrub/Shrub/Palm | Z15: =IF(D15<=0,TheModel!I37,VLOOKUP($A$1,CompositeCN,$X15+1)) -> 60 | AA15: =IFERROR(1000/Z15-10,0) -> 6.6666667 | AB15: =0.2*AA15 -> 1.3333333 | AC15: =IF($D$3<0.05*AA15,0,($D$3-AB15)^2/($D$3-A15+AA15)) -> 0 | AI15: Scrub/Shrub/Palm | AJ15: 0 | AK15: 0 | AL15: 0
C16: totals | D16: =SUM(D6:D15) -> 0 | G16: =SUM(G6:G15) -> #DIV/0! | H16: =SUM(H6:H15) -> 0 | J16: totals | K16: =SUM(K6:K15) -> 0 | M16: =SUM(M6:M15) -> #DIV/0! | N16: =SUM(N6:N15) -> #DIV/0! | P16: totals | Q16: =SUM(Q6:Q15) -> 0 | R16: =SUM(R6:R15) -> 0 | S16: =SUM(S6:S15) -> 0 | T16: =SUM(T6:T15) -> 0 | U16: =D16-V16 -> 0 | V16: =SUM(V6:V15) -> 0 | Y16: Matrix of Runoff Increases by Landcover Change | AI16: Total Non-Point Pollution Load from Existing Landcover | AJ16: =SUM(AJ6:AJ15) -> 0 | AK16: =SUM(AK6:AK15) -> 0 | AL16: =SUM(AL6:AL15) -> 0
Z17: Changed Landcover | AI17: Non-Point Pollution Captured by Existing Trees | AJ17: {=SUM(D6,D8,D12)*pervious+SUM(D7,D10)*impervious+D11*bare+SUM(D13,D14)*wetland-AJ16:AL16} -> 0 | AK17: 0 | AL17: 0
C18: Summary Results | J18: Summary Results | Y18: Original Landcover | Z18: P | AA18: I | AB18: W | AC18: P | AD18: I | AE18: W | AI18: Non-Point Load Reduction by Existing Trees (%) | AJ18: =AJ17/SUM(ABS(AJ17),AJ16)*100 -> #DIV/0! | AK18: =AK17/SUM(ABS(AK17),AK16)*100 -> #DIV/0! | AL18: =AL17/SUM(ABS(AL17),AL16)*100 -> #DIV/0!
C19: Percent tree canopy | F19: existing | H19: =D36/D35 -> #DIV/0! | J19: Percent tree canopy | M19: max | N19: =D37/D35 -> #DIV/0! | Y19: Tree Canopy | Z19: =AG6-AC6 -> #DIV/0! | AA19: =AC10-AC6 -> 0 | AC19: =Z19*(D6*E24)*(1-E25)*LossCF -> #DIV/0! | AD19: =AA19*(E24*D6)*(E25)*LossCF -> 0
C20: Percent Impervious | F20: existing | H20: =IFERROR(D10/D35,0) -> 0 | J20: Percent Impervious | M20: min | N20: =K10/SUM(K16,-K9) -> #DIV/0! | Y20: Tree Canopy over Impervious | AA20: =AC10-AC7 -> 0 | AD20: =AA20*D7*E24*LossCF -> 0 | AI20: Total Non-Point Pollution Load from Potential Landcover | AJ20: {=SUM(K6:K15*nloads)} -> 0 | AK20: {=SUM(K6:K15*ploads)} -> 0 | AL20: {=SUM(K6:K15*sedloads)} -> 0
C21: Runoff avoided due to trees (%) | F21: =C3 -> 1 yr / 24 hour | H21: =H16/G16 -> #DIV/0! | J21: Additional ruoff avoided (%) | M21: max | N21: =N22/H22 -> #DIV/0! | Y21: Forested Open Space | Z21: =AG12-AC12 -> #DIV/0! | AA21: =AC10-AC12 -> 0 | AC21: =Z21*D12*E27*(1-E28)*LossCF -> #DIV/0! | AD21: =AA21*D12*E27*E28*LossCF -> 0 | AI21: Non-Point Pollution Captured by New Trees | AJ21: {=AJ16:AL16-AJ20:AL20} -> 0 | AK21: 0 | AL21: 0
C22: Runoff avoided due to trees (million gallons) | F22: =C3 -> 1 yr / 24 hour | H22: =H16*7.48052/1000 -> 0 | J22: Additional runoff avoided (million gallons) | L22: max | M22: max | N22: =N16*7.48052/1000 -> #DIV/0! | Y22: Forested Wetlands | Z22: =AG14-AC13 -> 0 | AA22: =AC10-AC13 -> 0 | AC22: =Z22*D13*E27*(1-E28)*LossCF -> 0 | AD22: =AA22*D13*E27*E28*LossCF -> 0 | AI22: Additional Non-Point Load Reduction (%) | AJ22: =AJ21/AJ16*100 -> #DIV/0! | AK22: =AK21/AK16*100 -> #DIV/0! | AL22: =AL21/AL16*100 -> #DIV/0!
C23: What-If Scenarios | Y23: =43560/12/1000*7.48052/1000 -> 0.027154288 | Z23: inches | AC23: million gallons
C24: Urban tree canopy loss | E24: =INDIRECT("Summary!j"&(12+A1)) -> 0 | F24: % UTC loss | J24: GOAL: Added canopy (% of total area) | N24: =INDIRECT("Summary!h"&(12+A1)) | Y24: Note: This matrix is used to compute runoff increases in the What-If scenario | AI24: Total Non-Point Pollution Load with Loss Variables | AJ24: {=SUMPRODUCT(V6:V15,nloads)} -> 0 | AK24: =SUMPRODUCT(V6:V15,ploads) -> 0 | AL24: =SUMPRODUCT(V6:V15,sedloads) -> 0
E25: =INDIRECT("Summary!L"&(12+A1)) -> 0 | F25: <- Set % impervious | J25: TOTAL EVENT RUNOFF | K25: million gallons | N25: =H22+N22 -> #DIV/0! | Y25: The inches columns are increased depths of runoff | AI25: Change in Non-Point Pollution Load with Loss Variables | AJ25: =AJ24-AJ16 -> 0 | AK25: =AK24-AK16 -> 0 | AL25: =AL24-AL16 -> 0
C26: Additional stormwater runoff | E26: =SUM(AC19:AE20) -> #DIV/0! | F26: million gallons | Y26: The cubic feet columns are increased quantities of runoff | AI26: Change in Non-Point Pollution Load (%) | AJ26: =(AJ24-AJ16)/AJ16*100 -> #DIV/0! | AK26: =(AK24-AK16)/AK16*100 -> #DIV/0! | AL26: =(AL24-AL16)/AL16*100 -> #DIV/0!
C27: Forested open space loss | E27: =INDIRECT("Summary!k"&(12+A1)) -> 0 | F27: % FOS loss | Y27: P=pervious, I - impervious, W= Wetlands
E28: =INDIRECT("Summary!L"&(12+A1)) -> 0 | F28: <- Set % impervious
C29: Additional stormwater runoff | E29: =SUM(AC21:AE22) -> #DIV/0! | F29: million gallons
C30: TOTAL TREE CANOPY SUMMARY | E30: =IFERROR((E24*SUM(D6:D7)+E27*SUM(D12:D13))/SUM(D6:D7,D12:D13),0) -> 0 | F30: total canopy loss
C31: Additional stormwater runoff | E31: =IFERROR(SUM(E26,E29),0) -> 0 | F31: million gallons
C33: Supporting Calcs
D34: acres
C35: Area Minus Wetland and Water | D35: =D16-(D9+D14) -> 0
C36: Total Tree Canopy | D36: =SUM(D6,D7,D12,D13) -> 0
C37: Total Potential Tree Canopy | D37: =K6+K7+K12+K13 -> 0
C38: Total Impervious Area (inclding under TC) | D38: =D7+D10 -> 0
C39: Total Pervious Area (including TC) | D39: =D6+D8+D11+D12 -> 0
C40: Potential Additional Canopy Area | D40: =D37-D36 -> 0
C41: Urban Tree Canopy Loss | D41: =(D6+D7)*E24 -> 0
C42: Forest Open Space Loss | D42: =(D12)*E27 -> 0

Sheet 2
A1: 2 | C1: =VLOOKUP(A1,LANDCOVER,2) -> 0
C2: Event | D2: P (in) | E2: Source
C3: =INDIRECT("Summary!I"&(12+A1)) -> 1 yr / 24 hour | D3: =VLOOKUP($C$3,Events!$B$3:$D$9,2,FALSE) -> 0 | E3: =VLOOKUP($C$3,Events!$B$3:$D$9,3,FALSE) -> 0
D4: Existing Landcover | J4: Potential Landcover - Increased Tree Cover | P4: Landcover Change Scenarios | Y4: Formula components | AI4: Nutrient Estimates | AJ4: Average Annual Load Estimates
D5: acres | E5: % | F5: Q Runoff (in) | G5: Runoff (TCF) | H5: Capture (TCF) | K5: acres | L5: % | M5: Runoff / acre (cf) | N5: Capture (MCF) | Q5: UTC Loss | R5: UTC Gain | S5: FOS Loss | T5: FOS Gain | U5: Error | V5: acres | Y5: Composite CN's | Z5: CN | AA5: S | AB5: Ia | AC5: Q | AD5: CN | AE5: S | AF5: Ia | AG5: Q | AI5: Chesapeake Bay Program 2017 | AJ5: N (lbs/yr) | AK5: P (lbs/yr) | AL5: Sed (tons/yr)
C6: Tree Canopy | D6: =VLOOKUP($A$1,LANDCOVER,3) -> 0 | E6: =D6/$D$16 -> #DIV/0! | F6: =IF($D$3<0.05*AA6,0,($D$3-AB6)^2/($D$3-AB6+AA6)) -> 0 | G6: =D6*F6*43560/12/1000 -> 0 | H6: =IFERROR(($AG6/$AC6-1)*G6,0) -> 0 | J6: Tree Canopy | K6: =VLOOKUP($A$1,LANDCOVERPOT,3) -> 0 | L6: =K6/$K$16 -> #DIV/0! | M6: =K6*$F6*43560/12/1000 -> 0 | P6: Tree Canopy | Q6: =D6*INDIRECT("Summary!j"&(12+A1)) -> 0 | R6: =(K6-D6)*INDIRECT("Summary!p"&(12+A1)) -> 0 | V6: =D6-Q6+R6+U6 -> 0 | X6: 1 | Y6: =C6 -> Tree Canopy | Z6: =IF(D6<=0,TheModel!I28,VLOOKUP($A$1,CompositeCN,$X6+1)) -> 59 | AA6: =IFERROR(1000/Z6-10,0) -> 6.9491525 | AB6: =0.2*AA6+ModelCi -> 1.4398305 | AC6: =IF($D$3<0.05*AA6,0,($D$3-AB6)^2/($D$3-AB6+AA6)) -> 0 | AD6: =INDIRECT("LC_HSG_Data!CS"&(5+A1)) -> #DIV/0! | AE6: =IFERROR(1000/AD6-10,0) -> 0 | AF6: =0.2*AE6 -> 0 | AG6: =IF($D$3<0.05*AE6,0,($D$3-AF6)^2/($D$3-AF6+AE6)) -> #DIV/0! | AI6: Tree Canopy | AJ6: {=D6:D15*loads} -> 0 | AK6: 0 | AL6: 0
C7: Tree Canopy over Impervious | D7: =VLOOKUP($A$1,LANDCOVER,4) -> 0 | E7: =D7/$D$16 -> #DIV/0! | F7: =IF($D$3<0.05*AA7,0,($D$3-AB7)^2/($D$3-AB7+AA7)) -> 0 | G7: =D7*F7*43560/12/1000 -> 0 | H7: =IFERROR(($AC10/$AC7-1)*G7,0) -> 0 | J7: Tree Canopy over Impervious | K7: =VLOOKUP($A$1,LANDCOVERPOT,4) -> 0 | L7: =K7/$K$16 -> #DIV/0! | M7: =K7*$F7*43560/12/1000 -> 0 | P7: Tree Canopy over Impervious | Q7: =D7*INDIRECT("Summary!j"&(12+A1)) -> 0 | R7: =(K7-D7)*INDIRECT("Summary!p"&(12+A1)) -> 0 | V7: =D7-Q7+R7 -> 0 | X7: 2 | Y7: =C7 -> Tree Canopy over Impervious | Z7: =IF(D7<=0,TheModel!I29,VLOOKUP($A$1,CompositeCN,$X7+1)) -> 96 | AA7: =IFERROR(1000/Z7-10,0) -> 0.41666667 | AB7: =0.2*AA7+ModelCi -> 0.13333333 | AC7: =IF($D$3<0.05*AA7,0,($D$3-AB7)^2/($D$3-AB7+AA7)) -> 0 | AI7: Tree Canopy over Impervious | AJ7: 0 | AK7: 0 | AL7: 0
C8: Pervious | D8: =VLOOKUP($A$1,LANDCOVER,5) -> 0 | E8: =D8/$D$16 -> #DIV/0! | F8: =IF($D$3<0.05*AA8,0,($D$3-AB8)^2/($D$3-AB8+AA8)) -> 0 | G8: =D8*F8*43560/12/1000 -> 0 | J8: Pervious | K8: =VLOOKUP($A$1,LANDCOVERPOT,5) -> 0 | L8: =K8/$K$16 -> #DIV/0! | M8: =K8*$F8*43560/12/1000 -> 0 | N8: =(Q8*(AC8-AG8)+S8*(AC8-AG9))*43560/12/1000 -> #DIV/0! | P8: Pervious | Q8: =R6 -> 0 | R8: =Q6*(1-Summary!L14) -> 0 | S8: =T12 -> 0 | T8: =SUM(S12,S13)*(1-INDIRECT("Summary!l"&(12+A1))) -> 0 | V8: =D8-Q8+R8-S8+T8+U8 -> 0 | X8: 3 | Y8: =C8 -> Pervious | Z8: =IF(D8<=0,Z6-CNadj,VLOOKUP($A$1,CompositeCN,$X8+1)) -> 61 | AA8: =IFERROR(1000/Z8-10,0) -> 6.3934426 | AB8: =0.2*AA8 -> 1.2786885 | AC8: =IF($D$3<0.05*AA8,0,($D$3-AB8)^2/($D$3-AB8+AA8)) -> 0 | AD8: =INDIRECT("LC_HSG_Data!CU"&(5+A1)) -> #DIV/0! | AE8: =IFERROR(1000/AD8-10,0) -> 0 | AF8: =0.2*AE8 -> 0 | AG8: =IF($D$3<0.05*AE8,0,($D$3-AF8)^2/($D$3-AF8+AE8)) -> #DIV/0! | AI8: Pervious | AJ8: 0 | AK8: 0 | AL8: 0
C9: Water | D9: =VLOOKUP($A$1,LANDCOVER,6) -> 0 | E9: =D9/$D$16 -> #DIV/0! | F9: =IF($D$3<0.05*AA9,0,($D$3-AB9)^2/($D$3-AB9+AA9)) -> #DIV/0! | G9: =D9*F9*43560/12/1000 -> #DIV/0! | J9: Water | K9: =VLOOKUP($A$1,LANDCOVERPOT,6) -> 0 | L9: =K9/$K$16 -> #DIV/0! | M9: =K9*$F9*43560/12/1000 -> #DIV/0! | P9: Water | V9: =D9 -> 0 | X9: 4 | Y9: =C9 -> Water | Z9: =IF(D9<=0,TheModel!I31,VLOOKUP($A$1,CompositeCN,$X9+1)) -> 100 | AA9: =IFERROR(1000/Z9-10,0) -> 0 | AB9: =0.2*AA9 -> 0 | AC9: =IF($D$3<0.05*AA9,0,($D$3-AB9)^2/($D$3-AB9+AA9)) -> #DIV/0! | AD9: =INDIRECT("LC_HSG_Data!CV"&(5+A1)) -> #DIV/0! | AE9: =IFERROR(1000/AD9-10,0) -> 0 | AF9: =0.2*AE9 -> 0 | AG9: =IF($D$3<0.05*AE9,0,($D$3-AF9)^2/($D$3-AF9+AE9)) -> #DIV/0! | AI9: Water | AJ9: 0 | AK9: 0 | AL9: 0
C10: Impervious | D10: =VLOOKUP($A$1,LANDCOVER,7) -> 0 | E10: =D10/$D$16 -> #DIV/0! | F10: =IF($D$3<0.05*AA10,0,($D$3-AB10)^2/($D$3-AB10+AA10)) -> 0 | G10: =D10*F10*43560/12/1000 -> 0 | J10: Impervious | K10: =VLOOKUP($A$1,LANDCOVERPOT,7) -> 0 | L10: =K10/$K$16 -> #DIV/0! | M10: =K10*$F10*43560/12/1000 -> 0 | N10: =Q10*(AC10-AC7)*43560/12/1000 -> 0 | P10: Impervious | Q10: =R7 -> 0 | R10: =Q6*(Summary!L14) -> 0 | T10: =SUM(S12,S13)*INDIRECT("Summary!l"&(12+A1)) -> 0 | V10: =D10-Q10+R10+T10+U10 -> 0 | X10: 5 | Y10: =C10 -> Impervious | Z10: =IF(D10<=0,Z7-CNadj,VLOOKUP($A$1,CompositeCN,$X10+1)) -> 98 | AA10: =IFERROR(1000/Z10-10,0) -> 0.20408163 | AB10: =0.2*AA10 -> 0.040816327 | AC10: =IF($D$3<0.05*AA10,0,($D$3-AB10)^2/($D$3-AB10+AA10)) -> 0 | AI10: Impervious | AJ10: 0 | AK10: 0 | AL10: 0
C11: Bare Earth | D11: =VLOOKUP($A$1,LANDCOVER,8) -> 0 | E11: =D11/$D$16 -> #DIV/0! | F11: =IF($D$3<0.05*AA11,0,($D$3-AB11)^2/($D$3-AB11+AA11)) -> 0 | G11: =D11*F11*43560/12/1000 -> 0 | J11: Bare Earth | K11: =VLOOKUP($A$1,LANDCOVERPOT,8) -> 0 | L11: =K11/$K$16 -> #DIV/0! | M11: =K11*$F11*43560/12/1000 -> 0 | P11: Bare Earth | V11: =D11 -> 0 | X11: 6 | Y11: =C11 -> Bare Earth | Z11: =IF(D11<=0,TheModel!I33,VLOOKUP($A$1,CompositeCN,$X11+1)) -> 86 | AA11: =IFERROR(1000/Z11-10,0) -> 1.627907 | AB11: =0.2*AA11 -> 0.3255814 | AC11: =IF($D$3<0.05*AA11,0,($D$3-AB11)^2/($D$3-AB11+AA11)) -> 0 | AI11: Bare Earth | AJ11: 0 | AK11: 0 | AL11: 0
C12: Forested Open Space | D12: =VLOOKUP($A$1,LANDCOVER,9) -> 0 | E12: =D12/$D$16 -> #DIV/0! | F12: =IF($D$3<0.05*AA12,0,($D$3-AB12)^2/($D$3-AB12+AA12)) -> 0 | G12: =D12*F12*43560/12/1000 -> 0 | H12: =IFERROR(($AG12/$AC12-1)*G12,0) -> 0 | J12: Forested Open Space | K12: =VLOOKUP($A$1,LANDCOVERPOT,9) -> 0 | L12: =K12/$K$16 -> #DIV/0! | M12: =K12*$F12*43560/12/1000 -> 0 | P12: Forested Open Space | S12: =D12*INDIRECT("Summary!k"&(12+A1)) -> 0 | T12: =(K12-D12)*INDIRECT("Summary!p"&(12+A1)) -> 0 | V12: =D12-S12+T12 -> 0 | X12: 7 | Y12: =C12 -> Forested Open Space | Z12: =IF(D12<=0,TheModel!I34,VLOOKUP($A$1,CompositeCN,$X12+1)) -> 55 | AA12: =IFERROR(1000/Z12-10,0) -> 8.1818182 | AB12: =0.2*AA12 -> 1.6363636 | AC12: =IF($D$3<0.05*AA12,0,($D$3-AB12)^2/($D$3-AB12+AA12)) -> 0 | AD12: =INDIRECT("LC_HSG_Data!CT"&(5+A1)) -> #DIV/0! | AE12: =IFERROR(1000/AD12-10,0) -> 0 | AF12: =0.2*AE12 -> 0 | AG12: =IF($D$3<0.05*AE12,0,($D$3-AF12)^2/($D$3-AF12+AE12)) -> #DIV/0! | AI12: Forested Open Space | AJ12: 0 | AK12: 0 | AL12: 0
C13: Forested Wetlands | D13: =VLOOKUP($A$1,LANDCOVER,10) -> 0 | E13: =D13/$D$16 -> #DIV/0! | F13: =IF($D$3<0.05*AA13,0,($D$3-AB13)^2/($D$3-AB13+AA13)) -> 0 | G13: =D13*F13*43560/12/1000 -> 0 | H13: =IFERROR(($AG13/$AC13-1)*G13,0) -> 0 | J13: Forested Wetlands | K13: =VLOOKUP($A$1,LANDCOVERPOT,10) -> 0 | L13: =K13/$K$16 -> #DIV/0! | M13: =K13*$F13*43560/12/1000 -> 0 | P13: Forested Wetlands | S13: =D13*INDIRECT("Summary!k"&(12+A1)) -> 0 | V13: =D13-S13 -> 0 | X13: 8 | Y13: =C13 -> Forested Wetlands | Z13: =IF(D13<=0,TheModel!I35,VLOOKUP($A$1,CompositeCN,$X13+1)) -> 77 | AA13: =IFERROR(1000/Z13-10,0) -> 2.987013 | AB13: =0.2*AA13 -> 0.5974026 | AC13: =IF($D$3<0.05*AA13,0,($D$3-AB13)^2/($D$3-AB13+AA13)) -> 0 | AD13: =Z14 -> 100 | AE13: =IFERROR(1000/AD13-10,0) -> 0 | AF13: =0.2*AE13 -> 0 | AG13: =IF($D$3<0.05*AE13,0,($D$3-AF13)^2/($D$3-AF13+AE13)) -> #DIV/0! | AI13: Forested Wetlands | AJ13: 0 | AK13: 0 | AL13: 0
C14: Wetlands | D14: =VLOOKUP($A$1,LANDCOVER,11) -> 0 | E14: =D14/$D$16 -> #DIV/0! | F14: =IF($D$3<0.05*AA14,0,($D$3-AB14)^2/($D$3-AB14+AA14)) -> #DIV/0! | G14: =D14*$F14*43560/12/1000 -> #DIV/0! | J14: Wetlands | K14: =VLOOKUP($A$1,LANDCOVERPOT,11) -> 0 | L14: =K14/$K$16 -> #DIV/0! | M14: =K14*$F14*43560/12/1000 -> #DIV/0! | P14: Wetlands | V14: =D14 -> 0 | X14: 9 | Y14: =C14 -> Wetlands | Z14: =IF(D14<=0,TheModel!I36,VLOOKUP($A$1,CompositeCN,$X14+1)) -> 100 | AA14: =IFERROR(1000/Z14-10,0) -> 0 | AB14: =0.2*AA14 -> 0 | AC14: =IF($D$3<0.05*AA14,0,($D$3-AB14)^2/($D$3-AB14+AA14)) -> #DIV/0! | AD14: 80 | AE14: =IFERROR(1000/AD14-10,0) -> 2.5 | AF14: =0.2*AE14 -> 0.5 | AG14: =IF($D$3<0.05*AE14,0,($D$3-AF14)^2/($D$3-AF14+AE14)) -> 0 | AI14: Wetlands | AJ14: 0 | AK14: 0 | AL14: 0
C15: Scrub/Shrub/Palm | D15: =VLOOKUP($A$1,LANDCOVER,12) -> 0 | E15: =D15/$D$16 -> #DIV/0! | F15: =IF($D$3<0.05*AA15,0,($D$3-AB15)^2/($D$3-AB15+AA15)) -> 0 | G15: =D15*$F15*43560/12/1000 -> 0 | J15: Scrub/Shrub/Palm | K15: =VLOOKUP($A$1,LANDCOVERPOT,12) -> 0 | L15: =K15/$K$16 -> #DIV/0! | M15: =K15*$F15*43560/12/1000 -> 0 | P15: Scrub/Shrub/Palm | V15: =D15 -> 0 | X15: 10 | Y15: =C15 -> Scrub/Shrub/Palm | Z15: =IF(D15<=0,TheModel!I37,VLOOKUP($A$1,CompositeCN,$X15+1)) -> 60 | AA15: =IFERROR(1000/Z15-10,0) -> 6.6666667 | AB15: =0.2*AA15 -> 1.3333333 | AC15: =IF($D$3<0.05*AA15,0,($D$3-AB15)^2/($D$3-A15+AA15)) -> 0 | AI15: Scrub/Shrub/Palm | AJ15: 0 | AK15: 0 | AL15: 0
C16: totals | D16: =SUM(D6:D15) -> 0 | G16: =SUM(G6:G15) -> #DIV/0! | H16: =SUM(H6:H15) -> 0 | J16: totals | K16: =SUM(K6:K15) -> 0 | M16: =SUM(M6:M15) -> #DIV/0! | N16: =SUM(N6:N15) -> #DIV/0! | P16: totals | Q16: =SUM(Q6:Q15) -> 0 | R16: =SUM(R6:R15) -> 0 | S16: =SUM(S6:S15) -> 0 | T16: =SUM(T6:T15) -> 0 | U16: =D16-V16 -> 0 | V16: =SUM(V6:V15) -> 0 | Y16: Matrix of Runoff Increases by Landcover Change | AI16: Total Non-Point Pollution Load from Existing Landcover | AJ16: =SUM(AJ6:AJ15) -> 0 | AK16: =SUM(AK6:AK15) -> 0 | AL16: =SUM(AL6:AL15) -> 0
Z17: Changed Landcover | AI17: Non-Point Pollution Captured by Existing Trees | AJ17: {=SUM(D6,D8,D12)*pervious+SUM(D7,D10)*impervious+D11*bare+SUM(D13,D14)*wetland-AJ16:AL16} -> 0 | AK17: 0 | AL17: 0
C18: Summary Results | J18: Summary Results | Y18: Original Landcover | Z18: P | AA18: I | AB18: W | AC18: P | AD18: I | AE18: W | AI18: Non-Point Load Reduction by Existing Trees (%) | AJ18: =AJ17/SUM(ABS(AJ17),AJ16)*100 -> #DIV/0! | AK18: =AK17/SUM(ABS(AK17),AK16)*100 -> #DIV/0! | AL18: =AL17/SUM(ABS(AL17),AL16)*100 -> #DIV/0!
C19: Percent tree canopy | F19: existing | H19: =D36/D35 -> #DIV/0! | J19: Percent tree canopy | M19: max | N19: =D37/D35 -> #DIV/0! | Y19: Tree Canopy | Z19: =AG6-AC6 -> #DIV/0! | AA19: =AC10-AC6 -> 0 | AC19: =Z19*(D6*E24)*(1-E25)*LossCF -> #DIV/0! | AD19: =AA19*(E24*D6)*(E25)*LossCF -> 0
C20: Percent Impervious | F20: existing | H20: =IFERROR(D10/D35,0) -> 0 | J20: Percent Impervious | M20: min | N20: =K10/SUM(K16,-K9) -> #DIV/0! | Y20: Tree Canopy over Impervious | AA20: =AC10-AC7 -> 0 | AD20: =AA20*D7*E24*LossCF -> 0 | AI20: Total Non-Point Pollution Load from Potential Landcover | AJ20: {=SUM(K6:K15*nloads)} -> 0 | AK20: {=SUM(K6:K15*ploads)} -> 0 | AL20: {=SUM(K6:K15*sedloads)} -> 0
C21: Runoff avoided due to trees (%) | F21: =C3 -> 1 yr / 24 hour | H21: =H16/G16 -> #DIV/0! | J21: Additional ruoff avoided (%) | M21: max | N21: =N22/H22 -> #DIV/0! | Y21: Forested Open Space | Z21: =AG12-AC12 -> #DIV/0! | AA21: =AC10-AC12 -> 0 | AC21: =Z21*D12*E27*(1-E28)*LossCF -> #DIV/0! | AD21: =AA21*D12*E27*E28*LossCF -> 0 | AI21: Non-Point Pollution Captured by New Trees | AJ21: {=AJ16:AL16-AJ20:AL20} -> 0 | AK21: 0 | AL21: 0
C22: Runoff avoided due to trees (million gallons) | F22: =C3 -> 1 yr / 24 hour | H22: =H16*7.48052/1000 -> 0 | J22: Additional runoff avoided (million gallons) | L22: max | M22: max | N22: =N16*7.48052/1000 -> #DIV/0! | Y22: Forested Wetlands | Z22: =AG14-AC13 -> 0 | AA22: =AC10-AC13 -> 0 | AC22: =Z22*D13*E27*(1-E28)*LossCF -> 0 | AD22: =AA22*D13*E27*E28*LossCF -> 0 | AI22: Additional Non-Point Load Reduction (%) | AJ22: =AJ21/AJ16*100 -> #DIV/0! | AK22: =AK21/AK16*100 -> #DIV/0! | AL22: =AL21/AL16*100 -> #DIV/0!
C23: What-If Scenarios | Y23: =43560/12/1000*7.48052/1000 -> 0.027154288 | Z23: inches | AC23: million gallons
C24: Urban tree canopy loss | E24: =INDIRECT("Summary!j"&(12+A1)) -> 0 | F24: % UTC loss | J24: GOAL: Added canopy (% of total area) | N24: =INDIRECT("Summary!h"&(12+A1)) | Y24: Note: This matrix is used to compute runoff increases in the What-If scenario | AI24: Total Non-Point Pollution Load with Loss Variables | AJ24: {=SUMPRODUCT(V6:V15,nloads)} -> 0 | AK24: =SUMPRODUCT(V6:V15,ploads) -> 0 | AL24: =SUMPRODUCT(V6:V15,sedloads) -> 0
E25: =INDIRECT("Summary!L"&(12+A1)) -> 0 | F25: <- Set % impervious | J25: TOTAL EVENT RUNOFF | K25: million gallons | N25: =H22+N22 -> #DIV/0! | Y25: The inches columns are increased depths of runoff | AI25: Change in Non-Point Pollution Load with Loss Variables | AJ25: =AJ24-AJ16 -> 0 | AK25: =AK24-AK16 -> 0 | AL25: =AL24-AL16 -> 0
C26: Additional stormwater runoff | E26: =SUM(AC19:AE20) -> #DIV/0! | F26: million gallons | Y26: The cubic feet columns are increased quantities of runoff | AI26: Change in Non-Point Pollution Load (%) | AJ26: =(AJ24-AJ16)/AJ16*100 -> #DIV/0! | AK26: =(AK24-AK16)/AK16*100 -> #DIV/0! | AL26: =(AL24-AL16)/AL16*100 -> #DIV/0!
C27: Forested open space loss | E27: =INDIRECT("Summary!k"&(12+A1)) -> 0 | F27: % FOS loss | Y27: P=pervious, I - impervious, W= Wetlands
E28: =INDIRECT("Summary!L"&(12+A1)) -> 0 | F28: <- Set % impervious
C29: Additional stormwater runoff | E29: =SUM(AC21:AE22) -> #DIV/0! | F29: million gallons
C30: TOTAL TREE CANOPY SUMMARY | E30: =IFERROR((E24*SUM(D6:D7)+E27*SUM(D12:D13))/SUM(D6:D7,D12:D13),0) -> 0 | F30: total canopy loss
C31: Additional stormwater runoff | E31: =IFERROR(SUM(E26,E29),0) -> 0 | F31: million gallons
C33: Supporting Calcs
D34: acres
C35: Area Minus Wetland and Water | D35: =D16-(D9+D14) -> 0
C36: Total Tree Canopy | D36: =SUM(D6,D7,D12,D13) -> 0
C37: Total Potential Tree Canopy | D37: =K6+K7+K12+K13 -> 0
C38: Total Impervious Area (inclding under TC) | D38: =D7+D10 -> 0
C39: Total Pervious Area (including TC) | D39: =D6+D8+D11+D12 -> 0
C40: Potential Additional Canopy Area | D40: =D37-D36 -> 0
C41: Urban Tree Canopy Loss | D41: =(D6+D7)*E24 -> 0
C42: Forest Open Space Loss | D42: =(D12)*E27 -> 0

Sheet 3
A1: 3 | C1: =VLOOKUP(A1,LANDCOVER,2) -> 0
C2: Event | D2: P (in) | E2: Source
C3: =INDIRECT("Summary!I"&(12+A1)) -> 1 yr / 24 hour | D3: =VLOOKUP($C$3,Events!$B$3:$D$9,2,FALSE) -> 0 | E3: =VLOOKUP($C$3,Events!$B$3:$D$9,3,FALSE) -> 0
D4: Existing Landcover | J4: Potential Landcover - Increased Tree Cover | P4: Landcover Change Scenarios | Y4: Formula components | AI4: Nutrient Estimates | AJ4: Average Annual Load Estimates
D5: acres | E5: % | F5: Q Runoff (in) | G5: Runoff (TCF) | H5: Capture (TCF) | K5: acres | L5: % | M5: Runoff / acre (cf) | N5: Capture (MCF) | Q5: UTC Loss | R5: UTC Gain | S5: FOS Loss | T5: FOS Gain | U5: Error | V5: acres | Y5: Composite CN's | Z5: CN | AA5: S | AB5: Ia | AC5: Q | AD5: CN | AE5: S | AF5: Ia | AG5: Q | AI5: Chesapeake Bay Program 2017 | AJ5: N (lbs/yr) | AK5: P (lbs/yr) | AL5: Sed (tons/yr)
C6: Tree Canopy | D6: =VLOOKUP($A$1,LANDCOVER,3) -> 0 | E6: =D6/$D$16 -> #DIV/0! | F6: =IF($D$3<0.05*AA6,0,($D$3-AB6)^2/($D$3-AB6+AA6)) -> 0 | G6: =D6*F6*43560/12/1000 -> 0 | H6: =IFERROR(($AG6/$AC6-1)*G6,0) -> 0 | J6: Tree Canopy | K6: =VLOOKUP($A$1,LANDCOVERPOT,3) -> 0 | L6: =K6/$K$16 -> #DIV/0! | M6: =K6*$F6*43560/12/1000 -> 0 | P6: Tree Canopy | Q6: =D6*INDIRECT("Summary!j"&(12+A1)) -> 0 | R6: =(K6-D6)*INDIRECT("Summary!p"&(12+A1)) -> 0 | V6: =D6-Q6+R6+U6 -> 0 | X6: 1 | Y6: =C6 -> Tree Canopy | Z6: =IF(D6<=0,TheModel!I28,VLOOKUP($A$1,CompositeCN,$X6+1)) -> 59 | AA6: =IFERROR(1000/Z6-10,0) -> 6.9491525 | AB6: =0.2*AA6+ModelCi -> 1.4398305 | AC6: =IF($D$3<0.05*AA6,0,($D$3-AB6)^2/($D$3-AB6+AA6)) -> 0 | AD6: =INDIRECT("LC_HSG_Data!CS"&(5+A1)) -> #DIV/0! | AE6: =IFERROR(1000/AD6-10,0) -> 0 | AF6: =0.2*AE6 -> 0 | AG6: =IF($D$3<0.05*AE6,0,($D$3-AF6)^2/($D$3-AF6+AE6)) -> #DIV/0! | AI6: Tree Canopy | AJ6: {=D6:D15*loads} -> 0 | AK6: 0 | AL6: 0
C7: Tree Canopy over Impervious | D7: =VLOOKUP($A$1,LANDCOVER,4) -> 0 | E7: =D7/$D$16 -> #DIV/0! | F7: =IF($D$3<0.05*AA7,0,($D$3-AB7)^2/($D$3-AB7+AA7)) -> 0 | G7: =D7*F7*43560/12/1000 -> 0 | H7: =IFERROR(($AC10/$AC7-1)*G7,0) -> 0 | J7: Tree Canopy over Impervious | K7: =VLOOKUP($A$1,LANDCOVERPOT,4) -> 0 | L7: =K7/$K$16 -> #DIV/0! | M7: =K7*$F7*43560/12/1000 -> 0 | P7: Tree Canopy over Impervious | Q7: =D7*INDIRECT("Summary!j"&(12+A1)) -> 0 | R7: =(K7-D7)*INDIRECT("Summary!p"&(12+A1)) -> 0 | V7: =D7-Q7+R7 -> 0 | X7: 2 | Y7: =C7 -> Tree Canopy over Impervious | Z7: =IF(D7<=0,TheModel!I29,VLOOKUP($A$1,CompositeCN,$X7+1)) -> 96 | AA7: =IFERROR(1000/Z7-10,0) -> 0.41666667 | AB7: =0.2*AA7+ModelCi -> 0.13333333 | AC7: =IF($D$3<0.05*AA7,0,($D$3-AB7)^2/($D$3-AB7+AA7)) -> 0 | AI7: Tree Canopy over Impervious | AJ7: 0 | AK7: 0 | AL7: 0
C8: Pervious | D8: =VLOOKUP($A$1,LANDCOVER,5) -> 0 | E8: =D8/$D$16 -> #DIV/0! | F8: =IF($D$3<0.05*AA8,0,($D$3-AB8)^2/($D$3-AB8+AA8)) -> 0 | G8: =D8*F8*43560/12/1000 -> 0 | J8: Pervious | K8: =VLOOKUP($A$1,LANDCOVERPOT,5) -> 0 | L8: =K8/$K$16 -> #DIV/0! | M8: =K8*$F8*43560/12/1000 -> 0 | N8: =(Q8*(AC8-AG8)+S8*(AC8-AG9))*43560/12/1000 -> #DIV/0! | P8: Pervious | Q8: =R6 -> 0 | R8: =Q6*(1-Summary!L15) -> 0 | S8: =T12 -> 0 | T8: =SUM(S12,S13)*(1-INDIRECT("Summary!l"&(12+A1))) -> 0 | V8: =D8-Q8+R8-S8+T8+U8 -> 0 | X8: 3 | Y8: =C8 -> Pervious | Z8: =IF(D8<=0,Z6-CNadj,VLOOKUP($A$1,CompositeCN,$X8+1)) -> 61 | AA8: =IFERROR(1000/Z8-10,0) -> 6.3934426 | AB8: =0.2*AA8 -> 1.2786885 | AC8: =IF($D$3<0.05*AA8,0,($D$3-AB8)^2/($D$3-AB8+AA8)) -> 0 | AD8: =INDIRECT("LC_HSG_Data!CU"&(5+A1)) -> #DIV/0! | AE8: =IFERROR(1000/AD8-10,0) -> 0 | AF8: =0.2*AE8 -> 0 | AG8: =IF($D$3<0.05*AE8,0,($D$3-AF8)^2/($D$3-AF8+AE8)) -> #DIV/0! | AI8: Pervious | AJ8: 0 | AK8: 0 | AL8: 0
C9: Water | D9: =VLOOKUP($A$1,LANDCOVER,6) -> 0 | E9: =D9/$D$16 -> #DIV/0! | F9: =IF($D$3<0.05*AA9,0,($D$3-AB9)^2/($D$3-AB9+AA9)) -> #DIV/0! | G9: =D9*F9*43560/12/1000 -> #DIV/0! | J9: Water | K9: =VLOOKUP($A$1,LANDCOVERPOT,6) -> 0 | L9: =K9/$K$16 -> #DIV/0! | M9: =K9*$F9*43560/12/1000 -> #DIV/0! | P9: Water | V9: =D9 -> 0 | X9: 4 | Y9: =C9 -> Water | Z9: =IF(D9<=0,TheModel!I31,VLOOKUP($A$1,CompositeCN,$X9+1)) -> 100 | AA9: =IFERROR(1000/Z9-10,0) -> 0 | AB9: =0.2*AA9 -> 0 | AC9: =IF($D$3<0.05*AA9,0,($D$3-AB9)^2/($D$3-AB9+AA9)) -> #DIV/0! | AD9: =INDIRECT("LC_HSG_Data!CV"&(5+A1)) -> #DIV/0! | AE9: =IFERROR(1000/AD9-10,0) -> 0 | AF9: =0.2*AE9 -> 0 | AG9: =IF($D$3<0.05*AE9,0,($D$3-AF9)^2/($D$3-AF9+AE9)) -> #DIV/0! | AI9: Water | AJ9: 0 | AK9: 0 | AL9: 0
C10: Impervious | D10: =VLOOKUP($A$1,LANDCOVER,7) -> 0 | E10: =D10/$D$16 -> #DIV/0! | F10: =IF($D$3<0.05*AA10,0,($D$3-AB10)^2/($D$3-AB10+AA10)) -> 0 | G10: =D10*F10*43560/12/1000 -> 0 | J10: Impervious | K10: =VLOOKUP($A$1,LANDCOVERPOT,7) -> 0 | L10: =K10/$K$16 -> #DIV/0! | M10: =K10*$F10*43560/12/1000 -> 0 | N10: =Q10*(AC10-AC7)*43560/12/1000 -> 0 | P10: Impervious | Q10: =R7 -> 0 | R10: =Q6*(Summary!L15) -> 0 | T10: =SUM(S12,S13)*INDIRECT("Summary!l"&(12+A1)) -> 0 | V10: =D10-Q10+R10+T10+U10 -> 0 | X10: 5 | Y10: =C10 -> Impervious | Z10: =IF(D10<=0,Z7-CNadj,VLOOKUP($A$1,CompositeCN,$X10+1)) -> 98 | AA10: =IFERROR(1000/Z10-10,0) -> 0.20408163 | AB10: =0.2*AA10 -> 0.040816327 | AC10: =IF($D$3<0.05*AA10,0,($D$3-AB10)^2/($D$3-AB10+AA10)) -> 0 | AI10: Impervious | AJ10: 0 | AK10: 0 | AL10: 0
C11: Bare Earth | D11: =VLOOKUP($A$1,LANDCOVER,8) -> 0 | E11: =D11/$D$16 -> #DIV/0! | F11: =IF($D$3<0.05*AA11,0,($D$3-AB11)^2/($D$3-AB11+AA11)) -> 0 | G11: =D11*F11*43560/12/1000 -> 0 | J11: Bare Earth | K11: =VLOOKUP($A$1,LANDCOVERPOT,8) -> 0 | L11: =K11/$K$16 -> #DIV/0! | M11: =K11*$F11*43560/12/1000 -> 0 | P11: Bare Earth | V11: =D11 -> 0 | X11: 6 | Y11: =C11 -> Bare Earth | Z11: =IF(D11<=0,TheModel!I33,VLOOKUP($A$1,CompositeCN,$X11+1)) -> 86 | AA11: =IFERROR(1000/Z11-10,0) -> 1.627907 | AB11: =0.2*AA11 -> 0.3255814 | AC11: =IF($D$3<0.05*AA11,0,($D$3-AB11)^2/($D$3-AB11+AA11)) -> 0 | AI11: Bare Earth | AJ11: 0 | AK11: 0 | AL11: 0
C12: Forested Open Space | D12: =VLOOKUP($A$1,LANDCOVER,9) -> 0 | E12: =D12/$D$16 -> #DIV/0! | F12: =IF($D$3<0.05*AA12,0,($D$3-AB12)^2/($D$3-AB12+AA12)) -> 0 | G12: =D12*F12*43560/12/1000 -> 0 | H12: =IFERROR(($AG12/$AC12-1)*G12,0) -> 0 | J12: Forested Open Space | K12: =VLOOKUP($A$1,LANDCOVERPOT,9) -> 0 | L12: =K12/$K$16 -> #DIV/0! | M12: =K12*$F12*43560/12/1000 -> 0 | P12: Forested Open Space | S12: =D12*INDIRECT("Summary!k"&(12+A1)) -> 0 | T12: =(K12-D12)*INDIRECT("Summary!p"&(12+A1)) -> 0 | V12: =D12-S12+T12 -> 0 | X12: 7 | Y12: =C12 -> Forested Open Space | Z12: =IF(D12<=0,TheModel!I34,VLOOKUP($A$1,CompositeCN,$X12+1)) -> 55 | AA12: =IFERROR(1000/Z12-10,0) -> 8.1818182 | AB12: =0.2*AA12 -> 1.6363636 | AC12: =IF($D$3<0.05*AA12,0,($D$3-AB12)^2/($D$3-AB12+AA12)) -> 0 | AD12: =INDIRECT("LC_HSG_Data!CT"&(5+A1)) -> #DIV/0! | AE12: =IFERROR(1000/AD12-10,0) -> 0 | AF12: =0.2*AE12 -> 0 | AG12: =IF($D$3<0.05*AE12,0,($D$3-AF12)^2/($D$3-AF12+AE12)) -> #DIV/0! | AI12: Forested Open Space | AJ12: 0 | AK12: 0 | AL12: 0
C13: Forested Wetlands | D13: =VLOOKUP($A$1,LANDCOVER,10) -> 0 | E13: =D13/$D$16 -> #DIV/0! | F13: =IF($D$3<0.05*AA13,0,($D$3-AB13)^2/($D$3-AB13+AA13)) -> 0 | G13: =D13*F13*43560/12/1000 -> 0 | H13: =IFERROR(($AG13/$AC13-1)*G13,0) -> 0 | J13: Forested Wetlands | K13: =VLOOKUP($A$1,LANDCOVERPOT,10) -> 0 | L13: =K13/$K$16 -> #DIV/0! | M13: =K13*$F13*43560/12/1000 -> 0 | P13: Forested Wetlands | S13: =D13*INDIRECT("Summary!k"&(12+A1)) -> 0 | V13: =D13-S13 -> 0 | X13: 8 | Y13: =C13 -> Forested Wetlands | Z13: =IF(D13<=0,TheModel!I35,VLOOKUP($A$1,CompositeCN,$X13+1)) -> 77 | AA13: =IFERROR(1000/Z13-10,0) -> 2.987013 | AB13: =0.2*AA13 -> 0.5974026 | AC13: =IF($D$3<0.05*AA13,0,($D$3-AB13)^2/($D$3-AB13+AA13)) -> 0 | AD13: =Z14 -> 100 | AE13: =IFERROR(1000/AD13-10,0) -> 0 | AF13: =0.2*AE13 -> 0 | AG13: =IF($D$3<0.05*AE13,0,($D$3-AF13)^2/($D$3-AF13+AE13)) -> #DIV/0! | AI13: Forested Wetlands | AJ13: 0 | AK13: 0 | AL13: 0
C14: Wetlands | D14: =VLOOKUP($A$1,LANDCOVER,11) -> 0 | E14: =D14/$D$16 -> #DIV/0! | F14: =IF($D$3<0.05*AA14,0,($D$3-AB14)^2/($D$3-AB14+AA14)) -> #DIV/0! | G14: =D14*$F14*43560/12/1000 -> #DIV/0! | J14: Wetlands | K14: =VLOOKUP($A$1,LANDCOVERPOT,11) -> 0 | L14: =K14/$K$16 -> #DIV/0! | M14: =K14*$F14*43560/12/1000 -> #DIV/0! | P14: Wetlands | V14: =D14 -> 0 | X14: 9 | Y14: =C14 -> Wetlands | Z14: =IF(D14<=0,TheModel!I36,VLOOKUP($A$1,CompositeCN,$X14+1)) -> 100 | AA14: =IFERROR(1000/Z14-10,0) -> 0 | AB14: =0.2*AA14 -> 0 | AC14: =IF($D$3<0.05*AA14,0,($D$3-AB14)^2/($D$3-AB14+AA14)) -> #DIV/0! | AD14: 80 | AE14: =IFERROR(1000/AD14-10,0) -> 2.5 | AF14: =0.2*AE14 -> 0.5 | AG14: =IF($D$3<0.05*AE14,0,($D$3-AF14)^2/($D$3-AF14+AE14)) -> 0 | AI14: Wetlands | AJ14: 0 | AK14: 0 | AL14: 0
C15: Scrub/Shrub/Palm | D15: =VLOOKUP($A$1,LANDCOVER,12) -> 0 | E15: =D15/$D$16 -> #DIV/0! | F15: =IF($D$3<0.05*AA15,0,($D$3-AB15)^2/($D$3-AB15+AA15)) -> 0 | G15: =D15*$F15*43560/12/1000 -> 0 | J15: Scrub/Shrub/Palm | K15: =VLOOKUP($A$1,LANDCOVERPOT,12) -> 0 | L15: =K15/$K$16 -> #DIV/0! | M15: =K15*$F15*43560/12/1000 -> 0 | P15: Scrub/Shrub/Palm | V15: =D15 -> 0 | X15: 10 | Y15: =C15 -> Scrub/Shrub/Palm | Z15: =IF(D15<=0,TheModel!I37,VLOOKUP($A$1,CompositeCN,$X15+1)) -> 60 | AA15: =IFERROR(1000/Z15-10,0) -> 6.6666667 | AB15: =0.2*AA15 -> 1.3333333 | AC15: =IF($D$3<0.05*AA15,0,($D$3-AB15)^2/($D$3-A15+AA15)) -> 0 | AI15: Scrub/Shrub/Palm | AJ15: 0 | AK15: 0 | AL15: 0
C16: totals | D16: =SUM(D6:D15) -> 0 | G16: =SUM(G6:G15) -> #DIV/0! | H16: =SUM(H6:H15) -> 0 | J16: totals | K16: =SUM(K6:K15) -> 0 | M16: =SUM(M6:M15) -> #DIV/0! | N16: =SUM(N6:N15) -> #DIV/0! | P16: totals | Q16: =SUM(Q6:Q15) -> 0 | R16: =SUM(R6:R15) -> 0 | S16: =SUM(S6:S15) -> 0 | T16: =SUM(T6:T15) -> 0 | U16: =D16-V16 -> 0 | V16: =SUM(V6:V15) -> 0 | Y16: Matrix of Runoff Increases by Landcover Change | AI16: Total Non-Point Pollution Load from Existing Landcover | AJ16: =SUM(AJ6:AJ15) -> 0 | AK16: =SUM(AK6:AK15) -> 0 | AL16: =SUM(AL6:AL15) -> 0
Z17: Changed Landcover | AI17: Non-Point Pollution Captured by Existing Trees | AJ17: {=SUM(D6,D8,D12)*pervious+SUM(D7,D10)*impervious+D11*bare+SUM(D13,D14)*wetland-AJ16:AL16} -> 0 | AK17: 0 | AL17: 0
C18: Summary Results | J18: Summary Results | Y18: Original Landcover | Z18: P | AA18: I | AB18: W | AC18: P | AD18: I | AE18: W | AI18: Non-Point Load Reduction by Existing Trees (%) | AJ18: =AJ17/SUM(ABS(AJ17),AJ16)*100 -> #DIV/0! | AK18: =AK17/SUM(ABS(AK17),AK16)*100 -> #DIV/0! | AL18: =AL17/SUM(ABS(AL17),AL16)*100 -> #DIV/0!
C19: Percent tree canopy | F19: existing | H19: =D36/D35 -> #DIV/0! | J19: Percent tree canopy | M19: max | N19: =D37/D35 -> #DIV/0! | Y19: Tree Canopy | Z19: =AG6-AC6 -> #DIV/0! | AA19: =AC10-AC6 -> 0 | AC19: =Z19*(D6*E24)*(1-E25)*LossCF -> #DIV/0! | AD19: =AA19*(E24*D6)*(E25)*LossCF -> 0
C20: Percent Impervious | F20: existing | H20: =IFERROR(D10/D35,0) -> 0 | J20: Percent Impervious | M20: min | N20: =K10/SUM(K16,-K9) -> #DIV/0! | Y20: Tree Canopy over Impervious | AA20: =AC10-AC7 -> 0 | AD20: =AA20*D7*E24*LossCF -> 0 | AI20: Total Non-Point Pollution Load from Potential Landcover | AJ20: {=SUM(K6:K15*nloads)} -> 0 | AK20: {=SUM(K6:K15*ploads)} -> 0 | AL20: {=SUM(K6:K15*sedloads)} -> 0
C21: Runoff avoided due to trees (%) | F21: =C3 -> 1 yr / 24 hour | H21: =H16/G16 -> #DIV/0! | J21: Additional ruoff avoided (%) | M21: max | N21: =N22/H22 -> #DIV/0! | Y21: Forested Open Space | Z21: =AG12-AC12 -> #DIV/0! | AA21: =AC10-AC12 -> 0 | AC21: =Z21*D12*E27*(1-E28)*LossCF -> #DIV/0! | AD21: =AA21*D12*E27*E28*LossCF -> 0 | AI21: Non-Point Pollution Captured by New Trees | AJ21: {=AJ16:AL16-AJ20:AL20} -> 0 | AK21: 0 | AL21: 0
C22: Runoff avoided due to trees (million gallons) | F22: =C3 -> 1 yr / 24 hour | H22: =H16*7.48052/1000 -> 0 | J22: Additional runoff avoided (million gallons) | L22: max | M22: max | N22: =N16*7.48052/1000 -> #DIV/0! | Y22: Forested Wetlands | Z22: =AG14-AC13 -> 0 | AA22: =AC10-AC13 -> 0 | AC22: =Z22*D13*E27*(1-E28)*LossCF -> 0 | AD22: =AA22*D13*E27*E28*LossCF -> 0 | AI22: Additional Non-Point Load Reduction (%) | AJ22: =AJ21/AJ16*100 -> #DIV/0! | AK22: =AK21/AK16*100 -> #DIV/0! | AL22: =AL21/AL16*100 -> #DIV/0!
C23: What-If Scenarios | Y23: =43560/12/1000*7.48052/1000 -> 0.027154288 | Z23: inches | AC23: million gallons
C24: Urban tree canopy loss | E24: =INDIRECT("Summary!j"&(12+A1)) -> 0 | F24: % UTC loss | J24: GOAL: Added canopy (% of total area) | N24: =INDIRECT("Summary!h"&(12+A1)) | Y24: Note: This matrix is used to compute runoff increases in the What-If scenario | AI24: Total Non-Point Pollution Load with Loss Variables | AJ24: {=SUMPRODUCT(V6:V15,nloads)} -> 0 | AK24: =SUMPRODUCT(V6:V15,ploads) -> 0 | AL24: =SUMPRODUCT(V6:V15,sedloads) -> 0
E25: =INDIRECT("Summary!L"&(12+A1)) -> 0 | F25: <- Set % impervious | J25: TOTAL EVENT RUNOFF | K25: million gallons | N25: =H22+N22 -> #DIV/0! | Y25: The inches columns are increased depths of runoff | AI25: Change in Non-Point Pollution Load with Loss Variables | AJ25: =AJ24-AJ16 -> 0 | AK25: =AK24-AK16 -> 0 | AL25: =AL24-AL16 -> 0
C26: Additional stormwater runoff | E26: =SUM(AC19:AE20) -> #DIV/0! | F26: million gallons | Y26: The cubic feet columns are increased quantities of runoff | AI26: Change in Non-Point Pollution Load (%) | AJ26: =(AJ24-AJ16)/AJ16*100 -> #DIV/0! | AK26: =(AK24-AK16)/AK16*100 -> #DIV/0! | AL26: =(AL24-AL16)/AL16*100 -> #DIV/0!
C27: Forested open space loss | E27: =INDIRECT("Summary!k"&(12+A1)) -> 0 | F27: % FOS loss | Y27: P=pervious, I - impervious, W= Wetlands
E28: =INDIRECT("Summary!L"&(12+A1)) -> 0 | F28: <- Set % impervious
C29: Additional stormwater runoff | E29: =SUM(AC21:AE22) -> #DIV/0! | F29: million gallons
C30: TOTAL TREE CANOPY SUMMARY | E30: =IFERROR((E24*SUM(D6:D7)+E27*SUM(D12:D13))/SUM(D6:D7,D12:D13),0) -> 0 | F30: total canopy loss
C31: Additional stormwater runoff | E31: =IFERROR(SUM(E26,E29),0) -> 0 | F31: million gallons
C33: Supporting Calcs
D34: acres
C35: Area Minus Wetland and Water | D35: =D16-(D9+D14) -> 0
C36: Total Tree Canopy | D36: =SUM(D6,D7,D12,D13) -> 0
C37: Total Potential Tree Canopy | D37: =K6+K7+K12+K13 -> 0
C38: Total Impervious Area (inclding under TC) | D38: =D7+D10 -> 0
C39: Total Pervious Area (including TC) | D39: =D6+D8+D11+D12 -> 0
C40: Potential Additional Canopy Area | D40: =D37-D36 -> 0
C41: Urban Tree Canopy Loss | D41: =(D6+D7)*E24 -> 0
C42: Forest Open Space Loss | D42: =(D12)*E27 -> 0

Sheet TheModel
A1: How the Model Works
B2: This model uses high-resolution land cover maps, overlain with soils data, to estimate stormwater runoff yield using the NRCS TR-55 Curve number method.
B5: LandCover
B6: The landcover data used was developed from 2016 NAIP 1-m resolution leaf-on aerial imagery and spectral image analysis. Ancillary data were used to refine the classification, including datasest of built infrastructure and wetlands from the National Wetlands Inventory. Spatial adjaceny and contiguity analyses were used to identify forested open spaces.
B10: The 10 landcover classes are: | F10: Notes
B11: 1 | C11: Trees over pervious
B12: 2 | C12: Trees over Impervious
B13: 3 | C13: Pervious
B14: 4 | C14: Water
B15: 5 | C15: Impervious
B16: 6 | C16: Bare Earth
B17: 7 | C17: Forested open space
B18: 8 | C18: Forested wetland
B19: 9 | C19: Wetlands
B20: 10 | C20: Scrub/Shrub/Palm
B22: Stormwater Runoff Yield Estimation
B23: The landcover map was combined with a map of hydrologic soil groups (source: NRCS SSURGO) to calculate areas of landcover within each soil hydrolgic group. The area counts were used to compute composite curve numbers for each drainage basin and landcover combination. The table below provided the curve numbers used for each landcover/soil group combination.
G26: Curve Numbers from TR-55
G27: A | H27: A/D | I27: B | J27: B/D | K27: C | L27: C/D | M27: D
C28: 1 | D28: Trees over pervious | G28: =G30+CNadj -> 37 | H28: =H30+CNadj -> 78 | I28: =I30+CNadj -> 59 | J28: =J30+CNadj -> 78 | K28: =K30+CNadj -> 72 | L28: =L30+CNadj -> 78 | M28: =M30+CNadj -> 78
C29: 2 | D29: Trees over Impervious | G29: =G32+CNadj -> 96 | H29: =H32+CNadj -> 96 | I29: =I32+CNadj -> 96 | J29: =J32+CNadj -> 96 | K29: =K32+CNadj -> 96 | L29: =L32+CNadj -> 96 | M29: =M32+CNadj -> 96
C30: 3 | D30: Pervious | G30: 39 | H30: 80 | I30: 61 | J30: 80 | K30: 74 | L30: 80 | M30: 80
C31: 4 | D31: Water | G31: 100 | H31: 100 | I31: 100 | J31: 100 | K31: 100 | L31: 100 | M31: 100
C32: 5 | D32: Impervious | G32: 98 | H32: 98 | I32: 98 | J32: 98 | K32: 98 | L32: 98 | M32: 98
C33: 6 | D33: Bare Earth | G33: 77 | H33: 94 | I33: 86 | J33: 94 | K33: 91 | L33: 94 | M33: 94
C34: 7 | D34: Forested open space | G34: 30 | H34: 77 | I34: 55 | J34: 77 | K34: 70 | L34: 77 | M34: 77
C35: 8 | D35: Forested wetland | G35: 77 | H35: 77 | I35: 77 | J35: 77 | K35: 77 | L35: 77 | M35: 77
C36: 9 | D36: Wetlands | G36: 100 | H36: 100 | I36: 100 | J36: 100 | K36: 100 | L36: 100 | M36: 100
C37: 10 | D37: Scrub/Shrub/Palm | G37: =(G28+G30)/2 -> 38 | H37: =(H28+H30)/2 -> 79 | I37: =(I28+I30)/2 -> 60 | J37: =(J28+J30)/2 -> 79 | K37: =(K28+K30)/2 -> 73 | L37: =(L28+L30)/2 -> 79 | M37: =(M28+M30)/2 -> 79 | N37: This line was previously Sand. (now Scrub/Shrub/Palm calculated as average of TC and Pervious)
B39: Canopy Interception and CN Modification
B40: The model incorporates two modifications in an attempt to more accurately estimate the stormwater capture of tree canopies. The canopy interception term (Hynicka & Divers, 2016) is meant to account for the mechanism of tree canopies in intercept, evaporating and transpiring water. The CN adjustment term is meant to account for increased infiltration of water in soils with leaf litter and subject to the ameliorating actions of tree root systems.
B44: These terms may be used or modified at the user dsicretion, as shown below:
H45: Recommended | I45: Choices
C46: Canopy interception | F46: Ci | H46: 0.05 | I46: 0.05 | J46: 0.025 | K46: 0
C47: CN adjustment | F47: CNadj | H47: -2 | I47: -2 | J47: -1 | K47: 0
B49: Tree canopy works to reduce the proportion of precipitation that becomes stream and surface flow, also known as water yield. A study by Hynicka and Divers (2016) modified the water yield equation of the SCS model by adding a canopy interception term (Ci) to account for the role that canopy plays in capturing stormwater, resulting in:
B52: Where R is runoff, P is precipitation, Ia is the initial abstraction, and S is the potential maximum retention after runoff begins for the subject land cover (S = 1000/CN – 10).
B54: Land-Use Loading Rates
B55: Yellow highlighted cells, the value is derived from the Chesapeake Assessment Scenario Tool (CAST) Model
B56: Land Use Loading Rates from Chesapeake Bay Program Phase 6 Land-Use Model
G58: N | H58: P | I58: SED
G59: lbs/ac/yr | I59: tons/ac/yr
C60: 1 | D60: Trees over pervious | G60: 8.53 | H60: 0.65 | I60: 0.1
C61: 2 | D61: Trees over Impervious | G61: 20.49 | H61: 0.75 | I61: 0.3
C62: 3 | D62: Pervious | G62: 11.19 | H62: 0.86 | I62: 0.47
C63: 4 | D63: Water | G63: 0 | H63: 0 | I63: 0
C64: 5 | D64: Impervious | G64: 22.45 | H64: 0.83 | I64: 1.49
C65: 6 | D65: Bare Earth | G65: 26.8 | H65: 3.21 | I65: 14.545
C66: 7 | D66: Forested open space | G66: 1.68 | H66: 0.08 | I66: 0.07
C67: 8 | D67: Forested wetland | G67: 1.68 | H67: 0.08 | I67: 0.04
C68: 9 | D68: Wetlands | G68: 1.68 | H68: 0.08 | I68: 0.04
C69: 10 | D69: Scrub/Shrub/Palm | G69: 1.62 | H69: 0.36 | I69: 0.29
B73: acre-in to million gallons | E73: =E75/12/10^6 -> 0.02715425
E74: =E75/12 -> 27154.25
B75: acre-ft to gal | E75: 325851
E76: =43560/12*7.48 -> 27152.4

Sheet Events
B1: Design Events & Misc Parameters
B2: Design Event | C2: P | D2: Source
B3: 1 yr / 24 hour
B4: 2 yr / 24 hour
B5: 5 yr / 24 hour
B6: 10 yr / 24 hour
B7: 25 yr / 24 hour
B8: 50 yr / 24 hour
B9: 100 yr / 24 hour
B11: Modeling Parameters
B12: Set CN Adjustments for Tree Canopy Cover | C12: -2 | D12: our recommendation is -2
B13: Set Canopy Interception Term | C13: 0.05 | D13: our recommendation .050
B16: NOAA Precipitation Frequency Data Server (PFDS)
D19: Location information:
D20: Name:
D21: Station name:
D22: Site ID:
D23: Latitude:
D24: Longitude:
D25: Elevation:

Sheet Landcover
B1: LANDCOVER CROSS TABULATIONS
B2: acres | N2: Landcover minus water/wetland
B3: TOTALS | C3: =SUM(C5:C68) -> 0 | D3: =SUM(D5:D68) -> 0 | E3: =SUM(E5:E68) -> 0 | F3: =SUM(F5:F68) -> 0 | G3: =SUM(G5:G68) -> 0 | H3: =SUM(H5:H68) -> 0 | I3: =SUM(I5:I67) -> 0 | J3: =SUM(J5:J67) -> 0 | K3: =SUM(K5:K67) -> 0 | L3: =SUM(L5:L67) -> 0 | M3: =SUM(M5:M68) -> 0 | N3: =M3-K3-F3 -> 0 | O3: Note:
A4: No | B4: AREA | C4: TREE CANOPY | D4: TC OVER IMPERV | E4: PERVIOUS | F4: WATER | G4: IMPERVIOUS | H4: BARE_EARTH | I4: FORESTED OPEN SPACE | J4: FORESTED WETLANDS | K4: WETLAND | L4: Scrub/Shrub/Palm | M4: TOTAL | N4: TOTAL | O4: This table is generally computed by a GIS overlay of a land cover map.
A5: 1 | M5: =SUM(C5:L5) -> 0 | N5: =M5-K5-F5 -> 0 | O5: However, for site level analysis land cover acreage can be entered manually if the values are known.
A6: 2 | M6: =SUM(C6:L6) -> 0 | N6: =M6-K6-F6 -> 0
A7: 3 | M7: =SUM(C7:L7) -> 0 | N7: =M7-K7-F7 -> 0
A8: 4 | L8: 0 | M8: =SUM(C8:L8) -> 0 | N8: =M8-K8-F8 -> 0
A9: 5 | M9: =SUM(C9:L9) -> 0 | N9: =M9-K9-F9 -> 0
A10: 6 | M10: =SUM(C10:L10) -> 0 | N10: =M10-K10-F10 -> 0 | O10: Notes:
A11: 7 | M11: =SUM(C11:L11) -> 0 | N11: =M11-K11-F11 -> 0 | O11: Forested Open space does not include Mangrove (IE: Wooded Wetland). Tree Canopy might be reported differently elsewhere. This tree canopy does not include Palm trees where possible to exclude.
A12: 8 | M12: =SUM(C12:L12) -> 0 | N12: =M12-K12-F12 -> 0
A13: 9 | M13: =SUM(C13:L13) -> 0 | N13: =M13-K13-F13 -> 0
A14: 10 | M14: =SUM(C14:L14) -> 0 | N14: =M14-K14-F14 -> 0
A15: 11 | M15: =SUM(C15:L15) -> 0 | N15: =M15-K15-F15 -> 0
A16: 12 | M16: =SUM(C16:L16) -> 0 | N16: =M16-K16-F16 -> 0
A17: 13 | M17: =SUM(C17:L17) -> 0 | N17: =M17-K17-F17 -> 0
A18: 14 | M18: =SUM(C18:L18) -> 0 | N18: =M18-K18-F18 -> 0
A19: 15 | M19: =SUM(C19:L19) -> 0 | N19: =M19-K19-F19 -> 0
A20: 16 | M20: =SUM(C20:L20) -> 0 | N20: =M20-K20-F20 -> 0
A21: 17 | M21: =SUM(C21:L21) -> 0 | N21: =M21-K21-F21 -> 0
A22: 18 | M22: =SUM(C22:L22) -> 0 | N22: =M22-K22-F22 -> 0
A23: 19 | M23: =SUM(C23:L23) -> 0 | N23: =M23-K23-F23 -> 0
... A68: 64 | M68: =SUM(C68:L68) -> 0 | N68: =M68-K68-F68 -> 0

Sheet LandcoverPotential
B1: LANDCOVER POTENTIAL CROSS TABULATIONS
B2: acres
B3: TOTALS | C3: =SUM(C5:C68) -> 0 | D3: =SUM(D5:D68) -> 0 | E3: =SUM(E5:E68) -> 0 | F3: =SUM(F5:F68) -> 0 | G3: =SUM(G5:G68) -> 0 | H3: =SUM(H5:H68) -> 0 | I3: =SUM(I5:I68) -> 0 | J3: =SUM(J5:J68) -> 0 | ... M3: =SUM(M5:M68) -> 0
A4: No | B4: BASIN | C4: TREE CANOPY | D4: TC OVER IMPERV | E4: PERVIOUS | F4: WATER | G4: IMPERVIOUS | H4: BARE_EARTH | I4: FORESTED OPEN SPACE | J4: FORESTED WETLANDS | K4: WETLANDS | L4: Scrub/Shrub/Palm | M4: TOTAL
A5: 1 | M5: =SUM(C5:L5) -> 0 | V5: =I5/43560 -> 0
A6: 2 | M6: =SUM(C6:L6) -> 0 | V6: =I6/43560 -> 0
A7: 3 | M7: =SUM(C7:L7) -> 0 | V7: =I7/43560 -> 0
A8: 4 | L8: 0 | M8: =SUM(C8:L8) -> 0 | V8: =I8/43560 -> 0
A9: 5 | M9: =SUM(C9:L9) -> 0 | V9: =I9/43560 -> 0
A10: 6 | M10: =SUM(C10:L10) -> 0 | V10: =I10/43560 -> 0
A11: 7 | M11: =SUM(C11:L11) -> 0 | V11: =I11/43560 -> 0
A12: 8 | M12: =SUM(C12:L12) -> 0 | V12: =I12/43560 -> 0
A13: 9 | M13: =SUM(C13:L13) -> 0 | V13: =I13/43560 -> 0
A14: 10 | M14: =SUM(C14:L14) -> 0 | V14: =I14/43560 -> 0
A15: 11 | M15: =SUM(C15:L15) -> 0 | V15: =I15/43560 -> 0
A16: 12 | M16: =SUM(C16:L16) -> 0 | V16: =I16/43560 -> 0
A17: 13 | M17: =SUM(C17:L17) -> 0 | V17: =I17/43560 -> 0
A18: 14 | M18: =SUM(C18:L18) -> 0 | V18: =I18/43560 -> 0
A19: 15 | M19: =SUM(C19:L19) -> 0 | V19: =I19/43560 -> 0
A20: 16 | M20: =SUM(C20:L20) -> 0 | V20: =I20/43560 -> 0
... A29: 25 | M29: =SUM(C29:L29) -> 0 | V29: =I29/43560 -> 0
A30: 26 | M30: =SUM(C30:L30) -> 0
A31: 27 | M31: =SUM(C31:L31) -> 0
A32: 28 | M32: =SUM(C32:L32) -> 0
A33: 29 | M33: =SUM(C33:L33) -> 0
A34: 30 | M34: =SUM(C34:L34) -> 0
A35: 31 | M35: =SUM(C35:L35) -> 0
A36: 32 | M36: =SUM(C36:L36) -> 0
A37: 33 | M37: =SUM(C37:L37) -> 0
A38: 34 | M38: =SUM(C38:L38) -> 0
A39: 35 | M39: =SUM(C39:L39) -> 0
A40: 36 | M40: =SUM(C40:L40) -> 0
A41: 37 | M41: =SUM(C41:L41) -> 0
... A68: 64 | M68: =SUM(C68:L68) -> 0

Sheet LC_HSG_Data
B1: LANDCOVER BY HYDROLOGIC SOIL GROUPS
C2: acres | K2: acres | S2: acres | AA2: acres | AI2: acres | AQ2: acres | AY2: acres | BG2: acres | BO2: acres | BW2: acres
B3: TOTALS | C3: =SUM(C6:C69) -> 0 | D3: =SUM(D6:D69) -> 0 | E3: =SUM(E6:E69) -> 0 | F3: =SUM(F6:F69) -> 0 | G3: =SUM(G6:G69) -> 0 | H3: =SUM(H6:H69) -> 0 | I3: =SUM(I6:I69) -> 0 | J3: =SUM(J6:J69) -> 0 | ... CD3: =SUM(CD6:CD69) -> 0 | CE3: =SUM(C3:CD3) -> 0 | CH3: Composite Curve Numbers | CS3: WT-TCP-PER | CT3: WT-FOS-PER | CU3: WT-PER-TCP | CV3: WT-PER-FOS
C4: TreeCanopy | K4: TreeCanopyImperv | S4: Pervious | AA4: Water | AI4: Impervious | AQ4: Bare Earth | AY4: FORESTED OPEN SPACE | BG4: FORESTED WETLANDS | BO4: WETLANDS | BW4: Scrub/Shrub/Palm | CE4: Totals | CH4: Tree Canopy | CI4: TreeCanopy Imperv | CJ4: Pervious | CK4: Water | CL4: Impervious | CM4: Bare earth | CN4: Forested Open Space | CO4: Forested Wetland | CP4: Wetlands | CQ4: Scrub/Shrub/Palm
A5: No | B5: BASIN | C5: A | D5: A/D | E5: B | F5: B/D | G5: C | H5: C/D | I5: D | J5: X | K5: A | L5: A/D | M5: B | N5: B/D | O5: C | P5: C/D | Q5: D | R5: X | S5: A | T5: A/D | U5: B | V5: B/D | W5: C | X5: C/D | Y5: D | Z5: X | AA5: A | AB5: A/D | AC5: B | AD5: B/D | AE5: C | AF5: C/D | AG5: D | AH5: X | AI5: A | AJ5: A/D | AK5: B | AL5: B/D | AM5: C | AN5: C/D | AO5: D | AP5: X | AQ5: A | AR5: A/D | AS5: B | AT5: B/D | AU5: C | AV5: C/D | AW5: D | AX5: X | AY5: A | AZ5: A/D | BA5: B | BB5: B/D | BC5: C | BD5: C/D | BE5: D | BF5: X | BG5: A | BH5: A/D | BI5: B | BJ5: B/D | BK5: C | BL5: C/D | BM5: D | BN5: X | BO5: A | BP5: A/D | BQ5: B | BR5: B/D | BS5: C | BT5: C/D | BU5: D | BV5: X | BW5: A | BX5: A/D | BY5: B | BZ5: B/D | CA5: C | CB5: C/D | CC5: D | CD5: X | CF5: Prop
A6: 1 | CE6: =SUM(C6:CD6) -> 0 | CF6: =CE6/Landcover!M5 -> #DIV/0! | CG6: 1 | CH6: =IF(SUM(C6:J6)=0,0,SUMPRODUCT(C6:I6,TheModel!$G$28:$M$28)/SUM(C6:I6)) -> 0 | CI6: =IF(SUM(K6:R6)=0,0,TheModel!$G$29) -> 0 | CJ6: =IF(SUM(S6:Z6)=0,0,SUMPRODUCT(S6:Y6,TheModel!$G$30:$M$30)/SUM(S6:Y6)) -> 0 | CK6: =IF(SUM(AA6:AH6)=0,0,TheModel!$G$31) -> 0 | CL6: =IF(SUM(AI6:AP6)=0,0,TheModel!$G$32) -> 0 | CM6: =IF(SUM(AQ6:AX6)=0,0,SUMPRODUCT(AQ6:AW6,TheModel!$G$33:$M$33)/SUM(AQ6:AW6)) -> 0 | CN6: =IF(SUM(AY6:BF6)=0,0,SUMPRODUCT(AY6:BE6,TheModel!$G$34:$M$34)/SUM(AY6:BE6)) -> 0 | CO6: =IF(SUM(BG6:BN6)=0,0,TheModel!$J$35) -> 0 | CP6: =IF(SUM(BO6:BV6)=0,0,TheModel!$J$36) -> 0 | CQ6: =IF(SUM(BW6:CC6)=0,0,SUMPRODUCT(BW6:CC6,TheModel!$G$37:$M$37)/SUM(BW6:CC6)) -> 0 | CS6: {=SUM(C6:I6*CN_PER)/SUM(C6:I6)} -> #DIV/0! | CT6: {=SUM(AY6:BE6*CN_PER)/SUM(AY6:BE6)} -> #DIV/0! | CU6: {=SUM(S6:Y6*CN_TCP)/SUM(S6:Y6)} -> #DIV/0! | CV6: {=SUM(S6:Y6*CN_FOS)/SUM(S6:Y6)} -> #DIV/0!
A7: 2 | CE7: =SUM(C7:CD7) -> 0 | CF7: =CE7/Landcover!M6 -> #DIV/0! | CG7: 2 | CH7: =IF(SUM(C7:J7)=0,0,SUMPRODUCT(C7:I7,TheModel!$G$28:$M$28)/SUM(C7:I7)) -> 0 | CI7: =IF(SUM(K7:R7)=0,0,TheModel!$G$29) -> 0 | CJ7: =IF(SUM(S7:Z7)=0,0,SUMPRODUCT(S7:Y7,TheModel!$G$30:$M$30)/SUM(S7:Y7)) -> 0 | CK7: =IF(SUM(AA7:AH7)=0,0,TheModel!$G$31) -> 0 | CL7: =IF(SUM(AI7:AP7)=0,0,TheModel!$G$32) -> 0 | CM7: =IF(SUM(AQ7:AX7)=0,0,SUMPRODUCT(AQ7:AW7,TheModel!$G$33:$M$33)/SUM(AQ7:AW7)) -> 0 | CN7: =IF(SUM(AY7:BF7)=0,0,SUMPRODUCT(AY7:BE7,TheModel!$G$34:$M$34)/SUM(AY7:BE7)) -> 0 | CO7: =IF(SUM(BG7:BN7)=0,0,TheModel!$J$35) -> 0 | CP7: =IF(SUM(BO7:BV7)=0,0,TheModel!$J$36) -> 0 | CQ7: =IF(SUM(BW7:CC7)=0,0,SUMPRODUCT(BW7:CC7,TheModel!$G$37:$M$37)/SUM(BW7:CC7)) -> 0 | CS7: {=SUM(C7:I7*CN_PER)/SUM(C7:I7)} -> #DIV/0! | CT7: {=SUM(AY7:BE7*CN_PER)/SUM(AY7:BE7)} -> #DIV/0! | CU7: {=SUM(S7:Y7*CN_TCP)/SUM(S7:Y7)} -> #DIV/0! | CV7: {=SUM(S7:Y7*CN_FOS)/SUM(S7:Y7)} -> #DIV/0!
A8: 3 | CE8: =SUM(C8:CD8) -> 0 | CF8: =CE8/Landcover!M7 -> #DIV/0! | CG8: 3 | CH8: =IF(SUM(C8:J8)=0,0,SUMPRODUCT(C8:I8,TheModel!$G$28:$M$28)/SUM(C8:I8)) -> 0 | CI8: =IF(SUM(K8:R8)=0,0,TheModel!$G$29) -> 0 | CJ8: =IF(SUM(S8:Z8)=0,0,SUMPRODUCT(S8:Y8,TheModel!$G$30:$M$30)/SUM(S8:Y8)) -> 0 | CK8: =IF(SUM(AA8:AH8)=0,0,TheModel!$G$31) -> 0 | CL8: =IF(SUM(AI8:AP8)=0,0,TheModel!$G$32) -> 0 | CM8: =IF(SUM(AQ8:AX8)=0,0,SUMPRODUCT(AQ8:AW8,TheModel!$G$33:$M$33)/SUM(AQ8:AW8)) -> 0 | CN8: =IF(SUM(AY8:BF8)=0,0,SUMPRODUCT(AY8:BE8,TheModel!$G$34:$M$34)/SUM(AY8:BE8)) -> 0 | CO8: =IF(SUM(BG8:BN8)=0,0,TheModel!$J$35) -> 0 | CP8: =IF(SUM(BO8:BV8)=0,0,TheModel!$J$36) -> 0 | CQ8: =IF(SUM(BW8:CC8)=0,0,SUMPRODUCT(BW8:CC8,TheModel!$G$37:$M$37)/SUM(BW8:CC8)) -> 0 | CS8: {=SUM(C8:I8*CN_PER)/SUM(C8:I8)} -> #DIV/0! | CT8: {=SUM(AY8:BE8*CN_PER)/SUM(AY8:BE8)} -> #DIV/0! | CU8: {=SUM(S8:Y8*CN_TCP)/SUM(S8:Y8)} -> #DIV/0! | CV8: {=SUM(S8:Y8*CN_FOS)/SUM(S8:Y8)} -> #DIV/0!
A9: 4 | CE9: =SUM(C9:CD9) -> 0 | CF9: =CE9/Landcover!M8 -> #DIV/0! | CG9: 4 | CH9: =IF(SUM(C9:J9)=0,0,SUMPRODUCT(C9:I9,TheModel!$G$28:$M$28)/SUM(C9:I9)) -> 0 | CI9: =IF(SUM(K9:R9)=0,0,TheModel!$G$29) -> 0 | CJ9: =IF(SUM(S9:Z9)=0,0,SUMPRODUCT(S9:Y9,TheModel!$G$30:$M$30)/SUM(S9:Y9)) -> 0 | CK9: =IF(SUM(AA9:AH9)=0,0,TheModel!$G$31) -> 0 | CL9: =IF(SUM(AI9:AP9)=0,0,TheModel!$G$32) -> 0 | CM9: =IF(SUM(AQ9:AX9)=0,0,SUMPRODUCT(AQ9:AW9,TheModel!$G$33:$M$33)/SUM(AQ9:AW9)) -> 0 | CN9: =IF(SUM(AY9:BF9)=0,0,SUMPRODUCT(AY9:BE9,TheModel!$G$34:$M$34)/SUM(AY9:BE9)) -> 0 | CO9: =IF(SUM(BG9:BN9)=0,0,TheModel!$J$35) -> 0 | CP9: =IF(SUM(BO9:BV9)=0,0,TheModel!$J$36) -> 0 | CQ9: =IF(SUM(BW9:CC9)=0,0,SUMPRODUCT(BW9:CC9,TheModel!$G$37:$M$37)/SUM(BW9:CC9)) -> 0 | CS9: {=SUM(C9:I9*CN_PER)/SUM(C9:I9)} -> #DIV/0! | CT9: {=SUM(AY9:BE9*CN_PER)/SUM(AY9:BE9)} -> #DIV/0! | CU9: {=SUM(S9:Y9*CN_TCP)/SUM(S9:Y9)} -> #DIV/0! | CV9: {=SUM(S9:Y9*CN_FOS)/SUM(S9:Y9)} -> #DIV/0!
A10: 5 | CE10: =SUM(C10:CD10) -> 0 | CF10: =CE10/Landcover!M9 -> #DIV/0! | CG10: 5 | CH10: =IF(SUM(C10:J10)=0,0,SUMPRODUCT(C10:I10,TheModel!$G$28:$M$28)/SUM(C10:I10)) -> 0 | CI10: =IF(SUM(K10:R10)=0,0,TheModel!$G$29) -> 0 | CJ10: =IF(SUM(S10:Z10)=0,0,SUMPRODUCT(S10:Y10,TheModel!$G$30:$M$30)/SUM(S10:Y10)) -> 0 | CK10: =IF(SUM(AA10:AH10)=0,0,TheModel!$G$31) -> 0 | CL10: =IF(SUM(AI10:AP10)=0,0,TheModel!$G$32) -> 0 | CM10: =IF(SUM(AQ10:AX10)=0,0,SUMPRODUCT(AQ10:AW10,TheModel!$G$33:$M$33)/SUM(AQ10:AW10)) -> 0 | CN10: =IF(SUM(AY10:BF10)=0,0,SUMPRODUCT(AY10:BE10,TheModel!$G$34:$M$34)/SUM(AY10:BE10)) -> 0 | CO10: =IF(SUM(BG10:BN10)=0,0,TheModel!$J$35) -> 0 | CP10: =IF(SUM(BO10:BV10)=0,0,TheModel!$J$36) -> 0 | CQ10: =IF(SUM(BW10:CC10)=0,0,SUMPRODUCT(BW10:CC10,TheModel!$G$37:$M$37)/SUM(BW10:CC10)) -> 0 | CS10: {=SUM(C10:I10*CN_PER)/SUM(C10:I10)} -> #DIV/0! | CT10: {=SUM(AY10:BE10*CN_PER)/SUM(AY10:BE10)} -> #DIV/0! | CU10: {=SUM(S10:Y10*CN_TCP)/SUM(S10:Y10)} -> #DIV/0! | CV10: {=SUM(S10:Y10*CN_FOS)/SUM(S10:Y10)} -> #DIV/0!
A11: 6 | CE11: =SUM(C11:CD11) -> 0 | CF11: =CE11/Landcover!M10 -> #DIV/0! | CG11: 6 | CH11: =IF(SUM(C11:J11)=0,0,SUMPRODUCT(C11:I11,TheModel!$G$28:$M$28)/SUM(C11:I11)) -> 0 | CI11: =IF(SUM(K11:R11)=0,0,TheModel!$G$29) -> 0 | CJ11: =IF(SUM(S11:Z11)=0,0,SUMPRODUCT(S11:Y11,TheModel!$G$30:$M$30)/SUM(S11:Y11)) -> 0 | CK11: =IF(SUM(AA11:AH11)=0,0,TheModel!$G$31) -> 0 | CL11: =IF(SUM(AI11:AP11)=0,0,TheModel!$G$32) -> 0 | CM11: =IF(SUM(AQ11:AX11)=0,0,SUMPRODUCT(AQ11:AW11,TheModel!$G$33:$M$33)/SUM(AQ11:AW11)) -> 0 | CN11: =IF(SUM(AY11:BF11)=0,0,SUMPRODUCT(AY11:BE11,TheModel!$G$34:$M$34)/SUM(AY11:BE11)) -> 0 | CO11: =IF(SUM(BG11:BN11)=0,0,TheModel!$J$35) -> 0 | CP11: =IF(SUM(BO11:BV11)=0,0,TheModel!$J$36) -> 0 | CQ11: =IF(SUM(BW11:CC11)=0,0,SUMPRODUCT(BW11:CC11,TheModel!$G$37:$M$37)/SUM(BW11:CC11)) -> 0 | CS11: {=SUM(C11:I11*CN_PER)/SUM(C11:I11)} -> #DIV/0! | CT11: {=SUM(AY11:BE11*CN_PER)/SUM(AY11:BE11)} -> #DIV/0! | CU11: {=SUM(S11:Y11*CN_TCP)/SUM(S11:Y11)} -> #DIV/0! | CV11: {=SUM(S11:Y11*CN_FOS)/SUM(S11:Y11)} -> #DIV/0!
A12: 7 | CE12: =SUM(C12:CD12) -> 0 | CG12: 7 | CH12: =IF(SUM(C12:J12)=0,0,SUMPRODUCT(C12:I12,TheModel!$G$28:$M$28)/SUM(C12:I12)) -> 0 | CI12: =IF(SUM(K12:R12)=0,0,TheModel!$G$29) -> 0 | CJ12: =IF(SUM(S12:Z12)=0,0,SUMPRODUCT(S12:Y12,TheModel!$G$30:$M$30)/SUM(S12:Y12)) -> 0 | CK12: =IF(SUM(AA12:AH12)=0,0,TheModel!$G$31) -> 0 | CL12: =IF(SUM(AI12:AP12)=0,0,TheModel!$G$32) -> 0 | CM12: =IF(SUM(AQ12:AX12)=0,0,SUMPRODUCT(AQ12:AW12,TheModel!$G$33:$M$33)/SUM(AQ12:AW12)) -> 0 | CN12: =IF(SUM(AY12:BF12)=0,0,SUMPRODUCT(AY12:BE12,TheModel!$G$34:$M$34)/SUM(AY12:BE12)) -> 0 | CO12: =IF(SUM(BG12:BN12)=0,0,TheModel!$J$35) -> 0 | CP12: =IF(SUM(BO12:BV12)=0,0,TheModel!$J$36) -> 0 | CQ12: =IF(SUM(BW12:CC12)=0,0,SUMPRODUCT(BW12:CC12,TheModel!$G$37:$M$37)/SUM(BW12:CC12)) -> 0 | CS12: {=SUM(C12:I12*CN_PER)/SUM(C12:I12)} -> #DIV/0! | CT12: {=SUM(AY12:BE12*CN_PER)/SUM(AY12:BE12)} -> #DIV/0! | CU12: {=SUM(S12:Y12*CN_TCP)/SUM(S12:Y12)} -> #DIV/0! | CV12: {=SUM(S12:Y12*CN_FOS)/SUM(S12:Y12)} -> #DIV/0!
A13: 8 | CE13: =SUM(C13:CD13) -> 0 | CG13: 8 | CH13: =IF(SUM(C13:J13)=0,0,SUMPRODUCT(C13:I13,TheModel!$G$28:$M$28)/SUM(C13:I13)) -> 0 | CI13: =IF(SUM(K13:R13)=0,0,TheModel!$G$29) -> 0 | CJ13: =IF(SUM(S13:Z13)=0,0,SUMPRODUCT(S13:Y13,TheModel!$G$30:$M$30)/SUM(S13:Y13)) -> 0 | CK13: =IF(SUM(AA13:AH13)=0,0,TheModel!$G$31) -> 0 | CL13: =IF(SUM(AI13:AP13)=0,0,TheModel!$G$32) -> 0 | CM13: =IF(SUM(AQ13:AX13)=0,0,SUMPRODUCT(AQ13:AW13,TheModel!$G$33:$M$33)/SUM(AQ13:AW13)) -> 0 | CN13: =IF(SUM(AY13:BF13)=0,0,SUMPRODUCT(AY13:BE13,TheModel!$G$34:$M$34)/SUM(AY13:BE13)) -> 0 | CO13: =IF(SUM(BG13:BN13)=0,0,TheModel!$J$35) -> 0 | CP13: =IF(SUM(BO13:BV13)=0,0,TheModel!$J$36) -> 0 | CQ13: =IF(SUM(BW13:CC13)=0,0,SUMPRODUCT(BW13:CC13,TheModel!$G$37:$M$37)/SUM(BW13:CC13)) -> 0 | CS13: {=SUM(C13:I13*CN_PER)/SUM(C13:I13)} -> #DIV/0! | CT13: {=SUM(AY13:BE13*CN_PER)/SUM(AY13:BE13)} -> #DIV/0! | CU13: {=SUM(S13:Y13*CN_TCP)/SUM(S13:Y13)} -> #DIV/0! | CV13: {=SUM(S13:Y13*CN_FOS)/SUM(S13:Y13)} -> #DIV/0!
A14: 9 | CE14: =SUM(C14:CD14) -> 0 | CG14: 9 | CH14: =IF(SUM(C14:J14)=0,0,SUMPRODUCT(C14:I14,TheModel!$G$28:$M$28)/SUM(C14:I14)) -> 0 | CI14: =IF(SUM(K14:R14)=0,0,TheModel!$G$29) -> 0 | CJ14: =IF(SUM(S14:Z14)=0,0,SUMPRODUCT(S14:Y14,TheModel!$G$30:$M$30)/SUM(S14:Y14)) -> 0 | CK14: =IF(SUM(AA14:AH14)=0,0,TheModel!$G$31) -> 0 | CL14: =IF(SUM(AI14:AP14)=0,0,TheModel!$G$32) -> 0 | CM14: =IF(SUM(AQ14:AX14)=0,0,SUMPRODUCT(AQ14:AW14,TheModel!$G$33:$M$33)/SUM(AQ14:AW14)) -> 0 | CN14: =IF(SUM(AY14:BF14)=0,0,SUMPRODUCT(AY14:BE14,TheModel!$G$34:$M$34)/SUM(AY14:BE14)) -> 0 | CO14: =IF(SUM(BG14:BN14)=0,0,TheModel!$J$35) -> 0 | CP14: =IF(SUM(BO14:BV14)=0,0,TheModel!$J$36) -> 0 | CQ14: =IF(SUM(BW14:CC14)=0,0,SUMPRODUCT(BW14:CC14,TheModel!$G$37:$M$37)/SUM(BW14:CC14)) -> 0 | CS14: {=SUM(C14:I14*CN_PER)/SUM(C14:I14)} -> #DIV/0! | CT14: {=SUM(AY14:BE14*CN_PER)/SUM(AY14:BE14)} -> #DIV/0! | CU14: {=SUM(S14:Y14*CN_TCP)/SUM(S14:Y14)} -> #DIV/0! | CV14: {=SUM(S14:Y14*CN_FOS)/SUM(S14:Y14)} -> #DIV/0!
A15: 10 | CE15: =SUM(C15:CD15) -> 0 | CG15: 10 | CH15: =IF(SUM(C15:J15)=0,0,SUMPRODUCT(C15:I15,TheModel!$G$28:$M$28)/SUM(C15:I15)) -> 0 | CI15: =IF(SUM(K15:R15)=0,0,TheModel!$G$29) -> 0 | CJ15: =IF(SUM(S15:Z15)=0,0,SUMPRODUCT(S15:Y15,TheModel!$G$30:$M$30)/SUM(S15:Y15)) -> 0 | CK15: =IF(SUM(AA15:AH15)=0,0,TheModel!$G$31) -> 0 | CL15: =IF(SUM(AI15:AP15)=0,0,TheModel!$G$32) -> 0 | CM15: =IF(SUM(AQ15:AX15)=0,0,SUMPRODUCT(AQ15:AW15,TheModel!$G$33:$M$33)/SUM(AQ15:AW15)) -> 0 | CN15: =IF(SUM(AY15:BF15)=0,0,SUMPRODUCT(AY15:BE15,TheModel!$G$34:$M$34)/SUM(AY15:BE15)) -> 0 | CO15: =IF(SUM(BG15:BN15)=0,0,TheModel!$J$35) -> 0 | CP15: =IF(SUM(BO15:BV15)=0,0,TheModel!$J$36) -> 0 | CQ15: =IF(SUM(BW15:CC15)=0,0,SUMPRODUCT(BW15:CC15,TheModel!$G$37:$M$37)/SUM(BW15:CC15)) -> 0 | CS15: {=SUM(C15:I15*CN_PER)/SUM(C15:I15)} -> #DIV/0! | CT15: {=SUM(AY15:BE15*CN_PER)/SUM(AY15:BE15)} -> #DIV/0! | CU15: {=SUM(S15:Y15*CN_TCP)/SUM(S15:Y15)} -> #DIV/0! | CV15: {=SUM(S15:Y15*CN_FOS)/SUM(S15:Y15)} -> #DIV/0!
A16: 11 | CE16: =SUM(C16:CD16) -> 0 | CG16: 11 | CH16: =IF(SUM(C16:J16)=0,0,SUMPRODUCT(C16:I16,TheModel!$G$28:$M$28)/SUM(C16:I16)) -> 0 | CI16: =IF(SUM(K16:R16)=0,0,TheModel!$G$29) -> 0 | CJ16: =IF(SUM(S16:Z16)=0,0,SUMPRODUCT(S16:Y16,TheModel!$G$30:$M$30)/SUM(S16:Y16)) -> 0 | CK16: =IF(SUM(AA16:AH16)=0,0,TheModel!$G$31) -> 0 | CL16: =IF(SUM(AI16:AP16)=0,0,TheModel!$G$32) -> 0 | CM16: =IF(SUM(AQ16:AX16)=0,0,SUMPRODUCT(AQ16:AW16,TheModel!$G$33:$M$33)/SUM(AQ16:AW16)) -> 0 | CN16: =IF(SUM(AY16:BF16)=0,0,SUMPRODUCT(AY16:BE16,TheModel!$G$34:$M$34)/SUM(AY16:BE16)) -> 0 | CO16: =IF(SUM(BG16:BN16)=0,0,TheModel!$J$35) -> 0 | CP16: =IF(SUM(BO16:BV16)=0,0,TheModel!$J$35) -> 0 | CQ16: =IF(SUM(BW16:CD16)=0,0,TheModel!$J$35) -> 0 | CS16: {=SUM(C16:I16*CN_PER)/SUM(C16:I16)} -> #DIV/0! | CT16: {=SUM(AY16:BE16*CN_PER)/SUM(AY16:BE16)} -> #DIV/0! | CU16: {=SUM(S16:Y16*CN_TCP)/SUM(S16:Y16)} -> #DIV/0! | CV16: {=SUM(S16:Y16*CN_FOS)/SUM(S16:Y16)} -> #DIV/0!
A17: 12 | CE17: =SUM(C17:CD17) -> 0 | CG17: 12 | CH17: =IF(SUM(C17:J17)=0,0,SUMPRODUCT(C17:I17,TheModel!$G$28:$M$28)/SUM(C17:I17)) -> 0 | CI17: =IF(SUM(K17:R17)=0,0,TheModel!$G$29) -> 0 | CJ17: =IF(SUM(S17:Z17)=0,0,SUMPRODUCT(S17:Y17,TheModel!$G$30:$M$30)/SUM(S17:Y17)) -> 0 | CK17: =IF(SUM(AA17:AH17)=0,0,TheModel!$G$31) -> 0 | CL17: =IF(SUM(AI17:AP17)=0,0,TheModel!$G$32) -> 0 | CM17: =IF(SUM(AQ17:AX17)=0,0,SUMPRODUCT(AQ17:AW17,TheModel!$G$33:$M$33)/SUM(AQ17:AW17)) -> 0 | CN17: =IF(SUM(AY17:BF17)=0,0,SUMPRODUCT(AY17:BE17,TheModel!$G$34:$M$34)/SUM(AY17:BE17)) -> 0 | CO17: =IF(SUM(BG17:BN17)=0,0,TheModel!$J$35) -> 0 | CP17: =IF(SUM(BO17:BV17)=0,0,TheModel!$J$35) -> 0 | CQ17: =IF(SUM(BW17:CD17)=0,0,TheModel!$J$35) -> 0 | CS17: {=SUM(C17:I17*CN_PER)/SUM(C17:I17)} -> #DIV/0! | CT17: {=SUM(AY17:BE17*CN_PER)/SUM(AY17:BE17)} -> #DIV/0! | CU17: {=SUM(S17:Y17*CN_TCP)/SUM(S17:Y17)} -> #DIV/0! | CV17: {=SUM(S17:Y17*CN_FOS)/SUM(S17:Y17)} -> #DIV/0!
A18: 13 | CE18: =SUM(C18:CD18) -> 0 | CG18: 13 | CH18: =IF(SUM(C18:J18)=0,0,SUMPRODUCT(C18:I18,TheModel!$G$28:$M$28)/SUM(C18:I18)) -> 0 | CI18: =IF(SUM(K18:R18)=0,0,TheModel!$G$29) -> 0 | CJ18: =IF(SUM(S18:Z18)=0,0,SUMPRODUCT(S18:Y18,TheModel!$G$30:$M$30)/SUM(S18:Y18)) -> 0 | CK18: =IF(SUM(AA18:AH18)=0,0,TheModel!$G$31) -> 0 | CL18: =IF(SUM(AI18:AP18)=0,0,TheModel!$G$32) -> 0 | CM18: =IF(SUM(AQ18:AX18)=0,0,SUMPRODUCT(AQ18:AW18,TheModel!$G$33:$M$33)/SUM(AQ18:AW18)) -> 0 | CN18: =IF(SUM(AY18:BF18)=0,0,SUMPRODUCT(AY18:BE18,TheModel!$G$34:$M$34)/SUM(AY18:BE18)) -> 0 | CO18: =IF(SUM(BG18:BN18)=0,0,TheModel!$J$35) -> 0 | CP18: =IF(SUM(BO18:BV18)=0,0,TheModel!$J$35) -> 0 | CQ18: =IF(SUM(BW18:CD18)=0,0,TheModel!$J$35) -> 0 | CS18: {=SUM(C18:I18*CN_PER)/SUM(C18:I18)} -> #DIV/0! | CT18: {=SUM(AY18:BE18*CN_PER)/SUM(AY18:BE18)} -> #DIV/0! | CU18: {=SUM(S18:Y18*CN_TCP)/SUM(S18:Y18)} -> #DIV/0! | CV18: {=SUM(S18:Y18*CN_FOS)/SUM(S18:Y18)} -> #DIV/0!
A19: 14 | CE19: =SUM(C19:CD19) -> 0 | CG19: 14 | CH19: =IF(SUM(C19:J19)=0,0,SUMPRODUCT(C19:I19,TheModel!$G$28:$M$28)/SUM(C19:I19)) -> 0 | CI19: =IF(SUM(K19:R19)=0,0,TheModel!$G$29) -> 0 | CJ19: =IF(SUM(S19:Z19)=0,0,SUMPRODUCT(S19:Y19,TheModel!$G$30:$M$30)/SUM(S19:Y19)) -> 0 | CK19: =IF(SUM(AA19:AH19)=0,0,TheModel!$G$31) -> 0 | CL19: =IF(SUM(AI19:AP19)=0,0,TheModel!$G$32) -> 0 | CM19: =IF(SUM(AQ19:AX19)=0,0,SUMPRODUCT(AQ19:AW19,TheModel!$G$33:$M$33)/SUM(AQ19:AW19)) -> 0 | CN19: =IF(SUM(AY19:BF19)=0,0,SUMPRODUCT(AY19:BE19,TheModel!$G$34:$M$34)/SUM(AY19:BE19)) -> 0 | CO19: =IF(SUM(BG19:BN19)=0,0,TheModel!$J$35) -> 0 | CP19: =IF(SUM(BO19:BV19)=0,0,TheModel!$J$35) -> 0 | CQ19: =IF(SUM(BW19:CD19)=0,0,TheModel!$J$35) -> 0 | CS19: {=SUM(C19:I19*CN_PER)/SUM(C19:I19)} -> #DIV/0! | CT19: {=SUM(AY19:BE19*CN_PER)/SUM(AY19:BE19)} -> #DIV/0! | CU19: {=SUM(S19:Y19*CN_TCP)/SUM(S19:Y19)} -> #DIV/0! | CV19: {=SUM(S19:Y19*CN_FOS)/SUM(S19:Y19)} -> #DIV/0!
A20: 15 | CE20: =SUM(C20:CD20) -> 0 | CG20: 15 | CH20: =IF(SUM(C20:J20)=0,0,SUMPRODUCT(C20:I20,TheModel!$G$28:$M$28)/SUM(C20:I20)) -> 0 | CI20: =IF(SUM(K20:R20)=0,0,TheModel!$G$29) -> 0 | CJ20: =IF(SUM(S20:Z20)=0,0,SUMPRODUCT(S20:Y20,TheModel!$G$30:$M$30)/SUM(S20:Y20)) -> 0 | CK20: =IF(SUM(AA20:AH20)=0,0,TheModel!$G$31) -> 0 | CL20: =IF(SUM(AI20:AP20)=0,0,TheModel!$G$32) -> 0 | CM20: =IF(SUM(AQ20:AX20)=0,0,SUMPRODUCT(AQ20:AW20,TheModel!$G$33:$M$33)/SUM(AQ20:AW20)) -> 0 | CN20: =IF(SUM(AY20:BF20)=0,0,SUMPRODUCT(AY20:BE20,TheModel!$G$34:$M$34)/SUM(AY20:BE20)) -> 0 | CO20: =IF(SUM(BG20:BN20)=0,0,TheModel!$J$35) -> 0 | CP20: =IF(SUM(BO20:BV20)=0,0,TheModel!$J$35) -> 0 | CQ20: =IF(SUM(BW20:CD20)=0,0,TheModel!$J$35) -> 0 | CS20: {=SUM(C20:I20*CN_PER)/SUM(C20:I20)} -> #DIV/0! | CT20: {=SUM(AY20:BE20*CN_PER)/SUM(AY20:BE20)} -> #DIV/0! | CU20: {=SUM(S20:Y20*CN_TCP)/SUM(S20:Y20)} -> #DIV/0! | CV20: {=SUM(S20:Y20*CN_FOS)/SUM(S20:Y20)} -> #DIV/0!
A21: 16 | CE21: =SUM(C21:CD21) -> 0 | CG21: 16 | CH21: =IF(SUM(C21:J21)=0,0,SUMPRODUCT(C21:I21,TheModel!$G$28:$M$28)/SUM(C21:I21)) -> 0 | CI21: =IF(SUM(K21:R21)=0,0,TheModel!$G$29) -> 0 | CJ21: =IF(SUM(S21:Z21)=0,0,SUMPRODUCT(S21:Y21,TheModel!$G$30:$M$30)/SUM(S21:Y21)) -> 0 | CK21: =IF(SUM(AA21:AH21)=0,0,TheModel!$G$31) -> 0 | CL21: =IF(SUM(AI21:AP21)=0,0,TheModel!$G$32) -> 0 | CM21: =IF(SUM(AQ21:AX21)=0,0,SUMPRODUCT(AQ21:AW21,TheModel!$G$33:$M$33)/SUM(AQ21:AW21)) -> 0 | CN21: =IF(SUM(AY21:BF21)=0,0,SUMPRODUCT(AY21:BE21,TheModel!$G$34:$M$34)/SUM(AY21:BE21)) -> 0 | CO21: =IF(SUM(BG21:BN21)=0,0,TheModel!$J$35) -> 0 | CP21: =IF(SUM(BO21:BV21)=0,0,TheModel!$J$35) -> 0 | CQ21: =IF(SUM(BW21:CD21)=0,0,TheModel!$J$35) -> 0 | CS21: {=SUM(C21:I21*CN_PER)/SUM(C21:I21)} -> #DIV/0! | CT21: {=SUM(AY21:BE21*CN_PER)/SUM(AY21:BE21)} -> #DIV/0! | CU21: {=SUM(S21:Y21*CN_TCP)/SUM(S21:Y21)} -> #DIV/0! | CV21: {=SUM(S21:Y21*CN_FOS)/SUM(S21:Y21)} -> #DIV/0!
A22: 17 | CE22: =SUM(C22:CD22) -> 0 | CG22: 17 | CH22: =IF(SUM(C22:J22)=0,0,SUMPRODUCT(C22:I22,TheModel!$G$28:$M$28)/SUM(C22:I22)) -> 0 | CI22: =IF(SUM(K22:R22)=0,0,TheModel!$G$29) -> 0 | CJ22: =IF(SUM(S22:Z22)=0,0,SUMPRODUCT(S22:Y22,TheModel!$G$30:$M$30)/SUM(S22:Y22)) -> 0 | CK22: =IF(SUM(AA22:AH22)=0,0,TheModel!$G$31) -> 0 | CL22: =IF(SUM(AI22:AP22)=0,0,TheModel!$G$32) -> 0 | CM22: =IF(SUM(AQ22:AX22)=0,0,SUMPRODUCT(AQ22:AW22,TheModel!$G$33:$M$33)/SUM(AQ22:AW22)) -> 0 | CN22: =IF(SUM(AY22:BF22)=0,0,SUMPRODUCT(AY22:BE22,TheModel!$G$34:$M$34)/SUM(AY22:BE22)) -> 0 | CO22: =IF(SUM(BG22:BN22)=0,0,TheModel!$J$35) -> 0 | CP22: =IF(SUM(BO22:BV22)=0,0,TheModel!$J$35) -> 0 | CQ22: =IF(SUM(BW22:CD22)=0,0,TheModel!$J$35) -> 0 | CS22: {=SUM(C22:I22*CN_PER)/SUM(C22:I22)} -> #DIV/0! | CT22: {=SUM(AY22:BE22*CN_PER)/SUM(AY22:BE22)} -> #DIV/0! | CU22: {=SUM(S22:Y22*CN_TCP)/SUM(S22:Y22)} -> #DIV/0! | CV22: {=SUM(S22:Y22*CN_FOS)/SUM(S22:Y22)} -> #DIV/0!
A23: 18 | CE23: =SUM(C23:CD23) -> 0 | CG23: 18 | CH23: =IF(SUM(C23:J23)=0,0,SUMPRODUCT(C23:I23,TheModel!$G$28:$M$28)/SUM(C23:I23)) -> 0 | CI23: =IF(SUM(K23:R23)=0,0,TheModel!$G$29) -> 0 | CJ23: =IF(SUM(S23:Z23)=0,0,SUMPRODUCT(S23:Y23,TheModel!$G$30:$M$30)/SUM(S23:Y23)) -> 0 | CK23: =IF(SUM(AA23:AH23)=0,0,TheModel!$G$31) -> 0 | CL23: =IF(SUM(AI23:AP23)=0,0,TheModel!$G$32) -> 0 | CM23: =IF(SUM(AQ23:AX23)=0,0,SUMPRODUCT(AQ23:AW23,TheModel!$G$33:$M$33)/SUM(AQ23:AW23)) -> 0 | CN23: =IF(SUM(AY23:BF23)=0,0,SUMPRODUCT(AY23:BE23,TheModel!$G$34:$M$34)/SUM(AY23:BE23)) -> 0 | CO23: =IF(SUM(BG23:BN23)=0,0,TheModel!$J$35) -> 0 | CP23: =IF(SUM(BO23:BV23)=0,0,TheModel!$J$35) -> 0 | CQ23: =IF(SUM(BW23:CD23)=0,0,TheModel!$J$35) -> 0 | CS23: {=SUM(C23:I23*CN_PER)/SUM(C23:I23)} -> #DIV/0! | CT23: {=SUM(AY23:BE23*CN_PER)/SUM(AY23:BE23)} -> #DIV/0! | CU23: {=SUM(S23:Y23*CN_TCP)/SUM(S23:Y23)} -> #DIV/0! | CV23: {=SUM(S23:Y23*CN_FOS)/SUM(S23:Y23)} -> #DIV/0!
A24: 19 | CE24: =SUM(C24:CD24) -> 0 | CG24: 19 | CH24: =IF(SUM(C24:J24)=0,0,SUMPRODUCT(C24:I24,TheModel!$G$28:$M$28)/SUM(C24:I24)) -> 0 | CI24: =IF(SUM(K24:R24)=0,0,TheModel!$G$29) -> 0 | CJ24: =IF(SUM(S24:Z24)=0,0,SUMPRODUCT(S24:Y24,TheModel!$G$30:$M$30)/SUM(S24:Y24)) -> 0 | CK24: =IF(SUM(AA24:AH24)=0,0,TheModel!$G$31) -> 0 | CL24: =IF(SUM(AI24:AP24)=0,0,TheModel!$G$32) -> 0 | CM24: =IF(SUM(AQ24:AX24)=0,0,SUMPRODUCT(AQ24:AW24,TheModel!$G$33:$M$33)/SUM(AQ24:AW24)) -> 0 | CN24: =IF(SUM(AY24:BF24)=0,0,SUMPRODUCT(AY24:BE24,TheModel!$G$34:$M$34)/SUM(AY24:BE24)) -> 0 | CO24: =IF(SUM(BG24:BN24)=0,0,TheModel!$J$35) -> 0 | CP24: =IF(SUM(BO24:BV24)=0,0,TheModel!$J$35) -> 0 | CQ24: =IF(SUM(BW24:CD24)=0,0,TheModel!$J$35) -> 0 | CS24: {=SUM(C24:I24*CN_PER)/SUM(C24:I24)} -> #DIV/0! | CT24: {=SUM(AY24:BE24*CN_PER)/SUM(AY24:BE24)} -> #DIV/0! | CU24: {=SUM(S24:Y24*CN_TCP)/SUM(S24:Y24)} -> #DIV/0! | CV24: {=SUM(S24:Y24*CN_FOS)/SUM(S24:Y24)} -> #DIV/0!
A25: 20 | CE25: =SUM(C25:CD25) -> 0 | CG25: 20 | CH25: =IF(SUM(C25:J25)=0,0,SUMPRODUCT(C25:I25,TheModel!$G$28:$M$28)/SUM(C25:I25)) -> 0 | CI25: =IF(SUM(K25:R25)=0,0,TheModel!$G$29) -> 0 | CJ25: =IF(SUM(S25:Z25)=0,0,SUMPRODUCT(S25:Y25,TheModel!$G$30:$M$30)/SUM(S25:Y25)) -> 0 | CK25: =IF(SUM(AA25:AH25)=0,0,TheModel!$G$31) -> 0 | CL25: =IF(SUM(AI25:AP25)=0,0,TheModel!$G$32) -> 0 | CM25: =IF(SUM(AQ25:AX25)=0,0,SUMPRODUCT(AQ25:AW25,TheModel!$G$33:$M$33)/SUM(AQ25:AW25)) -> 0 | CN25: =IF(SUM(AY25:BF25)=0,0,SUMPRODUCT(AY25:BE25,TheModel!$G$34:$M$34)/SUM(AY25:BE25)) -> 0 | CO25: =IF(SUM(BG25:BN25)=0,0,TheModel!$J$35) -> 0 | CP25: =IF(SUM(BO25:BV25)=0,0,TheModel!$J$35) -> 0 | CQ25: =IF(SUM(BW25:CD25)=0,0,TheModel!$J$35) -> 0 | CS25: {=SUM(C25:I25*CN_PER)/SUM(C25:I25)} -> #DIV/0! | CT25: {=SUM(AY25:BE25*CN_PER)/SUM(AY25:BE25)} -> #DIV/0! | CU25: {=SUM(S25:Y25*CN_TCP)/SUM(S25:Y25)} -> #DIV/0! | CV25: {=SUM(S25:Y25*CN_FOS)/SUM(S25:Y25)} -> #DIV/0!
A26: 21 | CE26: =SUM(C26:CD26) -> 0 | CG26: 21 | CH26: =IF(SUM(C26:J26)=0,0,SUMPRODUCT(C26:I26,TheModel!$G$28:$M$28)/SUM(C26:I26)) -> 0 | CI26: =IF(SUM(K26:R26)=0,0,TheModel!$G$29) -> 0 | CJ26: =IF(SUM(S26:Z26)=0,0,SUMPRODUCT(S26:Y26,TheModel!$G$30:$M$30)/SUM(S26:Y26)) -> 0 | CK26: =IF(SUM(AA26:AH26)=0,0,TheModel!$G$31) -> 0 | CL26: =IF(SUM(AI26:AP26)=0,0,TheModel!$G$32) -> 0 | CM26: =IF(SUM(AQ26:AX26)=0,0,SUMPRODUCT(AQ26:AW26,TheModel!$G$33:$M$33)/SUM(AQ26:AW26)) -> 0 | CN26: =IF(SUM(AY26:BF26)=0,0,SUMPRODUCT(AY26:BE26,TheModel!$G$34:$M$34)/SUM(AY26:BE26)) -> 0 | CO26: =IF(SUM(BG26:BN26)=0,0,TheModel!$J$35) -> 0 | CP26: =IF(SUM(BO26:BV26)=0,0,TheModel!$J$35) -> 0 | CQ26: =IF(SUM(BW26:CD26)=0,0,TheModel!$J$35) -> 0 | CS26: {=SUM(C26:I26*CN_PER)/SUM(C26:I26)} -> #DIV/0! | CT26: {=SUM(AY26:BE26*CN_PER)/SUM(AY26:BE26)} -> #DIV/0! | CU26: {=SUM(S26:Y26*CN_TCP)/SUM(S26:Y26)} -> #DIV/0! | CV26: {=SUM(S26:Y26*CN_FOS)/SUM(S26:Y26)} -> #DIV/0!
A27: 22 | CE27: =SUM(C27:CD27) -> 0 | CG27: 22 | CH27: =IF(SUM(C27:J27)=0,0,SUMPRODUCT(C27:I27,TheModel!$G$28:$M$28)/SUM(C27:I27)) -> 0 | CI27: =IF(SUM(K27:R27)=0,0,TheModel!$G$29) -> 0 | CJ27: =IF(SUM(S27:Z27)=0,0,SUMPRODUCT(S27:Y27,TheModel!$G$30:$M$30)/SUM(S27:Y27)) -> 0 | CK27: =IF(SUM(AA27:AH27)=0,0,TheModel!$G$31) -> 0 | CL27: =IF(SUM(AI27:AP27)=0,0,TheModel!$G$32) -> 0 | CM27: =IF(SUM(AQ27:AX27)=0,0,SUMPRODUCT(AQ27:AW27,TheModel!$G$33:$M$33)/SUM(AQ27:AW27)) -> 0 | CN27: =IF(SUM(AY27:BF27)=0,0,SUMPRODUCT(AY27:BE27,TheModel!$G$34:$M$34)/SUM(AY27:BE27)) -> 0 | CO27: =IF(SUM(BG27:BN27)=0,0,TheModel!$J$35) -> 0 | CP27: =IF(SUM(BO27:BV27)=0,0,TheModel!$J$35) -> 0 | CQ27: =IF(SUM(BW27:CD27)=0,0,TheModel!$J$35) -> 0 | CS27: {=SUM(C27:I27*CN_PER)/SUM(C27:I27)} -> #DIV/0! | CT27: {=SUM(AY27:BE27*CN_PER)/SUM(AY27:BE27)} -> #DIV/0! | CU27: {=SUM(S27:Y27*CN_TCP)/SUM(S27:Y27)} -> #DIV/0! | CV27: {=SUM(S27:Y27*CN_FOS)/SUM(S27:Y27)} -> #DIV/0!
... A69: 64 | CE69: =SUM(C69:CD69) -> 0 | CG69: 64 | CH69: =IF(SUM(C69:J69)=0,0,SUMPRODUCT(C69:I69,TheModel!$G$28:$M$28)/SUM(C69:I69)) -> 0 | CI69: =IF(SUM(K69:R69)=0,0,TheModel!$G$29) -> 0 | CJ69: =IF(SUM(S69:Z69)=0,0,SUMPRODUCT(S69:Y69,TheModel!$G$30:$M$30)/SUM(S69:Y69)) -> 0 | CK69: =IF(SUM(AA69:AH69)=0,0,TheModel!$G$31) -> 0 | CL69: =IF(SUM(AI69:AP69)=0,0,TheModel!$G$32) -> 0 | CM69: =IF(SUM(AQ69:AX69)=0,0,SUMPRODUCT(AQ69:AW69,TheModel!$G$33:$M$33)/SUM(AQ69:AW69)) -> 0 | CN69: =IF(SUM(AY69:BF69)=0,0,SUMPRODUCT(AY69:BE69,TheModel!$G$34:$M$34)/SUM(AY69:BE69)) -> 0 | CO69: =IF(SUM(BG69:BN69)=0,0,TheModel!$J$35) -> 0 | CP69: =IF(SUM(BO69:BV69)=0,0,TheModel!$J$35) -> 0 | CQ69: =IF(SUM(BW69:CD69)=0,0,TheModel!$J$35) -> 0 | CS69: {=SUM(C69:I69*CN_PER)/SUM(C69:I69)} -> #DIV/0! | CT69: {=SUM(AY69:BE69*CN_PER)/SUM(AY69:BE69)} -> #DIV/0! | CU69: {=SUM(S69:Y69*CN_TCP)/SUM(S69:Y69)} -> #DIV/0! | CV69: {=SUM(S69:Y69*CN_FOS)/SUM(S69:Y69)} -> #DIV/0!
CE70: =SUM(C70:BV70) -> 0 | CP70: =IF(SUM(BO70:BV70)=0,0,TheModel!$J$35) -> 0
